PDS_VERSION_ID = PDS3
/* FILE DATA ELEMENTS */
RECORD_TYPE = UNDEFINED
/* POINTERS TO DATA OBJECTS */
^IMAGE = ("H8600_0000_P14.TIF")
/* IDENTIFICATION DATA ELEMENTS */
DATA_SET_ID = "MEX-M-HRSC-4-REFDR-MAPPROJECT-EXT3-V4.0"
DATA_SET_NAME = "MARS EXPRESS HRSC MAP PROJECTED REFDR EXTENSION3 V4.0"
DETECTOR_ID = MEX_HRSC_P1
EVENT_TYPE = "MARS-REGIONAL-MAPPING-Vo-Te"
INSTRUMENT_HOST_ID = MEX
INSTRUMENT_HOST_NAME = "MARS EXPRESS"
INSTRUMENT_ID = HRSC
INSTRUMENT_NAME = "HIGH RESOLUTION STEREO CAMERA"
MISSION_NAME = "MARS EXPRESS"
MISSION_PHASE_NAME = ME_Phase_21
PROCESSING_LEVEL_ID = 4
PRODUCT_CREATION_TIME = 2023-02-03T21:13:30.000Z
PRODUCT_ID = "H8600_0000_P14.TIF"
RELEASE_ID = 0005
REVISION_ID = 0000
/* QUALITY DATA ELEMENTS */
DATA_QUALITY_ID = 1
DATA_QUALITY_DESC = "Data calculated based on original SPICE kernels"
/* TIME DATA ELEMENTS */
SPACECRAFT_CLOCK_START_COUNT = "1/0233241164.08256"
SPACECRAFT_CLOCK_STOP_COUNT = "1/0233241554.25507"
START_TIME = 2010-09-22T13:14:00.538Z
STOP_TIME = 2010-09-22T13:18:41.843Z
/* ORBITAL DATA ELEMENTS */
ASCENDING_NODE_LONGITUDE = 53.04
MAXIMUM_RESOLUTION = 0.0398
FOOTPRINT_POINT_LATITUDE = (-40.6408,-40.6459,-40.6479,-40.6478, -40.6462,-40.6461,-40.6653,-40.024, -39.5044,-38.9776,-38.58,-38.0456, -37.7747,-37.3684,-37.093,-36.8186, -36.4018,-36.1237,-35.8413,-35.5594, -35.2743,-34.9888,-34.7003,-34.4108, -34.1187,-33.8263,-33.5306,-33.2353, -32.9344,-32.633,-32.1807,-31.7212, -31.4101,-30.9422,-30.6283,-30.157, -29.8395,-29.518,-29.195,-28.7052, -28.3763,-28.0449,-27.7106,-27.3744, -27.0359,-26.6949,-26.3514,-26.005, -25.8307,-25.7586,-25.7495,-25.738, -25.72,-25.7067,-25.696,-25.6828, -25.682,-25.6824,-26.2074,-26.5534, -26.8968,-27.2381,-27.577,-27.9139, -28.4123,-28.9047,-29.2308,-29.5546, -30.0383,-30.5167,-30.8328,-31.1466, -31.6122,-31.922,-32.3807,-32.8361, -33.1352,-33.4332,-33.7315,-34.0278, -34.3224,-34.6128,-34.9036,-35.19, -35.6181,-35.901,-36.1821,-36.4613, -36.7387,-37.0105,-37.2902,-37.5665, -37.8407,-38.3796,-38.7814,-39.4425, -39.9635,-40.4797,-40.6081,-40.6408)
FOOTPRINT_POINT_LONGITUDE = (250.913,250.226,249.52,249.16,248.656, 248.633,248.59,248.62,248.643,248.665, 248.681,248.7,248.708,248.721,248.729, 248.737,248.748,248.755,248.761,248.768 ,248.773,248.779,248.784,248.789, 248.794,248.798,248.801,248.803,248.807 ,248.811,248.811,248.813,248.816, 248.817,248.818,248.812,248.808,248.806 ,248.803,248.799,248.795,248.79,248.786 ,248.781,248.775,248.768,248.762, 248.754,248.75,248.749,249.156,249.619, 250.331,250.837,251.199,251.642,251.669 ,251.679,251.659,251.646,251.632, 251.619,251.605,251.591,251.571,251.55, 251.537,251.523,251.501,251.48,251.466, 251.451,251.43,251.415,251.393,251.37, 251.356,251.341,251.325,251.31,251.294, 251.278,251.263,251.247,251.223,251.208 ,251.192,251.176,251.16,251.145,251.127 ,251.109,251.092,251.058,251.032, 250.989,250.953,250.917,250.908, 250.913)
ORBIT_NUMBER = 8600
ORBITAL_ECCENTRICITY = 0.578
ORBITAL_INCLINATION = 86.83
ORBITAL_SEMIMAJOR_AXIS = 8773.62
PERIAPSIS_ALTITUDE = 320.17
PERIAPSIS_ARGUMENT_ANGLE = 292.43
PERIAPSIS_TIME = 2010-09-22T13:06:35.000Z
SPACECRAFT_ORIENTATION = (0.0,1.0,0.0)
^MEX_ORIENTATION_DESC = "MEX_ORIENTATION_DESC.TXT"
SPACECRAFT_POINTING_MODE = ACROSSTRACK
^MEX_POINTING_DESC = "MEX_POINTING_DESC.TXT"
RIGHT_ASCENSION = -1e+32
DECLINATION = -1e+32
OFFSET_ANGLE = 1.374
SPACECRAFT_SOLAR_DISTANCE = 2.2919e+08
TARGET_NAME = MARS
/* CAMERA DATA ELEMENTS */
DETECTOR_TEMPERATURE = 17.351
FOCAL_PLANE_TEMPERATURE = 8.7872
INST_CMPRS_NAME = "DISCRETE COSINE TRANSFORMATION (DCT)"
INST_CMPRS_RATIO = 8.50335
INST_CMPRS_QUALITY = 0
INST_CMPRS_QUANTZ_TBL_ID = 0
INSTRUMENT_TEMPERATURE = 11.0301
LENS_TEMPERATURE = 8.5833
MACROPIXEL_SIZE = 2
MISSING_FRAMES = 0
PIXEL_SUBSAMPLING_FLAG = N
SIGNAL_CHAIN_ID = 3
/* RADIOMETRIC DATA ELEMENTS */
BANDWIDTH = 174.0
CENTER_FILTER_WAVELENGTH = 675.0
RADIANCE_OFFSET = 2.05097
RADIANCE_SCALING_FACTOR = 0.0267143
REFLECTANCE_SCALING_FACTOR = 0.000754773
MEX:REFLECTANCE_OFFSET = 0.0579471
/* IMAGE OBJECT DEFINITIONS */
OBJECT = IMAGE
  INTERCHANGE_FORMAT = BINARY
  LINES = 35546
  LINE_SAMPLES = 5776
  SAMPLE_TYPE = UNSIGNED_INTEGER
  SAMPLE_BITS = 8
  BANDS = 1
  BAND_STORAGE_TYPE = BAND_SEQUENTIAL
  MAXIMUM = 255
  MEAN = 102.855
  MINIMUM = 1
  STANDARD_DEVIATION = 41.2753
END_OBJECT = IMAGE
/* MAP OBJECT DEFINITIONS */
OBJECT = IMAGE_MAP_PROJECTION
  ^DATA_SET_MAP_PROJECTION_CATALOG= "DSMAP.CAT"
  A_AXIS_RADIUS = 3396.0
  B_AXIS_RADIUS = 3396.0
  C_AXIS_RADIUS = 3396.0
  CENTER_LATITUDE = 0.0
  CENTER_LONGITUDE = 250.0
  COORDINATE_SYSTEM_NAME = PLANETOGRAPHIC
  COORDINATE_SYSTEM_TYPE = "BODY-FIXED ROTATING"
  EASTERNMOST_LONGITUDE = 251.679
  FIRST_STANDARD_PARALLEL = "N/A"
  LINE_FIRST_PIXEL = 1
  LINE_LAST_PIXEL = 35546
  LINE_PROJECTION_OFFSET = -60983.25
  MAP_PROJECTION_ROTATION = 0.0
  MAP_PROJECTION_TYPE = SINUSOIDAL
  MAP_RESOLUTION = 2370.85521546667
  MAP_SCALE = 0.025
  MAXIMUM_LATITUDE = -25.682
  MINIMUM_LATITUDE = -40.6653
  POSITIVE_LONGITUDE_DIRECTION = EAST
  REFERENCE_LATITUDE = "N/A"
  REFERENCE_LONGITUDE = "N/A"
  SAMPLE_FIRST_PIXEL = 1
  SAMPLE_LAST_PIXEL = 5776
  SAMPLE_PROJECTION_OFFSET = 2437.75
  SECOND_STANDARD_PARALLEL = "N/A"
  WESTERNMOST_LONGITUDE = 248.59
END_OBJECT = IMAGE_MAP_PROJECTION
END
