PDS_VERSION_ID = PDS3
/* FILE DATA ELEMENTS */
RECORD_TYPE = UNDEFINED
/* POINTERS TO DATA OBJECTS */
^IMAGE = ("H8599_0000_IR4.TIF")
/* IDENTIFICATION DATA ELEMENTS */
DATA_SET_ID = "MEX-M-HRSC-4-REFDR-MAPPROJECT-EXT3-V4.0"
DATA_SET_NAME = "MARS EXPRESS HRSC MAP PROJECTED REFDR EXTENSION3 V4.0"
DETECTOR_ID = MEX_HRSC_IR
EVENT_TYPE = "MARS-REGIONAL-MAPPING-Te-Im-Fl"
INSTRUMENT_HOST_ID = MEX
INSTRUMENT_HOST_NAME = "MARS EXPRESS"
INSTRUMENT_ID = HRSC
INSTRUMENT_NAME = "HIGH RESOLUTION STEREO CAMERA"
MISSION_NAME = "MARS EXPRESS"
MISSION_PHASE_NAME = ME_Phase_21
PROCESSING_LEVEL_ID = 4
PRODUCT_CREATION_TIME = 2023-02-03T21:13:30.000Z
PRODUCT_ID = "H8599_0000_IR4.TIF"
RELEASE_ID = 0005
REVISION_ID = 0000
/* QUALITY DATA ELEMENTS */
DATA_QUALITY_ID = 1
DATA_QUALITY_DESC = "Data calculated based on original SPICE kernels"
/* TIME DATA ELEMENTS */
SPACECRAFT_CLOCK_START_COUNT = "1/0233215874.09055"
SPACECRAFT_CLOCK_STOP_COUNT = "1/0233216278.20760"
START_TIME = 2010-09-22T06:12:25.982Z
STOP_TIME = 2010-09-22T06:17:44.842Z
/* ORBITAL DATA ELEMENTS */
ASCENDING_NODE_LONGITUDE = 53.06
MAXIMUM_RESOLUTION = 0.0695
FOOTPRINT_POINT_LATITUDE = (-47.5581,-47.5653,-47.5699,-47.5715, -47.5715,-47.6154,-46.7146,-45.8019, -45.1873,-44.8752,-44.2499,-43.9331, -43.6157,-43.299,-42.977,-42.4924, -42.0002,-41.6728,-41.3386,-41.0055, -40.6724,-40.3341,-39.993,-39.6507, -39.1325,-38.7856,-38.4339,-37.9045, -37.5484,-37.1887,-36.6432,-36.2784, -35.9094,-35.5378,-35.1625,-34.7745, -34.3954,-34.012,-33.6268,-33.2372, -32.8457,-32.4503,-32.0512,-31.6489, -31.2417,-30.8322,-30.4214,-30.2138, -30.1073,-30.0896,-30.0762,-30.0618, -30.0388,-30.0118,-30.0108,-30.0119, -30.6355,-31.0471,-31.4584,-31.8636, -32.2665,-32.665,-33.0601,-33.4508, -33.8422,-34.2265,-34.6062,-34.9972, -35.3749,-35.9361,-36.4904,-36.8566, -37.2198,-37.7575,-38.1161,-38.4715, -38.8236,-39.1718,-39.5191,-39.863, -40.2056,-40.5471,-40.8808,-41.2215, -41.7202,-42.208,-42.5348,-42.8595, -43.3458,-43.6645,-43.9848,-44.4566, -44.7708,-45.0856,-45.7026,-46.1647, -46.7743,-47.374,-47.523,-47.5581)
FOOTPRINT_POINT_LONGITUDE = (352.176,351.533,350.866,349.951, 349.928,349.826,349.928,350.02,350.076, 350.105,350.157,350.182,350.206,350.229 ,350.25,350.285,350.319,350.34,350.362, 350.383,350.397,350.417,350.437,350.453 ,350.479,350.494,350.509,350.53,350.543 ,350.555,350.575,350.586,350.595, 350.606,350.616,350.625,350.632,350.639 ,350.643,350.649,350.653,350.657,350.66 ,350.662,350.666,350.667,350.666, 350.665,350.663,351.15,351.575,351.994, 352.639,353.42,353.444,353.453,353.422, 353.401,353.379,353.358,353.336,353.314 ,353.292,353.271,353.248,353.226, 353.205,353.181,353.158,353.122,353.087 ,353.063,353.039,353.003,352.978, 352.952,352.927,352.902,352.877,352.851 ,352.825,352.797,352.773,352.743, 352.703,352.665,352.638,352.609,352.566 ,352.537,352.507,352.464,352.434, 352.403,352.342,352.294,352.228,352.164 ,352.148,352.176)
ORBIT_NUMBER = 8599
ORBITAL_ECCENTRICITY = 0.578
ORBITAL_INCLINATION = 86.83
ORBITAL_SEMIMAJOR_AXIS = 8773.79
PERIAPSIS_ALTITUDE = 320.84
PERIAPSIS_ARGUMENT_ANGLE = 292.6
PERIAPSIS_TIME = 2010-09-22T06:06:53.000Z
SPACECRAFT_ORIENTATION = (0.0,1.0,0.0)
^MEX_ORIENTATION_DESC = "MEX_ORIENTATION_DESC.TXT"
SPACECRAFT_POINTING_MODE = ACROSSTRACK
^MEX_POINTING_DESC = "MEX_POINTING_DESC.TXT"
RIGHT_ASCENSION = -1e+32
DECLINATION = -1e+32
OFFSET_ANGLE = 1.7
SPACECRAFT_SOLAR_DISTANCE = 2.29247e+08
TARGET_NAME = MARS
/* CAMERA DATA ELEMENTS */
DETECTOR_TEMPERATURE = 16.9432
FOCAL_PLANE_TEMPERATURE = 7.9716
INST_CMPRS_NAME = "DISCRETE COSINE TRANSFORMATION (DCT)"
INST_CMPRS_RATIO = 11.5137
INST_CMPRS_QUALITY = 0
INST_CMPRS_QUANTZ_TBL_ID = 0
INSTRUMENT_TEMPERATURE = 10.8262
LENS_TEMPERATURE = 8.3794
MACROPIXEL_SIZE = 4
MISSING_FRAMES = 1
PIXEL_SUBSAMPLING_FLAG = N
SIGNAL_CHAIN_ID = 2
/* RADIOMETRIC DATA ELEMENTS */
BANDWIDTH = 81.0
CENTER_FILTER_WAVELENGTH = 955.5
RADIANCE_OFFSET = 0.559161
RADIANCE_SCALING_FACTOR = 0.00370338
REFLECTANCE_SCALING_FACTOR = 0.000419884
MEX:REFLECTANCE_OFFSET = 0.0633969
/* IMAGE OBJECT DEFINITIONS */
OBJECT = IMAGE
  INTERCHANGE_FORMAT = BINARY
  LINES = 20909
  LINE_SAMPLES = 3065
  SAMPLE_TYPE = UNSIGNED_INTEGER
  SAMPLE_BITS = 8
  BANDS = 1
  BAND_STORAGE_TYPE = BAND_SEQUENTIAL
  MAXIMUM = 255
  MEAN = 106.911
  MINIMUM = 1
  STANDARD_DEVIATION = 27.7161
END_OBJECT = IMAGE
/* MAP OBJECT DEFINITIONS */
OBJECT = IMAGE_MAP_PROJECTION
  ^DATA_SET_MAP_PROJECTION_CATALOG= "DSMAP.CAT"
  A_AXIS_RADIUS = 3396.0
  B_AXIS_RADIUS = 3396.0
  C_AXIS_RADIUS = 3396.0
  CENTER_LATITUDE = 0.0
  CENTER_LONGITUDE = 352.0
  COORDINATE_SYSTEM_NAME = PLANETOGRAPHIC
  COORDINATE_SYSTEM_TYPE = "BODY-FIXED ROTATING"
  EASTERNMOST_LONGITUDE = 353.453
  FIRST_STANDARD_PARALLEL = "N/A"
  LINE_FIRST_PIXEL = 1
  LINE_LAST_PIXEL = 20909
  LINE_PROJECTION_OFFSET = -35605.125
  MAP_PROJECTION_ROTATION = 0.0
  MAP_PROJECTION_TYPE = SINUSOIDAL
  MAP_RESOLUTION = 1185.42760773333
  MAP_SCALE = 0.05
  MAXIMUM_LATITUDE = -30.0108
  MINIMUM_LATITUDE = -47.6154
  POSITIVE_LONGITUDE_DIRECTION = EAST
  REFERENCE_LATITUDE = "N/A"
  REFERENCE_LONGITUDE = "N/A"
  SAMPLE_FIRST_PIXEL = 1
  SAMPLE_LAST_PIXEL = 3065
  SAMPLE_PROJECTION_OFFSET = 1696.875
  SECOND_STANDARD_PARALLEL = "N/A"
  WESTERNMOST_LONGITUDE = 349.826
END_OBJECT = IMAGE_MAP_PROJECTION
END
