PDS_VERSION_ID = PDS3
/* FILE DATA ELEMENTS */
RECORD_TYPE = UNDEFINED
/* POINTERS TO DATA OBJECTS */
^IMAGE = ("H8599_0000_GR4.TIF")
/* IDENTIFICATION DATA ELEMENTS */
DATA_SET_ID = "MEX-M-HRSC-4-REFDR-MAPPROJECT-EXT3-V4.0"
DATA_SET_NAME = "MARS EXPRESS HRSC MAP PROJECTED REFDR EXTENSION3 V4.0"
DETECTOR_ID = MEX_HRSC_GREEN
EVENT_TYPE = "MARS-REGIONAL-MAPPING-Te-Im-Fl"
INSTRUMENT_HOST_ID = MEX
INSTRUMENT_HOST_NAME = "MARS EXPRESS"
INSTRUMENT_ID = HRSC
INSTRUMENT_NAME = "HIGH RESOLUTION STEREO CAMERA"
MISSION_NAME = "MARS EXPRESS"
MISSION_PHASE_NAME = ME_Phase_21
PROCESSING_LEVEL_ID = 4
PRODUCT_CREATION_TIME = 2023-02-03T21:13:30.000Z
PRODUCT_ID = "H8599_0000_GR4.TIF"
RELEASE_ID = 0005
REVISION_ID = 0000
/* QUALITY DATA ELEMENTS */
DATA_QUALITY_ID = 1
DATA_QUALITY_DESC = "Data calculated based on original SPICE kernels"
/* TIME DATA ELEMENTS */
SPACECRAFT_CLOCK_START_COUNT = "1/0233215874.09055"
SPACECRAFT_CLOCK_STOP_COUNT = "1/0233216278.20760"
START_TIME = 2010-09-22T06:11:59.542Z
STOP_TIME = 2010-09-22T06:16:57.079Z
/* ORBITAL DATA ELEMENTS */
ASCENDING_NODE_LONGITUDE = 53.06
MAXIMUM_RESOLUTION = 0.0642
FOOTPRINT_POINT_LATITUDE = (-47.6484,-47.6286,-47.6046,-47.5661, -47.5651,-47.5678,-47.1173,-46.2122, -45.4478,-44.9808,-44.6687,-44.3573, -44.04,-43.7218,-43.4043,-43.0824, -42.7582,-42.4347,-42.1064,-41.7765, -41.4471,-41.1115,-40.6085,-40.0971, -39.7562,-39.4095,-39.0626,-38.5359, -38.1838,-37.8261,-37.4682,-37.1055, -36.7419,-36.3737,-36.005,-35.6305, -35.0655,-34.6857,-34.3011,-33.915, -33.5246,-33.131,-32.5349,-32.1341, -31.728,-31.3188,-30.9063,-30.2803, -30.0698,-30.0444,-30.0522,-30.0597, -30.0624,-30.064,-30.064,-30.0654, -30.697,-31.1139,-31.5271,-31.9353, -32.3414,-32.7442,-33.1415,-33.733, -34.1238,-34.5099,-35.0842,-35.4641, -35.8403,-36.3987,-36.7685,-37.1334, -37.4976,-37.8569,-38.2166,-38.5703, -38.9251,-39.4474,-39.7956,-40.3089, -40.6516,-41.1562,-41.4939,-41.824, -42.1551,-42.4839,-42.8086,-43.134, -43.4577,-43.7763,-44.0957,-44.4143, -44.7269,-45.04,-45.5091,-46.1227, -47.0347,-47.4863,-47.6369,-47.6484)
FOOTPRINT_POINT_LONGITUDE = (352.134,351.518,350.879,350.002, 349.981,349.882,349.938,350.034,350.109 ,350.151,350.18,350.207,350.233,350.259 ,350.283,350.305,350.331,350.354, 350.377,350.399,350.422,350.444,350.473 ,350.502,350.52,350.539,350.557,350.583 ,350.597,350.611,350.626,350.64,350.655 ,350.667,350.678,350.691,350.708, 350.718,350.727,350.736,350.741,350.75, 350.758,350.763,350.767,350.772,350.777 ,350.779,350.78,350.781,351.326,352.079 ,352.531,353.323,353.346,353.354, 353.325,353.307,353.287,353.267,353.247 ,353.227,353.207,353.176,353.155, 353.136,353.104,353.081,353.059,353.026 ,353.003,352.981,352.958,352.934,352.91 ,352.886,352.861,352.825,352.801, 352.763,352.737,352.699,352.671,352.645 ,352.619,352.595,352.568,352.54,352.511 ,352.483,352.454,352.426,352.397, 352.367,352.322,352.261,352.166,352.117 ,352.101,352.134)
ORBIT_NUMBER = 8599
ORBITAL_ECCENTRICITY = 0.578
ORBITAL_INCLINATION = 86.83
ORBITAL_SEMIMAJOR_AXIS = 8773.79
PERIAPSIS_ALTITUDE = 320.84
PERIAPSIS_ARGUMENT_ANGLE = 292.6
PERIAPSIS_TIME = 2010-09-22T06:06:53.000Z
SPACECRAFT_ORIENTATION = (0.0,1.0,0.0)
^MEX_ORIENTATION_DESC = "MEX_ORIENTATION_DESC.TXT"
SPACECRAFT_POINTING_MODE = ACROSSTRACK
^MEX_POINTING_DESC = "MEX_POINTING_DESC.TXT"
RIGHT_ASCENSION = -1e+32
DECLINATION = -1e+32
OFFSET_ANGLE = 1.7
SPACECRAFT_SOLAR_DISTANCE = 2.29247e+08
TARGET_NAME = MARS
/* CAMERA DATA ELEMENTS */
DETECTOR_TEMPERATURE = 17.7588
FOCAL_PLANE_TEMPERATURE = 7.9716
INST_CMPRS_NAME = "DISCRETE COSINE TRANSFORMATION (DCT)"
INST_CMPRS_RATIO = 11.982
INST_CMPRS_QUALITY = 0
INST_CMPRS_QUANTZ_TBL_ID = 0
INSTRUMENT_TEMPERATURE = 10.8262
LENS_TEMPERATURE = 8.3794
MACROPIXEL_SIZE = 4
MISSING_FRAMES = 0
PIXEL_SUBSAMPLING_FLAG = N
SIGNAL_CHAIN_ID = 2
/* RADIOMETRIC DATA ELEMENTS */
BANDWIDTH = 88.0
CENTER_FILTER_WAVELENGTH = 538.0
RADIANCE_OFFSET = 0.923719
RADIANCE_SCALING_FACTOR = 0.0048874
REFLECTANCE_SCALING_FACTOR = 0.000221142
MEX:REFLECTANCE_OFFSET = 0.0417958
/* IMAGE OBJECT DEFINITIONS */
OBJECT = IMAGE
  INTERCHANGE_FORMAT = BINARY
  LINES = 20909
  LINE_SAMPLES = 3065
  SAMPLE_TYPE = UNSIGNED_INTEGER
  SAMPLE_BITS = 8
  BANDS = 1
  BAND_STORAGE_TYPE = BAND_SEQUENTIAL
  MAXIMUM = 255
  MEAN = 106.46
  MINIMUM = 1
  STANDARD_DEVIATION = 27.7901
END_OBJECT = IMAGE
/* MAP OBJECT DEFINITIONS */
OBJECT = IMAGE_MAP_PROJECTION
  ^DATA_SET_MAP_PROJECTION_CATALOG= "DSMAP.CAT"
  A_AXIS_RADIUS = 3396.0
  B_AXIS_RADIUS = 3396.0
  C_AXIS_RADIUS = 3396.0
  CENTER_LATITUDE = 0.0
  CENTER_LONGITUDE = 352.0
  COORDINATE_SYSTEM_NAME = PLANETOGRAPHIC
  COORDINATE_SYSTEM_TYPE = "BODY-FIXED ROTATING"
  EASTERNMOST_LONGITUDE = 353.354
  FIRST_STANDARD_PARALLEL = "N/A"
  LINE_FIRST_PIXEL = 1
  LINE_LAST_PIXEL = 20909
  LINE_PROJECTION_OFFSET = -35605.125
  MAP_PROJECTION_ROTATION = 0.0
  MAP_PROJECTION_TYPE = SINUSOIDAL
  MAP_RESOLUTION = 1185.42760773333
  MAP_SCALE = 0.05
  MAXIMUM_LATITUDE = -30.0444
  MINIMUM_LATITUDE = -47.6484
  POSITIVE_LONGITUDE_DIRECTION = EAST
  REFERENCE_LATITUDE = "N/A"
  REFERENCE_LONGITUDE = "N/A"
  SAMPLE_FIRST_PIXEL = 1
  SAMPLE_LAST_PIXEL = 3065
  SAMPLE_PROJECTION_OFFSET = 1696.875
  SECOND_STANDARD_PARALLEL = "N/A"
  WESTERNMOST_LONGITUDE = 349.882
END_OBJECT = IMAGE_MAP_PROJECTION
END
