PDS_VERSION_ID = PDS3
/* FILE DATA ELEMENTS */
RECORD_TYPE = UNDEFINED
/* POINTERS TO DATA OBJECTS */
^IMAGE = ("H8593_0000_P24.TIF")
/* IDENTIFICATION DATA ELEMENTS */
DATA_SET_ID = "MEX-M-HRSC-4-REFDR-MAPPROJECT-EXT3-V4.0"
DATA_SET_NAME = "MARS EXPRESS HRSC MAP PROJECTED REFDR EXTENSION3 V4.0"
DETECTOR_ID = MEX_HRSC_P2
EVENT_TYPE = "MARS-REGIONAL-MAPPING-Vo"
INSTRUMENT_HOST_ID = MEX
INSTRUMENT_HOST_NAME = "MARS EXPRESS"
INSTRUMENT_ID = HRSC
INSTRUMENT_NAME = "HIGH RESOLUTION STEREO CAMERA"
MISSION_NAME = "MARS EXPRESS"
MISSION_PHASE_NAME = ME_Phase_21
PROCESSING_LEVEL_ID = 4
PRODUCT_CREATION_TIME = 2023-02-03T21:13:30.000Z
PRODUCT_ID = "H8593_0000_P24.TIF"
RELEASE_ID = 0005
REVISION_ID = 0000
/* QUALITY DATA ELEMENTS */
DATA_QUALITY_ID = 1
DATA_QUALITY_DESC = "Data calculated based on original SPICE kernels"
/* TIME DATA ELEMENTS */
SPACECRAFT_CLOCK_START_COUNT = "1/0233064872.08257"
SPACECRAFT_CLOCK_STOP_COUNT = "1/0233065277.21807"
START_TIME = 2010-09-20T12:14:48.099Z
STOP_TIME = 2010-09-20T12:19:09.841Z
/* ORBITAL DATA ELEMENTS */
ASCENDING_NODE_LONGITUDE = 53.17
MAXIMUM_RESOLUTION = 0.0348
FOOTPRINT_POINT_LATITUDE = (-41.6528,-41.616,-41.5739,-41.5165, -41.5149,-41.4878,-41.0731,-40.521, -39.9586,-39.3923,-39.1026,-38.8119, -38.5229,-38.229,-37.9345,-37.6401, -37.3426,-37.0431,-36.7431,-36.4407, -36.1345,-35.6722,-35.3595,-35.0482, -34.5736,-34.2564,-33.7737,-33.451, -32.9589,-32.6309,-32.297,-31.9634, -31.6248,-31.1127,-30.7692,-30.2477, -29.8978,-29.5428,-29.007,-28.6467, -28.2821,-27.7312,-27.3604,-26.9892, -26.6099,-26.2264,-25.8399,-25.4524, -25.2565,-25.2487,-25.2798,-25.2956, -25.3088,-25.324,-25.3393,-25.3399, -25.3408,-25.9265,-26.3134,-26.6961, -27.075,-27.4518,-27.8242,-28.3765, -28.9264,-29.2865,-29.6431,-29.9989, -30.35,-30.8753,-31.219,-31.7343, -32.0714,-32.404,-32.7414,-33.0706, -33.5644,-33.8884,-34.3718,-34.6898, -35.1654,-35.4777,-35.9461,-36.2532, -36.7134,-37.0159,-37.3189,-37.7758, -38.0627,-38.3581,-38.651,-38.9397, -39.2287,-39.6614,-39.9446,-40.2278, -40.6522,-41.4855,-41.6245,-41.6528)
FOOTPRINT_POINT_LONGITUDE = (247.007,246.401,245.78,245.021,245.001 ,244.958,244.983,245.013,245.044, 245.069,245.081,245.09,245.101,245.113, 245.124,245.134,245.145,245.156,245.166 ,245.177,245.185,245.196,245.203,245.21 ,245.22,245.227,245.235,245.241,245.248 ,245.252,245.256,245.26,245.263,245.265 ,245.268,245.27,245.27,245.27,245.27, 245.269,245.268,245.265,245.263,245.264 ,245.258,245.252,245.246,245.24,245.237 ,245.237,245.897,246.283,246.641, 247.091,247.675,247.698,247.707,247.691 ,247.68,247.67,247.659,247.648,247.636, 247.619,247.602,247.59,247.578,247.566, 247.554,247.536,247.523,247.504,247.491 ,247.477,247.464,247.451,247.43,247.417 ,247.395,247.381,247.36,247.345,247.323 ,247.308,247.285,247.27,247.255,247.233 ,247.215,247.199,247.182,247.165, 247.149,247.123,247.106,247.089,247.063 ,247.009,247.0,247.007)
ORBIT_NUMBER = 8593
ORBITAL_ECCENTRICITY = 0.578
ORBITAL_INCLINATION = 86.83
ORBITAL_SEMIMAJOR_AXIS = 8775.04
PERIAPSIS_ALTITUDE = 320.09
PERIAPSIS_ARGUMENT_ANGLE = 293.61
PERIAPSIS_TIME = 2010-09-20T12:08:54.000Z
SPACECRAFT_ORIENTATION = (0.0,1.0,0.0)
^MEX_ORIENTATION_DESC = "MEX_ORIENTATION_DESC.TXT"
SPACECRAFT_POINTING_MODE = ACROSSTRACK
^MEX_POINTING_DESC = "MEX_POINTING_DESC.TXT"
RIGHT_ASCENSION = -1e+32
DECLINATION = -1e+32
OFFSET_ANGLE = 1.2
SPACECRAFT_SOLAR_DISTANCE = 2.29584e+08
TARGET_NAME = MARS
/* CAMERA DATA ELEMENTS */
DETECTOR_TEMPERATURE = 18.5744
FOCAL_PLANE_TEMPERATURE = 8.1755
INST_CMPRS_NAME = "DISCRETE COSINE TRANSFORMATION (DCT)"
INST_CMPRS_RATIO = 10.5694
INST_CMPRS_QUALITY = 0
INST_CMPRS_QUANTZ_TBL_ID = 0
INSTRUMENT_TEMPERATURE = 11.0301
LENS_TEMPERATURE = 8.5833
MACROPIXEL_SIZE = 2
MISSING_FRAMES = 0
PIXEL_SUBSAMPLING_FLAG = N
SIGNAL_CHAIN_ID = 3
/* RADIOMETRIC DATA ELEMENTS */
BANDWIDTH = 177.0
CENTER_FILTER_WAVELENGTH = 676.5
RADIANCE_OFFSET = 1.91847
RADIANCE_SCALING_FACTOR = 0.025705
REFLECTANCE_SCALING_FACTOR = 0.000718378
MEX:REFLECTANCE_OFFSET = 0.0536155
/* IMAGE OBJECT DEFINITIONS */
OBJECT = IMAGE
  INTERCHANGE_FORMAT = BINARY
  LINES = 38665
  LINE_SAMPLES = 5733
  SAMPLE_TYPE = UNSIGNED_INTEGER
  SAMPLE_BITS = 8
  BANDS = 1
  BAND_STORAGE_TYPE = BAND_SEQUENTIAL
  MAXIMUM = 255
  MEAN = 96.4177
  MINIMUM = 1
  STANDARD_DEVIATION = 35.9303
END_OBJECT = IMAGE
/* MAP OBJECT DEFINITIONS */
OBJECT = IMAGE_MAP_PROJECTION
  ^DATA_SET_MAP_PROJECTION_CATALOG= "DSMAP.CAT"
  A_AXIS_RADIUS = 3396.0
  B_AXIS_RADIUS = 3396.0
  C_AXIS_RADIUS = 3396.0
  CENTER_LATITUDE = 0.0
  CENTER_LONGITUDE = 246.0
  COORDINATE_SYSTEM_NAME = PLANETOGRAPHIC
  COORDINATE_SYSTEM_TYPE = "BODY-FIXED ROTATING"
  EASTERNMOST_LONGITUDE = 247.707
  FIRST_STANDARD_PARALLEL = "N/A"
  LINE_FIRST_PIXEL = 1
  LINE_LAST_PIXEL = 38665
  LINE_PROJECTION_OFFSET = -59939.75
  MAP_PROJECTION_ROTATION = 0.0
  MAP_PROJECTION_TYPE = SINUSOIDAL
  MAP_RESOLUTION = 2370.85521546667
  MAP_SCALE = 0.025
  MAXIMUM_LATITUDE = -25.2487
  MINIMUM_LATITUDE = -41.6528
  POSITIVE_LONGITUDE_DIRECTION = EAST
  REFERENCE_LATITUDE = "N/A"
  REFERENCE_LONGITUDE = "N/A"
  SAMPLE_FIRST_PIXEL = 1
  SAMPLE_LAST_PIXEL = 5733
  SAMPLE_PROJECTION_OFFSET = 1904.25
  SECOND_STANDARD_PARALLEL = "N/A"
  WESTERNMOST_LONGITUDE = 244.958
END_OBJECT = IMAGE_MAP_PROJECTION
END
