PDS_VERSION_ID = PDS3
/* FILE DATA ELEMENTS */
RECORD_TYPE = UNDEFINED
/* POINTERS TO DATA OBJECTS */
^IMAGE = ("H8593_0000_P14.TIF")
/* IDENTIFICATION DATA ELEMENTS */
DATA_SET_ID = "MEX-M-HRSC-4-REFDR-MAPPROJECT-EXT3-V4.0"
DATA_SET_NAME = "MARS EXPRESS HRSC MAP PROJECTED REFDR EXTENSION3 V4.0"
DETECTOR_ID = MEX_HRSC_P1
EVENT_TYPE = "MARS-REGIONAL-MAPPING-Vo"
INSTRUMENT_HOST_ID = MEX
INSTRUMENT_HOST_NAME = "MARS EXPRESS"
INSTRUMENT_ID = HRSC
INSTRUMENT_NAME = "HIGH RESOLUTION STEREO CAMERA"
MISSION_NAME = "MARS EXPRESS"
MISSION_PHASE_NAME = ME_Phase_21
PROCESSING_LEVEL_ID = 4
PRODUCT_CREATION_TIME = 2023-02-03T21:13:30.000Z
PRODUCT_ID = "H8593_0000_P14.TIF"
RELEASE_ID = 0005
REVISION_ID = 0000
/* QUALITY DATA ELEMENTS */
DATA_QUALITY_ID = 1
DATA_QUALITY_DESC = "Data calculated based on original SPICE kernels"
/* TIME DATA ELEMENTS */
SPACECRAFT_CLOCK_START_COUNT = "1/0233064872.08257"
SPACECRAFT_CLOCK_STOP_COUNT = "1/0233065277.21807"
START_TIME = 2010-09-20T12:15:44.018Z
STOP_TIME = 2010-09-20T12:20:45.904Z
/* ORBITAL DATA ELEMENTS */
ASCENDING_NODE_LONGITUDE = 53.17
MAXIMUM_RESOLUTION = 0.0377
FOOTPRINT_POINT_LATITUDE = (-41.5174,-41.5203,-41.5202,-41.5162, -41.516,-41.5371,-40.9784,-40.4138, -39.9851,-39.4097,-38.8313,-38.0948, -37.6455,-37.3448,-37.0401,-36.7366, -36.4278,-36.1202,-35.8091,-35.4985, -35.1827,-34.8672,-34.5474,-34.0651, -33.7408,-33.4137,-33.0857,-32.7536, -32.4206,-32.0843,-31.7456,-31.4088, -30.8842,-30.5365,-30.1867,-29.8346, -29.4796,-28.9416,-28.3965,-28.0305, -27.6602,-27.2922,-26.9246,-26.5599, -26.1993,-25.8389,-25.4794,-25.3005, -25.2991,-25.2834,-25.2728,-25.2624, -25.2481,-25.2276,-25.2269,-25.2273, -25.588,-25.9503,-26.3143,-26.6803, -27.0478,-27.417,-27.7879,-28.3413, -28.7071,-29.0694,-29.4305,-29.7873, -30.1416,-30.4933,-30.8422,-31.3666, -31.7055,-32.2166,-32.7198,-33.0535, -33.3829,-33.7114,-34.0368,-34.5212, -34.843,-35.1602,-35.4775,-35.7903, -36.1031,-36.4116,-36.8743,-37.1768, -37.4767,-37.7736,-38.0813,-38.5264, -38.8237,-39.4065,-39.9836,-40.414, -40.9789,-41.399,-41.5377,-41.5174)
FOOTPRINT_POINT_LONGITUDE = (247.098,246.441,245.768,244.946, 244.924,244.879,244.91,244.939,244.958, 244.982,245.0,245.024,245.038,245.048, 245.057,245.065,245.074,245.081,245.087 ,245.092,245.097,245.102,245.107, 245.114,245.117,245.12,245.123,245.125, 245.127,245.129,245.13,245.126,245.129, 245.128,245.126,245.124,245.122,245.117 ,245.111,245.106,245.101,245.095,245.09 ,245.084,245.074,245.065,245.057, 245.053,245.053,245.756,246.201,246.614 ,247.133,247.862,247.889,247.898, 247.885,247.872,247.859,247.846,247.832 ,247.818,247.804,247.782,247.768, 247.753,247.739,247.724,247.709,247.694 ,247.679,247.657,247.642,247.618, 247.595,247.58,247.564,247.548,247.532, 247.508,247.492,247.476,247.459,247.442 ,247.426,247.409,247.383,247.366,247.35 ,247.333,247.314,247.287,247.269, 247.233,247.195,247.167,247.129,247.1, 247.09,247.098)
ORBIT_NUMBER = 8593
ORBITAL_ECCENTRICITY = 0.578
ORBITAL_INCLINATION = 86.83
ORBITAL_SEMIMAJOR_AXIS = 8775.04
PERIAPSIS_ALTITUDE = 320.09
PERIAPSIS_ARGUMENT_ANGLE = 293.61
PERIAPSIS_TIME = 2010-09-20T12:08:54.000Z
SPACECRAFT_ORIENTATION = (0.0,1.0,0.0)
^MEX_ORIENTATION_DESC = "MEX_ORIENTATION_DESC.TXT"
SPACECRAFT_POINTING_MODE = ACROSSTRACK
^MEX_POINTING_DESC = "MEX_POINTING_DESC.TXT"
RIGHT_ASCENSION = -1e+32
DECLINATION = -1e+32
OFFSET_ANGLE = 1.2
SPACECRAFT_SOLAR_DISTANCE = 2.29584e+08
TARGET_NAME = MARS
/* CAMERA DATA ELEMENTS */
DETECTOR_TEMPERATURE = 17.351
FOCAL_PLANE_TEMPERATURE = 8.1755
INST_CMPRS_NAME = "DISCRETE COSINE TRANSFORMATION (DCT)"
INST_CMPRS_RATIO = 14.2023
INST_CMPRS_QUALITY = 0
INST_CMPRS_QUANTZ_TBL_ID = 0
INSTRUMENT_TEMPERATURE = 11.0301
LENS_TEMPERATURE = 8.5833
MACROPIXEL_SIZE = 2
MISSING_FRAMES = 1
PIXEL_SUBSAMPLING_FLAG = N
SIGNAL_CHAIN_ID = 3
/* RADIOMETRIC DATA ELEMENTS */
BANDWIDTH = 174.0
CENTER_FILTER_WAVELENGTH = 675.0
RADIANCE_OFFSET = 2.06415
RADIANCE_SCALING_FACTOR = 0.0266274
REFLECTANCE_SCALING_FACTOR = 0.000754907
MEX:REFLECTANCE_OFFSET = 0.0585204
/* IMAGE OBJECT DEFINITIONS */
OBJECT = IMAGE
  INTERCHANGE_FORMAT = BINARY
  LINES = 38665
  LINE_SAMPLES = 5733
  SAMPLE_TYPE = UNSIGNED_INTEGER
  SAMPLE_BITS = 8
  BANDS = 1
  BAND_STORAGE_TYPE = BAND_SEQUENTIAL
  MAXIMUM = 255
  MEAN = 102.831
  MINIMUM = 1
  STANDARD_DEVIATION = 39.9229
END_OBJECT = IMAGE
/* MAP OBJECT DEFINITIONS */
OBJECT = IMAGE_MAP_PROJECTION
  ^DATA_SET_MAP_PROJECTION_CATALOG= "DSMAP.CAT"
  A_AXIS_RADIUS = 3396.0
  B_AXIS_RADIUS = 3396.0
  C_AXIS_RADIUS = 3396.0
  CENTER_LATITUDE = 0.0
  CENTER_LONGITUDE = 246.0
  COORDINATE_SYSTEM_NAME = PLANETOGRAPHIC
  COORDINATE_SYSTEM_TYPE = "BODY-FIXED ROTATING"
  EASTERNMOST_LONGITUDE = 247.898
  FIRST_STANDARD_PARALLEL = "N/A"
  LINE_FIRST_PIXEL = 1
  LINE_LAST_PIXEL = 38665
  LINE_PROJECTION_OFFSET = -59939.75
  MAP_PROJECTION_ROTATION = 0.0
  MAP_PROJECTION_TYPE = SINUSOIDAL
  MAP_RESOLUTION = 2370.85521546667
  MAP_SCALE = 0.025
  MAXIMUM_LATITUDE = -25.2269
  MINIMUM_LATITUDE = -41.5377
  POSITIVE_LONGITUDE_DIRECTION = EAST
  REFERENCE_LATITUDE = "N/A"
  REFERENCE_LONGITUDE = "N/A"
  SAMPLE_FIRST_PIXEL = 1
  SAMPLE_LAST_PIXEL = 5733
  SAMPLE_PROJECTION_OFFSET = 1904.25
  SECOND_STANDARD_PARALLEL = "N/A"
  WESTERNMOST_LONGITUDE = 244.879
END_OBJECT = IMAGE_MAP_PROJECTION
END
