PDS_VERSION_ID = PDS3
/* FILE DATA ELEMENTS */
RECORD_TYPE = UNDEFINED
/* POINTERS TO DATA OBJECTS */
^IMAGE = ("H8588_0000_S24.TIF")
/* IDENTIFICATION DATA ELEMENTS */
DATA_SET_ID = "MEX-M-HRSC-4-REFDR-MAPPROJECT-EXT3-V4.0"
DATA_SET_NAME = "MARS EXPRESS HRSC MAP PROJECTED REFDR EXTENSION3 V4.0"
DETECTOR_ID = MEX_HRSC_S2
EVENT_TYPE = "MARS-REGIONAL-MAPPING-Im-Fl-Pf"
INSTRUMENT_HOST_ID = MEX
INSTRUMENT_HOST_NAME = "MARS EXPRESS"
INSTRUMENT_ID = HRSC
INSTRUMENT_NAME = "HIGH RESOLUTION STEREO CAMERA"
MISSION_NAME = "MARS EXPRESS"
MISSION_PHASE_NAME = ME_Phase_21
PROCESSING_LEVEL_ID = 4
PRODUCT_CREATION_TIME = 2023-02-03T21:13:30.000Z
PRODUCT_ID = "H8588_0000_S24.TIF"
RELEASE_ID = 0005
REVISION_ID = 0000
/* QUALITY DATA ELEMENTS */
DATA_QUALITY_ID = 1
DATA_QUALITY_DESC = "Data calculated based on original SPICE kernels"
/* TIME DATA ELEMENTS */
SPACECRAFT_CLOCK_START_COUNT = "1/0232938804.08225"
SPACECRAFT_CLOCK_STOP_COUNT = "1/0232939048.54557"
START_TIME = 2010-09-19T01:13:26.752Z
STOP_TIME = 2010-09-19T01:16:05.996Z
/* ORBITAL DATA ELEMENTS */
ASCENDING_NODE_LONGITUDE = 53.27
MAXIMUM_RESOLUTION = 0.0292
FOOTPRINT_POINT_LATITUDE = (-52.071,-52.052,-52.0299,-51.9968, -51.9958,-51.9236,-51.5427,-51.2555, -50.9685,-50.7771,-50.586,-50.3951, -50.1085,-49.9176,-49.726,-49.5351, -49.2495,-48.8592,-48.4859,-48.2936, -47.9119,-47.7212,-47.5297,-47.2008, -46.9741,-46.7452,-46.5179,-46.29, -45.9487,-45.7212,-45.4949,-45.2673, -45.0404,-44.7006,-44.4746,-44.1361, -43.9112,-43.6825,-43.4578,-43.1143, -42.8811,-42.6548,-42.4338,-42.2093, -41.9826,-41.7529,-41.5209,-41.4053, -41.3571,-41.3709,-41.384,-41.3913, -41.4034,-41.4092,-41.4094,-41.4101, -41.6415,-41.8739,-42.1026,-42.3287, -42.67,-42.8972,-43.1179,-43.3428, -43.5701,-43.8033,-44.1471,-44.375, -44.7147,-45.0549,-45.3956,-45.6234, -45.8518,-46.0798,-46.3075,-46.5357, -46.7634,-46.9919,-47.22,-47.5563, -47.8435,-48.0351,-48.2275,-48.6058, -48.7987,-48.9943,-49.3758,-49.5678, -49.7591,-50.0462,-50.2377,-50.4296, -50.6214,-50.8131,-51.1001,-51.3877, -51.5796,-51.867,-51.9629,-52.071)
FOOTPRINT_POINT_LONGITUDE = (39.2943,38.7087,38.1407,37.4245, 37.4061,37.3688,37.4058,37.432,37.4576, 37.4744,37.4909,37.5072,37.531,37.5466, 37.5616,37.5766,37.599,37.6238,37.6547, 37.6674,37.6932,37.7058,37.7178,37.7379 ,37.7522,37.7652,37.7785,37.7913,37.81, 37.822,37.8343,37.8457,37.857,37.8736, 37.8846,37.9005,37.9111,37.9198,37.9299 ,37.9418,37.9478,37.9562,37.9663, 37.9748,37.9822,37.9898,37.9971,38.0008 ,38.0022,38.3761,38.7869,39.0481,39.533 ,39.9058,39.9244,39.9311,39.922,39.9124 ,39.9028,39.8934,39.8782,39.8681, 39.8603,39.8509,39.8404,39.8275,39.8103 ,39.7992,39.7831,39.7665,39.7494, 39.7375,39.7253,39.7132,39.7009,39.6883 ,39.6758,39.6627,39.6497,39.63,39.6129, 39.6012,39.5891,39.5672,39.5545,39.5404 ,39.5161,39.5031,39.4903,39.4708, 39.4575,39.4439,39.4302,39.4164,39.3956 ,39.3741,39.3595,39.3374,39.3299, 39.2943)
ORBIT_NUMBER = 8588
ORBITAL_ECCENTRICITY = 0.578
ORBITAL_INCLINATION = 86.83
ORBITAL_SEMIMAJOR_AXIS = 8778.38
PERIAPSIS_ALTITUDE = 320.96
PERIAPSIS_ARGUMENT_ANGLE = 294.48
PERIAPSIS_TIME = 2010-09-19T01:10:34.000Z
SPACECRAFT_ORIENTATION = (0.0,1.0,0.0)
^MEX_ORIENTATION_DESC = "MEX_ORIENTATION_DESC.TXT"
SPACECRAFT_POINTING_MODE = ACROSSTRACK
^MEX_POINTING_DESC = "MEX_POINTING_DESC.TXT"
RIGHT_ASCENSION = -1e+32
DECLINATION = -1e+32
OFFSET_ANGLE = 0.1
SPACECRAFT_SOLAR_DISTANCE = 2.29864e+08
TARGET_NAME = MARS
/* CAMERA DATA ELEMENTS */
DETECTOR_TEMPERATURE = 18.1666
FOCAL_PLANE_TEMPERATURE = 7.9716
INST_CMPRS_NAME = "DISCRETE COSINE TRANSFORMATION (DCT)"
INST_CMPRS_RATIO = 11.3058
INST_CMPRS_QUALITY = 0
INST_CMPRS_QUANTZ_TBL_ID = 0
INSTRUMENT_TEMPERATURE = 11.234
LENS_TEMPERATURE = 8.5833
MACROPIXEL_SIZE = 2
MISSING_FRAMES = 0
PIXEL_SUBSAMPLING_FLAG = N
SIGNAL_CHAIN_ID = 1
/* RADIOMETRIC DATA ELEMENTS */
BANDWIDTH = 178.0
CENTER_FILTER_WAVELENGTH = 679.0
RADIANCE_OFFSET = 1.66794
RADIANCE_SCALING_FACTOR = 0.01372
REFLECTANCE_SCALING_FACTOR = 0.000383907
MEX:REFLECTANCE_OFFSET = 0.0466715
/* IMAGE OBJECT DEFINITIONS */
OBJECT = IMAGE
  INTERCHANGE_FORMAT = BINARY
  LINES = 25227
  LINE_SAMPLES = 4158
  SAMPLE_TYPE = UNSIGNED_INTEGER
  SAMPLE_BITS = 8
  BANDS = 1
  BAND_STORAGE_TYPE = BAND_SEQUENTIAL
  MAXIMUM = 255
  MEAN = 97.5404
  MINIMUM = 1
  STANDARD_DEVIATION = 31.2026
END_OBJECT = IMAGE
/* MAP OBJECT DEFINITIONS */
OBJECT = IMAGE_MAP_PROJECTION
  ^DATA_SET_MAP_PROJECTION_CATALOG= "DSMAP.CAT"
  A_AXIS_RADIUS = 3396.0
  B_AXIS_RADIUS = 3396.0
  C_AXIS_RADIUS = 3396.0
  CENTER_LATITUDE = 0.0
  CENTER_LONGITUDE = 39.0
  COORDINATE_SYSTEM_NAME = PLANETOGRAPHIC
  COORDINATE_SYSTEM_TYPE = "BODY-FIXED ROTATING"
  EASTERNMOST_LONGITUDE = 39.9311
  FIRST_STANDARD_PARALLEL = "N/A"
  LINE_FIRST_PIXEL = 1
  LINE_LAST_PIXEL = 25227
  LINE_PROJECTION_OFFSET = -98002.75
  MAP_PROJECTION_ROTATION = 0.0
  MAP_PROJECTION_TYPE = SINUSOIDAL
  MAP_RESOLUTION = 2370.85521546667
  MAP_SCALE = 0.025
  MAXIMUM_LATITUDE = -41.3571
  MINIMUM_LATITUDE = -52.071
  POSITIVE_LONGITUDE_DIRECTION = EAST
  REFERENCE_LATITUDE = "N/A"
  REFERENCE_LONGITUDE = "N/A"
  SAMPLE_FIRST_PIXEL = 1
  SAMPLE_LAST_PIXEL = 4158
  SAMPLE_PROJECTION_OFFSET = 2421.75
  SECOND_STANDARD_PARALLEL = "N/A"
  WESTERNMOST_LONGITUDE = 37.3688
END_OBJECT = IMAGE_MAP_PROJECTION
END
