PDS_VERSION_ID = PDS3
/* FILE DATA ELEMENTS */
RECORD_TYPE = UNDEFINED
/* POINTERS TO DATA OBJECTS */
^IMAGE = ("H8574_0000_BL4.TIF")
/* IDENTIFICATION DATA ELEMENTS */
DATA_SET_ID = "MEX-M-HRSC-4-REFDR-MAPPROJECT-EXT3-V4.0"
DATA_SET_NAME = "MARS EXPRESS HRSC MAP PROJECTED REFDR EXTENSION3 V4.0"
DETECTOR_ID = MEX_HRSC_BLUE
EVENT_TYPE = "MARS-REGIONAL-MAPPING-Im-Fl-Pf"
INSTRUMENT_HOST_ID = MEX
INSTRUMENT_HOST_NAME = "MARS EXPRESS"
INSTRUMENT_ID = HRSC
INSTRUMENT_NAME = "HIGH RESOLUTION STEREO CAMERA"
MISSION_NAME = "MARS EXPRESS"
MISSION_PHASE_NAME = ME_Phase_21
PROCESSING_LEVEL_ID = 4
PRODUCT_CREATION_TIME = 2023-02-03T21:13:30.000Z
PRODUCT_ID = "H8574_0000_BL4.TIF"
RELEASE_ID = 0005
REVISION_ID = 0000
/* QUALITY DATA ELEMENTS */
DATA_QUALITY_ID = 1
DATA_QUALITY_DESC = "Data calculated based on original SPICE kernels"
/* TIME DATA ELEMENTS */
SPACECRAFT_CLOCK_START_COUNT = "1/0232586418.09063"
SPACECRAFT_CLOCK_STOP_COUNT = "1/0232586716.63898"
START_TIME = 2010-09-14T23:20:51.876Z
STOP_TIME = 2010-09-14T23:24:03.816Z
/* ORBITAL DATA ELEMENTS */
ASCENDING_NODE_LONGITUDE = 53.53
MAXIMUM_RESOLUTION = 0.1326
FOOTPRINT_POINT_LATITUDE = (-40.659,-40.6607,-40.6586,-40.6537, -40.6535,-40.6435,-40.3284,-40.0151, -39.3795,-38.8452,-38.5221,-38.3037, -38.0855,-37.8671,-37.6487,-37.4249, -37.2028,-36.98,-36.7577,-36.531, -36.3038,-36.0768,-35.8502,-35.5036, -35.2724,-35.0415,-34.6892,-34.454, -34.2192,-33.9806,-33.7412,-33.3827, -33.139,-32.8955,-32.6524,-32.4054, -32.1561,-31.7829,-31.4086,-31.157, -30.9014,-30.5183,-30.2597,-30.0005, -29.7412,-29.4777,-29.083,-28.9491, -28.8903,-28.8895,-28.8876,-28.8856, -28.8822,-28.8784,-28.8735,-28.8687, -28.8683,-28.8708,-29.1379,-29.4017, -29.7969,-30.187,-30.4471,-30.7017, -30.9579,-31.2141,-31.466,-31.7184, -31.9685,-32.2162,-32.4648,-32.8329, -33.077,-33.442,-33.682,-33.922, -34.1608,-34.3959,-34.6321,-34.9867, -35.2175,-35.4493,-35.6812,-35.911, -36.1369,-36.3638,-36.5915,-36.9286, -37.2624,-37.4856,-37.7077,-37.9268, -38.1478,-38.693,-39.1221,-39.4446, -39.8695,-40.5,-40.6052,-40.659)
FOOTPRINT_POINT_LONGITUDE = (33.2445,32.5067,31.9423,31.387,31.3698 ,31.364,31.3663,31.3678,31.3711,31.3723 ,31.3728,31.3729,31.3728,31.3727, 31.3724,31.3721,31.3714,31.3707,31.3697 ,31.3687,31.3675,31.3661,31.3646,31.362 ,31.3601,31.3581,31.3547,31.3522, 31.3496,31.3468,31.3438,31.339,31.3356, 31.3321,31.3283,31.3244,31.3201,31.3135 ,31.307,31.3022,31.2971,31.2892,31.2836 ,31.278,31.2721,31.266,31.2566,31.2533, 31.2518,31.5724,31.9187,32.1848,32.5145 ,32.8255,33.1389,33.412,33.433,33.4471, 33.4443,33.4414,33.437,33.4318,33.4285, 33.4295,33.4266,33.4185,33.4153,33.4118 ,33.4089,33.4064,33.4023,33.3978, 33.3943,33.3893,33.3847,33.3817,33.3828 ,33.3809,33.3758,33.3687,33.3671, 33.3627,33.3593,33.3574,33.3588,33.3574 ,33.3541,33.3487,33.3468,33.3441, 33.3408,33.3353,33.3225,33.3182,33.309, 33.3018,33.2916,33.2804,33.2788, 33.2445)
ORBIT_NUMBER = 8574
ORBITAL_ECCENTRICITY = 0.578
ORBITAL_INCLINATION = 86.83
ORBITAL_SEMIMAJOR_AXIS = 8781.39
PERIAPSIS_ALTITUDE = 321.08
PERIAPSIS_ARGUMENT_ANGLE = 296.84
PERIAPSIS_TIME = 2010-09-14T23:15:13.000Z
SPACECRAFT_ORIENTATION = (0.0,1.0,0.0)
^MEX_ORIENTATION_DESC = "MEX_ORIENTATION_DESC.TXT"
SPACECRAFT_POINTING_MODE = ACROSSTRACK
^MEX_POINTING_DESC = "MEX_POINTING_DESC.TXT"
RIGHT_ASCENSION = -1e+32
DECLINATION = -1e+32
OFFSET_ANGLE = -0.8
SPACECRAFT_SOLAR_DISTANCE = 2.30645e+08
TARGET_NAME = MARS
/* CAMERA DATA ELEMENTS */
DETECTOR_TEMPERATURE = 18.3705
FOCAL_PLANE_TEMPERATURE = 7.7677
INST_CMPRS_NAME = "DISCRETE COSINE TRANSFORMATION (DCT)"
INST_CMPRS_RATIO = 16.7569
INST_CMPRS_QUALITY = 0
INST_CMPRS_QUANTZ_TBL_ID = 0
INSTRUMENT_TEMPERATURE = 10.0106
LENS_TEMPERATURE = 8.7872
MACROPIXEL_SIZE = 8
MISSING_FRAMES = 0
PIXEL_SUBSAMPLING_FLAG = N
SIGNAL_CHAIN_ID = 2
/* RADIOMETRIC DATA ELEMENTS */
BANDWIDTH = 76.0
CENTER_FILTER_WAVELENGTH = 444.0
RADIANCE_OFFSET = 0.295522
RADIANCE_SCALING_FACTOR = 0.00187006
REFLECTANCE_SCALING_FACTOR = 0.000102211
MEX:REFLECTANCE_OFFSET = 0.0161522
/* IMAGE OBJECT DEFINITIONS */
OBJECT = IMAGE
  INTERCHANGE_FORMAT = BINARY
  LINES = 6994
  LINE_SAMPLES = 1172
  SAMPLE_TYPE = UNSIGNED_INTEGER
  SAMPLE_BITS = 8
  BANDS = 1
  BAND_STORAGE_TYPE = BAND_SEQUENTIAL
  MAXIMUM = 255
  MEAN = 134.757
  MINIMUM = 1
  STANDARD_DEVIATION = 28.6599
END_OBJECT = IMAGE
/* MAP OBJECT DEFINITIONS */
OBJECT = IMAGE_MAP_PROJECTION
  ^DATA_SET_MAP_PROJECTION_CATALOG= "DSMAP.CAT"
  A_AXIS_RADIUS = 3396.0
  B_AXIS_RADIUS = 3396.0
  C_AXIS_RADIUS = 3396.0
  CENTER_LATITUDE = 0.0
  CENTER_LONGITUDE = 32.0
  COORDINATE_SYSTEM_NAME = PLANETOGRAPHIC
  COORDINATE_SYSTEM_TYPE = "BODY-FIXED ROTATING"
  EASTERNMOST_LONGITUDE = 33.4471
  FIRST_STANDARD_PARALLEL = "N/A"
  LINE_FIRST_PIXEL = 1
  LINE_LAST_PIXEL = 6994
  LINE_PROJECTION_OFFSET = -17103.3125
  MAP_PROJECTION_ROTATION = 0.0
  MAP_PROJECTION_TYPE = SINUSOIDAL
  MAP_RESOLUTION = 592.713803866667
  MAP_SCALE = 0.1
  MAXIMUM_LATITUDE = -28.8683
  MINIMUM_LATITUDE = -40.6607
  POSITIVE_LONGITUDE_DIRECTION = EAST
  REFERENCE_LATITUDE = "N/A"
  REFERENCE_LONGITUDE = "N/A"
  SAMPLE_FIRST_PIXEL = 1
  SAMPLE_LAST_PIXEL = 1172
  SAMPLE_PROJECTION_OFFSET = 411.3125
  SECOND_STANDARD_PARALLEL = "N/A"
  WESTERNMOST_LONGITUDE = 31.2518
END_OBJECT = IMAGE_MAP_PROJECTION
END
