PDS_VERSION_ID = PDS3
/* FILE DATA ELEMENTS */
RECORD_TYPE = UNDEFINED
/* POINTERS TO DATA OBJECTS */
^IMAGE = ("H8573_0000_RE4.TIF")
/* IDENTIFICATION DATA ELEMENTS */
DATA_SET_ID = "MEX-M-HRSC-4-REFDR-MAPPROJECT-EXT3-V4.0"
DATA_SET_NAME = "MARS EXPRESS HRSC MAP PROJECTED REFDR EXTENSION3 V4.0"
DETECTOR_ID = MEX_HRSC_RED
EVENT_TYPE = "MARS-REGIONAL-MAPPING-Im-Fl-Pf"
INSTRUMENT_HOST_ID = MEX
INSTRUMENT_HOST_NAME = "MARS EXPRESS"
INSTRUMENT_ID = HRSC
INSTRUMENT_NAME = "HIGH RESOLUTION STEREO CAMERA"
MISSION_NAME = "MARS EXPRESS"
MISSION_PHASE_NAME = ME_Phase_21
PROCESSING_LEVEL_ID = 4
PRODUCT_CREATION_TIME = 2023-02-03T21:13:30.000Z
PRODUCT_ID = "H8573_0000_RE4.TIF"
RELEASE_ID = 0005
REVISION_ID = 0000
/* QUALITY DATA ELEMENTS */
DATA_QUALITY_ID = 1
DATA_QUALITY_DESC = "Data calculated based on original SPICE kernels"
/* TIME DATA ELEMENTS */
SPACECRAFT_CLOCK_START_COUNT = "1/0232561122.09039"
SPACECRAFT_CLOCK_STOP_COUNT = "1/0232561407.24246"
START_TIME = 2010-09-14T16:18:49.841Z
STOP_TIME = 2010-09-14T16:22:03.144Z
/* ORBITAL DATA ELEMENTS */
ASCENDING_NODE_LONGITUDE = 53.55
MAXIMUM_RESOLUTION = 0.0583
FOOTPRINT_POINT_LATITUDE = (-48.3859,-48.3617,-48.3341,-48.2923, -48.2912,-48.2418,-47.9137,-47.5867, -47.368,-47.149,-46.9304,-46.4937, -46.1662,-45.7293,-45.2938,-45.0361, -44.7727,-44.5119,-44.2516,-43.9917, -43.7326,-43.4763,-43.0855,-42.8252, -42.4361,-42.0469,-41.7874,-41.3985, -41.0102,-40.7523,-40.4933,-40.1058, -39.8473,-39.4515,-39.1852,-38.92, -38.6555,-38.3868,-38.1156,-37.8448, -37.5744,-37.2999,-37.0231,-36.7462, -36.4699,-36.1862,-35.7642,-35.623, -35.5666,-35.58,-35.5992,-35.6177, -35.6279,-35.6356,-35.636,-35.6373, -35.9198,-36.2033,-36.4876,-36.764, -37.0414,-37.3187,-37.7306,-37.9992, -38.2718,-38.6805,-38.946,-39.2132, -39.6121,-39.8761,-40.1352,-40.5237, -40.7776,-41.0385,-41.3001,-41.5591, -41.8188,-42.2081,-42.4682,-42.7299, -42.9906,-43.2506,-43.6394,-43.8995, -44.2907,-44.5516,-44.9434,-45.2045, -45.452,-45.6711,-46.0985,-46.3174, -46.6499,-46.8753,-47.2019,-47.4207, -47.6402,-48.1877,-48.2971,-48.3859)
FOOTPRINT_POINT_LONGITUDE = (133.362,132.832,132.297,131.586, 131.569,131.526,131.552,131.579,131.596 ,131.612,131.628,131.66,131.683,131.712 ,131.74,131.757,131.77,131.785,131.8, 131.814,131.829,131.845,131.864,131.876 ,131.895,131.912,131.923,131.939, 131.954,131.964,131.973,131.987,131.995 ,132.007,132.014,132.021,132.029, 132.036,132.042,132.049,132.056,132.062 ,132.068,132.073,132.079,132.083, 132.091,132.094,132.095,132.384,132.835 ,133.355,133.693,133.994,134.012, 134.018,134.008,133.998,133.988,133.978 ,133.967,133.957,133.941,133.931,133.92 ,133.903,133.892,133.88,133.863,133.852 ,133.84,133.823,133.812,133.799,133.786 ,133.774,133.761,133.742,133.729, 133.715,133.702,133.688,133.667,133.653 ,133.631,133.616,133.593,133.577, 133.562,133.549,133.523,133.51,133.488, 133.472,133.45,133.436,133.42,133.382, 133.374,133.362)
ORBIT_NUMBER = 8573
ORBITAL_ECCENTRICITY = 0.579
ORBITAL_INCLINATION = 86.82
ORBITAL_SEMIMAJOR_AXIS = 8782.33
PERIAPSIS_ALTITUDE = 321.12
PERIAPSIS_ARGUMENT_ANGLE = 297.02
PERIAPSIS_TIME = 2010-09-14T16:15:35.000Z
SPACECRAFT_ORIENTATION = (0.0,1.0,0.0)
^MEX_ORIENTATION_DESC = "MEX_ORIENTATION_DESC.TXT"
SPACECRAFT_POINTING_MODE = ACROSSTRACK
^MEX_POINTING_DESC = "MEX_POINTING_DESC.TXT"
RIGHT_ASCENSION = -1e+32
DECLINATION = -1e+32
OFFSET_ANGLE = 0.45
SPACECRAFT_SOLAR_DISTANCE = 2.30701e+08
TARGET_NAME = MARS
/* CAMERA DATA ELEMENTS */
DETECTOR_TEMPERATURE = 18.3705
FOCAL_PLANE_TEMPERATURE = 7.9716
INST_CMPRS_NAME = "DISCRETE COSINE TRANSFORMATION (DCT)"
INST_CMPRS_RATIO = 13.8433
INST_CMPRS_QUALITY = 0
INST_CMPRS_QUANTZ_TBL_ID = 0
INSTRUMENT_TEMPERATURE = 11.234
LENS_TEMPERATURE = 8.3794
MACROPIXEL_SIZE = 4
MISSING_FRAMES = 0
PIXEL_SUBSAMPLING_FLAG = N
SIGNAL_CHAIN_ID = 2
/* RADIOMETRIC DATA ELEMENTS */
BANDWIDTH = 48.0
CENTER_FILTER_WAVELENGTH = 748.0
RADIANCE_OFFSET = 0.523107
RADIANCE_SCALING_FACTOR = 0.00535148
REFLECTANCE_SCALING_FACTOR = 0.000649981
MEX:REFLECTANCE_OFFSET = 0.0635357
/* IMAGE OBJECT DEFINITIONS */
OBJECT = IMAGE
  INTERCHANGE_FORMAT = BINARY
  LINES = 15076
  LINE_SAMPLES = 2211
  SAMPLE_TYPE = UNSIGNED_INTEGER
  SAMPLE_BITS = 8
  BANDS = 1
  BAND_STORAGE_TYPE = BAND_SEQUENTIAL
  MAXIMUM = 255
  MEAN = 124.536
  MINIMUM = 1
  STANDARD_DEVIATION = 32.853
END_OBJECT = IMAGE
/* MAP OBJECT DEFINITIONS */
OBJECT = IMAGE_MAP_PROJECTION
  ^DATA_SET_MAP_PROJECTION_CATALOG= "DSMAP.CAT"
  A_AXIS_RADIUS = 3396.0
  B_AXIS_RADIUS = 3396.0
  C_AXIS_RADIUS = 3396.0
  CENTER_LATITUDE = 0.0
  CENTER_LONGITUDE = 133.0
  COORDINATE_SYSTEM_NAME = PLANETOGRAPHIC
  COORDINATE_SYSTEM_TYPE = "BODY-FIXED ROTATING"
  EASTERNMOST_LONGITUDE = 134.018
  FIRST_STANDARD_PARALLEL = "N/A"
  LINE_FIRST_PIXEL = 1
  LINE_LAST_PIXEL = 15076
  LINE_PROJECTION_OFFSET = -42177.125
  MAP_PROJECTION_ROTATION = 0.0
  MAP_PROJECTION_TYPE = SINUSOIDAL
  MAP_RESOLUTION = 1185.42760773333
  MAP_SCALE = 0.05
  MAXIMUM_LATITUDE = -35.5666
  MINIMUM_LATITUDE = -48.3859
  POSITIVE_LONGITUDE_DIRECTION = EAST
  REFERENCE_LATITUDE = "N/A"
  REFERENCE_LONGITUDE = "N/A"
  SAMPLE_FIRST_PIXEL = 1
  SAMPLE_LAST_PIXEL = 2211
  SAMPLE_PROJECTION_OFFSET = 1182.625
  SECOND_STANDARD_PARALLEL = "N/A"
  WESTERNMOST_LONGITUDE = 131.526
END_OBJECT = IMAGE_MAP_PROJECTION
END
