PDS_VERSION_ID = PDS3
/* FILE DATA ELEMENTS */
RECORD_TYPE = UNDEFINED
/* POINTERS TO DATA OBJECTS */
^IMAGE = ("H8569_0000_P24.TIF")
/* IDENTIFICATION DATA ELEMENTS */
DATA_SET_ID = "MEX-M-HRSC-4-REFDR-MAPPROJECT-EXT3-V4.0"
DATA_SET_NAME = "MARS EXPRESS HRSC MAP PROJECTED REFDR EXTENSION3 V4.0"
DETECTOR_ID = MEX_HRSC_P2
EVENT_TYPE = "MARS-REGIONAL-MAPPING-Im-Pf"
INSTRUMENT_HOST_ID = MEX
INSTRUMENT_HOST_NAME = "MARS EXPRESS"
INSTRUMENT_ID = HRSC
INSTRUMENT_NAME = "HIGH RESOLUTION STEREO CAMERA"
MISSION_NAME = "MARS EXPRESS"
MISSION_PHASE_NAME = ME_Phase_21
PROCESSING_LEVEL_ID = 4
PRODUCT_CREATION_TIME = 2023-02-03T21:13:30.000Z
PRODUCT_ID = "H8569_0000_P24.TIF"
RELEASE_ID = 0005
REVISION_ID = 0000
/* QUALITY DATA ELEMENTS */
DATA_QUALITY_ID = 1
DATA_QUALITY_DESC = "Data calculated based on original SPICE kernels"
/* TIME DATA ELEMENTS */
SPACECRAFT_CLOCK_START_COUNT = "1/0232460382.09047"
SPACECRAFT_CLOCK_STOP_COUNT = "1/0232460638.65079"
START_TIME = 2010-09-13T12:19:55.245Z
STOP_TIME = 2010-09-13T12:22:48.642Z
/* ORBITAL DATA ELEMENTS */
ASCENDING_NODE_LONGITUDE = 53.62
MAXIMUM_RESOLUTION = 0.0283
FOOTPRINT_POINT_LATITUDE = (-49.2467,-49.2453,-49.2405,-49.2324, -49.2321,-49.1932,-48.9896,-48.5852, -48.3819,-48.1782,-47.8732,-47.6667, -47.3638,-46.9574,-46.7537,-46.3492, -46.1447,-45.8386,-45.635,-45.1275, -44.777,-44.5341,-44.2938,-44.0523, -43.8109,-43.5698,-43.2083,-42.9672, -42.7264,-42.485,-42.1228,-41.8823, -41.6422,-41.4002,-41.1624,-40.9228, -40.564,-40.3232,-40.0829,-39.8461, -39.6076,-39.3649,-39.1171,-38.8732, -38.6271,-38.3816,-38.0056,-37.8803, -37.832,-37.8331,-37.8329,-37.8307, -37.8234,-37.8232,-37.8236,-38.0747, -38.4492,-38.6943,-38.94,-39.1858, -39.5541,-39.7935,-40.0329,-40.2724, -40.5125,-40.7542,-40.9952,-41.2332, -41.4736,-41.7144,-41.9552,-42.3169, -42.5579,-42.8005,-43.0433,-43.4053, -43.6459,-43.8876,-44.2494,-44.4912, -44.7352,-45.0965,-45.4009,-45.8073, -46.0112,-46.3164,-46.5199,-46.7239, -46.9273,-47.2325,-47.4373,-47.6409, -47.9475,-48.1524,-48.3576,-48.5639, -48.8656,-49.069,-49.1708,-49.2467)
FOOTPRINT_POINT_LONGITUDE = (183.944,183.268,182.708,182.155, 182.138,182.132,182.143,182.165,182.176 ,182.186,182.201,182.211,182.225, 182.243,182.252,182.269,182.277,182.289 ,182.296,182.314,182.326,182.334, 182.341,182.349,182.356,182.363,182.372 ,182.378,182.384,182.39,182.398,182.403 ,182.407,182.412,182.416,182.421, 182.426,182.43,182.433,182.437,182.44, 182.442,182.445,182.447,182.449,182.451 ,182.454,182.454,182.455,182.742, 183.159,183.634,184.318,184.337,184.343 ,184.338,184.33,184.325,184.319,184.313 ,184.304,184.298,184.293,184.287, 184.281,184.274,184.267,184.263,184.257 ,184.251,184.244,184.234,184.228,184.22 ,184.211,184.201,184.195,184.188, 184.178,184.171,184.161,184.146,184.137 ,184.123,184.116,184.105,184.098,184.09 ,184.083,184.072,184.063,184.055, 184.042,184.033,184.023,184.012,184.005 ,183.998,183.994,183.944)
ORBIT_NUMBER = 8569
ORBITAL_ECCENTRICITY = 0.578
ORBITAL_INCLINATION = 86.83
ORBITAL_SEMIMAJOR_AXIS = 8780.28
PERIAPSIS_ALTITUDE = 321.13
PERIAPSIS_ARGUMENT_ANGLE = 297.7
PERIAPSIS_TIME = 2010-09-13T12:16:58.000Z
SPACECRAFT_ORIENTATION = (0.0,1.0,0.0)
^MEX_ORIENTATION_DESC = "MEX_ORIENTATION_DESC.TXT"
SPACECRAFT_POINTING_MODE = ACROSSTRACK
^MEX_POINTING_DESC = "MEX_POINTING_DESC.TXT"
RIGHT_ASCENSION = -1e+32
DECLINATION = -1e+32
OFFSET_ANGLE = -0.5
SPACECRAFT_SOLAR_DISTANCE = 2.30923e+08
TARGET_NAME = MARS
/* CAMERA DATA ELEMENTS */
DETECTOR_TEMPERATURE = 18.5744
FOCAL_PLANE_TEMPERATURE = 8.1755
INST_CMPRS_NAME = "DISCRETE COSINE TRANSFORMATION (DCT)"
INST_CMPRS_RATIO = 7.23184
INST_CMPRS_QUALITY = 0
INST_CMPRS_QUANTZ_TBL_ID = 0
INSTRUMENT_TEMPERATURE = 11.4379
LENS_TEMPERATURE = 8.5833
MACROPIXEL_SIZE = 2
MISSING_FRAMES = 0
PIXEL_SUBSAMPLING_FLAG = N
SIGNAL_CHAIN_ID = 3
/* RADIOMETRIC DATA ELEMENTS */
BANDWIDTH = 177.0
CENTER_FILTER_WAVELENGTH = 676.5
RADIANCE_OFFSET = 1.17405
RADIANCE_SCALING_FACTOR = 0.017101
REFLECTANCE_SCALING_FACTOR = 0.000483516
MEX:REFLECTANCE_OFFSET = 0.0331953
/* IMAGE OBJECT DEFINITIONS */
OBJECT = IMAGE
  INTERCHANGE_FORMAT = BINARY
  LINES = 27007
  LINE_SAMPLES = 3941
  SAMPLE_TYPE = UNSIGNED_INTEGER
  SAMPLE_BITS = 8
  BANDS = 1
  BAND_STORAGE_TYPE = BAND_SEQUENTIAL
  MAXIMUM = 255
  MEAN = 98.2901
  MINIMUM = 1
  STANDARD_DEVIATION = 20.0087
END_OBJECT = IMAGE
/* MAP OBJECT DEFINITIONS */
OBJECT = IMAGE_MAP_PROJECTION
  ^DATA_SET_MAP_PROJECTION_CATALOG= "DSMAP.CAT"
  A_AXIS_RADIUS = 3396.0
  B_AXIS_RADIUS = 3396.0
  C_AXIS_RADIUS = 3396.0
  CENTER_LATITUDE = 0.0
  CENTER_LONGITUDE = 183.0
  COORDINATE_SYSTEM_NAME = PLANETOGRAPHIC
  COORDINATE_SYSTEM_TYPE = "BODY-FIXED ROTATING"
  EASTERNMOST_LONGITUDE = 184.343
  FIRST_STANDARD_PARALLEL = "N/A"
  LINE_FIRST_PIXEL = 1
  LINE_LAST_PIXEL = 27007
  LINE_PROJECTION_OFFSET = -89675.75
  MAP_PROJECTION_ROTATION = 0.0
  MAP_PROJECTION_TYPE = SINUSOIDAL
  MAP_RESOLUTION = 2370.85521546667
  MAP_SCALE = 0.025
  MAXIMUM_LATITUDE = -37.8232
  MINIMUM_LATITUDE = -49.2467
  POSITIVE_LONGITUDE_DIRECTION = EAST
  REFERENCE_LATITUDE = "N/A"
  REFERENCE_LONGITUDE = "N/A"
  SAMPLE_FIRST_PIXEL = 1
  SAMPLE_LAST_PIXEL = 3941
  SAMPLE_PROJECTION_OFFSET = 1372.75
  SECOND_STANDARD_PARALLEL = "N/A"
  WESTERNMOST_LONGITUDE = 182.132
END_OBJECT = IMAGE_MAP_PROJECTION
END
