PDS_VERSION_ID = PDS3
/* FILE DATA ELEMENTS */
RECORD_TYPE = UNDEFINED
/* POINTERS TO DATA OBJECTS */
^IMAGE = ("H8569_0000_GR4.TIF")
/* IDENTIFICATION DATA ELEMENTS */
DATA_SET_ID = "MEX-M-HRSC-4-REFDR-MAPPROJECT-EXT3-V4.0"
DATA_SET_NAME = "MARS EXPRESS HRSC MAP PROJECTED REFDR EXTENSION3 V4.0"
DETECTOR_ID = MEX_HRSC_GREEN
EVENT_TYPE = "MARS-REGIONAL-MAPPING-Im-Pf"
INSTRUMENT_HOST_ID = MEX
INSTRUMENT_HOST_NAME = "MARS EXPRESS"
INSTRUMENT_ID = HRSC
INSTRUMENT_NAME = "HIGH RESOLUTION STEREO CAMERA"
MISSION_NAME = "MARS EXPRESS"
MISSION_PHASE_NAME = ME_Phase_21
PROCESSING_LEVEL_ID = 4
PRODUCT_CREATION_TIME = 2023-02-03T21:13:30.000Z
PRODUCT_ID = "H8569_0000_GR4.TIF"
RELEASE_ID = 0005
REVISION_ID = 0000
/* QUALITY DATA ELEMENTS */
DATA_QUALITY_ID = 1
DATA_QUALITY_DESC = "Data calculated based on original SPICE kernels"
/* TIME DATA ELEMENTS */
SPACECRAFT_CLOCK_START_COUNT = "1/0232460382.09047"
SPACECRAFT_CLOCK_STOP_COUNT = "1/0232460638.65079"
START_TIME = 2010-09-13T12:20:21.273Z
STOP_TIME = 2010-09-13T12:23:22.049Z
/* ORBITAL DATA ELEMENTS */
ASCENDING_NODE_LONGITUDE = 53.62
MAXIMUM_RESOLUTION = 0.0563
FOOTPRINT_POINT_LATITUDE = (-49.1987,-49.191,-49.1781,-49.163, -49.1529,-49.1524,-49.1599,-48.765, -48.1737,-47.7808,-47.2898,-46.8977, -46.6804,-46.4469,-46.0971,-45.7482, -45.5158,-45.2834,-45.0513,-44.8195, -44.4721,-44.2407,-44.0096,-43.7787, -43.5481,-43.3177,-43.0875,-42.8578, -42.6282,-42.399,-42.1701,-41.9413, -41.7127,-41.4847,-41.2508,-41.0167, -40.7831,-40.4331,-40.0773,-39.8382, -39.5999,-39.362,-39.1207,-38.8768, -38.6342,-38.3917,-38.0215,-37.8975, -37.8056,-37.8107,-37.8153,-37.8212, -37.8247,-37.8294,-37.8295,-37.8306, -38.079,-38.4494,-38.6926,-38.9361, -39.18,-39.4216,-39.66,-39.8988,-40.138 ,-40.3775,-40.6109,-40.8444,-41.0787, -41.3135,-41.5468,-41.7756,-42.0047, -42.234,-42.4636,-42.808,-43.1529, -43.384,-43.7306,-43.9618,-44.1935, -44.4254,-44.6572,-44.8884,-45.2372, -45.4698,-45.8195,-46.0526,-46.2861, -46.52,-46.7538,-46.9668,-47.3595, -47.7529,-48.048,-48.4417,-48.7389, -49.0354,-49.1344,-49.1987)
FOOTPRINT_POINT_LONGITUDE = (183.962,183.561,183.01,182.466,182.145 ,182.128,182.12,182.141,182.171,182.189 ,182.212,182.228,182.237,182.247,182.26 ,182.272,182.281,182.288,182.296, 182.303,182.314,182.321,182.327,182.333 ,182.339,182.345,182.351,182.356, 182.361,182.366,182.37,182.374,182.379, 182.382,182.386,182.39,182.393,182.398, 182.402,182.405,182.408,182.41,182.411, 182.414,182.415,182.416,182.418,182.418 ,182.419,182.688,182.96,183.379,183.691 ,184.357,184.375,184.382,184.376, 184.367,184.361,184.355,184.349,184.342 ,184.336,184.33,184.324,184.318,184.311 ,184.303,184.297,184.292,184.286, 184.279,184.273,184.266,184.259,184.247 ,184.234,184.229,184.219,184.211, 184.205,184.198,184.19,184.177,184.166, 184.157,184.145,184.136,184.127,184.119 ,184.109,184.102,184.085,184.069, 184.055,184.036,184.028,184.015,184.011 ,183.962)
ORBIT_NUMBER = 8569
ORBITAL_ECCENTRICITY = 0.578
ORBITAL_INCLINATION = 86.83
ORBITAL_SEMIMAJOR_AXIS = 8780.28
PERIAPSIS_ALTITUDE = 321.13
PERIAPSIS_ARGUMENT_ANGLE = 297.7
PERIAPSIS_TIME = 2010-09-13T12:16:58.000Z
SPACECRAFT_ORIENTATION = (0.0,1.0,0.0)
^MEX_ORIENTATION_DESC = "MEX_ORIENTATION_DESC.TXT"
SPACECRAFT_POINTING_MODE = ACROSSTRACK
^MEX_POINTING_DESC = "MEX_POINTING_DESC.TXT"
RIGHT_ASCENSION = -1e+32
DECLINATION = -1e+32
OFFSET_ANGLE = -0.5
SPACECRAFT_SOLAR_DISTANCE = 2.30923e+08
TARGET_NAME = MARS
/* CAMERA DATA ELEMENTS */
DETECTOR_TEMPERATURE = 18.3705
FOCAL_PLANE_TEMPERATURE = 8.1755
INST_CMPRS_NAME = "DISCRETE COSINE TRANSFORMATION (DCT)"
INST_CMPRS_RATIO = 8.39531
INST_CMPRS_QUALITY = 0
INST_CMPRS_QUANTZ_TBL_ID = 0
INSTRUMENT_TEMPERATURE = 11.4379
LENS_TEMPERATURE = 8.5833
MACROPIXEL_SIZE = 4
MISSING_FRAMES = 0
PIXEL_SUBSAMPLING_FLAG = N
SIGNAL_CHAIN_ID = 2
/* RADIOMETRIC DATA ELEMENTS */
BANDWIDTH = 88.0
CENTER_FILTER_WAVELENGTH = 538.0
RADIANCE_OFFSET = 0.440294
RADIANCE_SCALING_FACTOR = 0.00633103
REFLECTANCE_SCALING_FACTOR = 0.000290668
MEX:REFLECTANCE_OFFSET = 0.0202146
/* IMAGE OBJECT DEFINITIONS */
OBJECT = IMAGE
  INTERCHANGE_FORMAT = BINARY
  LINES = 13504
  LINE_SAMPLES = 1971
  SAMPLE_TYPE = UNSIGNED_INTEGER
  SAMPLE_BITS = 8
  BANDS = 1
  BAND_STORAGE_TYPE = BAND_SEQUENTIAL
  MAXIMUM = 255
  MEAN = 108.656
  MINIMUM = 1
  STANDARD_DEVIATION = 22.4131
END_OBJECT = IMAGE
/* MAP OBJECT DEFINITIONS */
OBJECT = IMAGE_MAP_PROJECTION
  ^DATA_SET_MAP_PROJECTION_CATALOG= "DSMAP.CAT"
  A_AXIS_RADIUS = 3396.0
  B_AXIS_RADIUS = 3396.0
  C_AXIS_RADIUS = 3396.0
  CENTER_LATITUDE = 0.0
  CENTER_LONGITUDE = 183.0
  COORDINATE_SYSTEM_NAME = PLANETOGRAPHIC
  COORDINATE_SYSTEM_TYPE = "BODY-FIXED ROTATING"
  EASTERNMOST_LONGITUDE = 184.382
  FIRST_STANDARD_PARALLEL = "N/A"
  LINE_FIRST_PIXEL = 1
  LINE_LAST_PIXEL = 13504
  LINE_PROJECTION_OFFSET = -44838.125
  MAP_PROJECTION_ROTATION = 0.0
  MAP_PROJECTION_TYPE = SINUSOIDAL
  MAP_RESOLUTION = 1185.42760773333
  MAP_SCALE = 0.05
  MAXIMUM_LATITUDE = -37.8056
  MINIMUM_LATITUDE = -49.1987
  POSITIVE_LONGITUDE_DIRECTION = EAST
  REFERENCE_LATITUDE = "N/A"
  REFERENCE_LONGITUDE = "N/A"
  SAMPLE_FIRST_PIXEL = 1
  SAMPLE_LAST_PIXEL = 1971
  SAMPLE_PROJECTION_OFFSET = 686.125
  SECOND_STANDARD_PARALLEL = "N/A"
  WESTERNMOST_LONGITUDE = 182.12
END_OBJECT = IMAGE_MAP_PROJECTION
END
