PDS_VERSION_ID = PDS3
/* FILE DATA ELEMENTS */
RECORD_TYPE = UNDEFINED
/* POINTERS TO DATA OBJECTS */
^IMAGE = ("H8567_0000_S14.TIF")
/* IDENTIFICATION DATA ELEMENTS */
DATA_SET_ID = "MEX-M-HRSC-4-REFDR-MAPPROJECT-EXT3-V4.0"
DATA_SET_NAME = "MARS EXPRESS HRSC MAP PROJECTED REFDR EXTENSION3 V4.0"
DETECTOR_ID = MEX_HRSC_S1
EVENT_TYPE = "MARS-REGIONAL-MAPPING-Im-Pf"
INSTRUMENT_HOST_ID = MEX
INSTRUMENT_HOST_NAME = "MARS EXPRESS"
INSTRUMENT_ID = HRSC
INSTRUMENT_NAME = "HIGH RESOLUTION STEREO CAMERA"
MISSION_NAME = "MARS EXPRESS"
MISSION_PHASE_NAME = ME_Phase_21
PROCESSING_LEVEL_ID = 4
PRODUCT_CREATION_TIME = 2023-02-03T21:13:30.000Z
PRODUCT_ID = "H8567_0000_S14.TIF"
RELEASE_ID = 0005
REVISION_ID = 0000
/* QUALITY DATA ELEMENTS */
DATA_QUALITY_ID = 1
DATA_QUALITY_DESC = "Data calculated based on original SPICE kernels"
/* TIME DATA ELEMENTS */
SPACECRAFT_CLOCK_START_COUNT = "1/0232410054.09120"
SPACECRAFT_CLOCK_STOP_COUNT = "1/0232410306.30863"
START_TIME = 2010-09-12T22:22:03.608Z
STOP_TIME = 2010-09-12T22:25:07.113Z
/* ORBITAL DATA ELEMENTS */
ASCENDING_NODE_LONGITUDE = 53.67
MAXIMUM_RESOLUTION = 0.0321
FOOTPRINT_POINT_LATITUDE = (-46.6098,-46.597,-46.581,-46.5666, -46.5661,-46.6132,-46.3013,-45.9898, -45.7822,-45.5749,-45.3687,-45.0594, -44.7504,-44.545,-44.2369,-44.0321, -43.8274,-43.6224,-43.1135,-42.8014, -42.5934,-42.3848,-42.0732,-41.7568, -41.5449,-41.3333,-41.1229,-40.8023, -40.5875,-40.2657,-40.0511,-39.8325, -39.5044,-39.2864,-38.9543,-38.7319, -38.51,-38.2867,-38.0604,-37.8348, -37.6093,-37.2654,-37.0359,-36.8075, -36.5747,-36.342,-35.9935,-35.8754, -35.8674,-35.8724,-35.8779,-35.8815, -35.8846,-35.8867,-35.8867,-35.8873, -36.1232,-36.473,-36.7066,-37.0526, -37.2825,-37.627,-37.8528,-38.079, -38.4184,-38.6405,-38.8622,-39.0847, -39.4152,-39.6355,-39.8543,-40.071, -40.2857,-40.5044,-40.8362,-41.0526, -41.2633,-41.469,-41.6764,-41.8875, -42.2041,-42.4109,-42.7244,-42.9335, -43.2438,-43.6524,-43.8569,-44.1692, -44.3773,-44.5835,-44.7894,-44.9955, -45.2023,-45.4103,-45.8172,-46.0252, -46.3412,-46.5517,-46.6537,-46.6098)
FOOTPRINT_POINT_LONGITUDE = (27.9465,27.2898,26.6156,26.0867, 26.0685,26.0379,26.0542,26.0699,26.0803 ,26.0904,26.0998,26.1137,26.1273, 26.1359,26.1487,26.1568,26.1648,26.1729 ,26.1909,26.2017,26.2084,26.2153, 26.2249,26.2338,26.2396,26.2453,26.2503 ,26.2577,26.2624,26.2691,26.2731,26.277 ,26.283,26.2866,26.2918,26.295,26.2981, 26.301,26.3036,26.306,26.3084,26.3116, 26.3134,26.3149,26.3163,26.3174,26.3185 ,26.3188,26.3189,26.7069,27.2587, 27.6268,28.0156,28.4046,28.425,28.4324, 28.4243,28.4123,28.4041,28.392,28.3838, 28.3713,28.3631,28.3547,28.342,28.3336, 28.3247,28.3159,28.3029,28.2948,28.2859 ,28.2759,28.2667,28.2593,28.2491, 28.2402,28.2309,28.2196,28.2086,28.1989 ,28.1857,28.176,28.1624,28.1531,28.139, 28.1199,28.1101,28.0972,28.0882,28.0782 ,28.0679,28.0573,28.0469,28.0366, 28.0116,28.0005,27.9851,27.9745,27.9677 ,27.9465)
ORBIT_NUMBER = 8567
ORBITAL_ECCENTRICITY = 0.579
ORBITAL_INCLINATION = 86.83
ORBITAL_SEMIMAJOR_AXIS = 8782.87
PERIAPSIS_ALTITUDE = 321.16
PERIAPSIS_ARGUMENT_ANGLE = 298.03
PERIAPSIS_TIME = 2010-09-12T22:17:37.000Z
SPACECRAFT_ORIENTATION = (0.0,1.0,0.0)
^MEX_ORIENTATION_DESC = "MEX_ORIENTATION_DESC.TXT"
SPACECRAFT_POINTING_MODE = NADIR
^MEX_POINTING_DESC = "MEX_POINTING_DESC.TXT"
RIGHT_ASCENSION = -1e+32
DECLINATION = -1e+32
OFFSET_ANGLE = -1e+32
SPACECRAFT_SOLAR_DISTANCE = 2.31034e+08
TARGET_NAME = MARS
/* CAMERA DATA ELEMENTS */
DETECTOR_TEMPERATURE = 16.9432
FOCAL_PLANE_TEMPERATURE = 7.5638
INST_CMPRS_NAME = "DISCRETE COSINE TRANSFORMATION (DCT)"
INST_CMPRS_RATIO = 8.16412
INST_CMPRS_QUALITY = 0
INST_CMPRS_QUANTZ_TBL_ID = 0
INSTRUMENT_TEMPERATURE = 11.0301
LENS_TEMPERATURE = 7.9716
MACROPIXEL_SIZE = 2
MISSING_FRAMES = 0
PIXEL_SUBSAMPLING_FLAG = N
SIGNAL_CHAIN_ID = 1
/* RADIOMETRIC DATA ELEMENTS */
BANDWIDTH = 180.0
CENTER_FILTER_WAVELENGTH = 677.0
RADIANCE_OFFSET = 1.30294
RADIANCE_SCALING_FACTOR = 0.0162577
REFLECTANCE_SCALING_FACTOR = 0.00045274
MEX:REFLECTANCE_OFFSET = 0.0362838
/* IMAGE OBJECT DEFINITIONS */
OBJECT = IMAGE
  INTERCHANGE_FORMAT = BINARY
  LINES = 25590
  LINE_SAMPLES = 4091
  SAMPLE_TYPE = UNSIGNED_INTEGER
  SAMPLE_BITS = 8
  BANDS = 1
  BAND_STORAGE_TYPE = BAND_SEQUENTIAL
  MAXIMUM = 255
  MEAN = 108.373
  MINIMUM = 1
  STANDARD_DEVIATION = 21.3191
END_OBJECT = IMAGE
/* MAP OBJECT DEFINITIONS */
OBJECT = IMAGE_MAP_PROJECTION
  ^DATA_SET_MAP_PROJECTION_CATALOG= "DSMAP.CAT"
  A_AXIS_RADIUS = 3396.0
  B_AXIS_RADIUS = 3396.0
  C_AXIS_RADIUS = 3396.0
  CENTER_LATITUDE = 0.0
  CENTER_LONGITUDE = 27.0
  COORDINATE_SYSTEM_NAME = PLANETOGRAPHIC
  COORDINATE_SYSTEM_TYPE = "BODY-FIXED ROTATING"
  EASTERNMOST_LONGITUDE = 28.4324
  FIRST_STANDARD_PARALLEL = "N/A"
  LINE_FIRST_PIXEL = 1
  LINE_LAST_PIXEL = 25590
  LINE_PROJECTION_OFFSET = -85103.75
  MAP_PROJECTION_ROTATION = 0.0
  MAP_PROJECTION_TYPE = SINUSOIDAL
  MAP_RESOLUTION = 2370.85521546667
  MAP_SCALE = 0.025
  MAXIMUM_LATITUDE = -35.8674
  MINIMUM_LATITUDE = -46.6537
  POSITIVE_LONGITUDE_DIRECTION = EAST
  REFERENCE_LATITUDE = "N/A"
  REFERENCE_LONGITUDE = "N/A"
  SAMPLE_FIRST_PIXEL = 1
  SAMPLE_LAST_PIXEL = 4091
  SAMPLE_PROJECTION_OFFSET = 1510.75
  SECOND_STANDARD_PARALLEL = "N/A"
  WESTERNMOST_LONGITUDE = 26.0379
END_OBJECT = IMAGE_MAP_PROJECTION
END
