PDS_VERSION_ID = PDS3
/* FILE DATA ELEMENTS */
RECORD_TYPE = UNDEFINED
/* POINTERS TO DATA OBJECTS */
^IMAGE = ("H8567_0000_ND4.TIF")
/* IDENTIFICATION DATA ELEMENTS */
DATA_SET_ID = "MEX-M-HRSC-4-REFDR-MAPPROJECT-EXT3-V4.0"
DATA_SET_NAME = "MARS EXPRESS HRSC MAP PROJECTED REFDR EXTENSION3 V4.0"
DETECTOR_ID = MEX_HRSC_NADIR
EVENT_TYPE = "MARS-REGIONAL-MAPPING-Im-Pf"
INSTRUMENT_HOST_ID = MEX
INSTRUMENT_HOST_NAME = "MARS EXPRESS"
INSTRUMENT_ID = HRSC
INSTRUMENT_NAME = "HIGH RESOLUTION STEREO CAMERA"
MISSION_NAME = "MARS EXPRESS"
MISSION_PHASE_NAME = ME_Phase_21
PROCESSING_LEVEL_ID = 4
PRODUCT_CREATION_TIME = 2023-02-03T21:13:30.000Z
PRODUCT_ID = "H8567_0000_ND4.TIF"
RELEASE_ID = 0005
REVISION_ID = 0000
/* QUALITY DATA ELEMENTS */
DATA_QUALITY_ID = 1
DATA_QUALITY_DESC = "Data calculated based on original SPICE kernels"
/* TIME DATA ELEMENTS */
SPACECRAFT_CLOCK_START_COUNT = "1/0232410054.09120"
SPACECRAFT_CLOCK_STOP_COUNT = "1/0232410306.30863"
START_TIME = 2010-09-12T22:21:28.857Z
STOP_TIME = 2010-09-12T22:24:19.859Z
/* ORBITAL DATA ELEMENTS */
ASCENDING_NODE_LONGITUDE = 53.67
MAXIMUM_RESOLUTION = 0.0145
FOOTPRINT_POINT_LATITUDE = (-46.6894,-46.6774,-46.6659,-46.6439, -46.6433,-46.6413,-46.1014,-45.7954, -45.5811,-45.3669,-45.1529,-44.9391, -44.7254,-44.512,-44.2986,-44.0855, -43.8725,-43.6597,-43.4471,-43.2347, -43.0224,-42.8104,-42.3868,-41.9639, -41.5419,-41.1206,-40.7001,-40.4845, -40.2691,-40.0538,-39.8389,-39.6242, -39.2948,-39.075,-38.8554,-38.6361, -38.3014,-38.0771,-37.8531,-37.6294, -37.2878,-37.0591,-36.8308,-36.486, -36.2528,-36.0199,-35.9035,-35.8953, -35.9018,-35.9091,-35.9127,-35.9166, -35.9185,-35.9186,-35.9189,-36.1521, -36.3857,-36.7341,-36.9628,-37.1918, -37.4212,-37.649,-37.8733,-38.0978, -38.3226,-38.6582,-38.878,-39.0981, -39.3184,-39.6486,-39.8638,-40.0793, -40.295,-40.5108,-40.8322,-41.2538, -41.6764,-42.0996,-42.3114,-42.5235, -42.7358,-42.9482,-43.1608,-43.3736, -43.5866,-43.7998,-44.0132,-44.2266, -44.4403,-44.6542,-44.8682,-45.0824, -45.2968,-45.5114,-45.7261,-45.941, -46.3217,-46.5923,-46.6826,-46.6894)
FOOTPRINT_POINT_LONGITUDE = (27.8941,27.308,26.8466,26.1191,26.1013 ,26.0717,26.1011,26.1174,26.1282, 26.1386,26.1488,26.159,26.1688,26.1787, 26.1879,26.197,26.2059,26.2148,26.2231, 26.2313,26.2393,26.2472,26.2625,26.2762 ,26.2894,26.3015,26.3122,26.3175, 26.3227,26.3272,26.332,26.3369,26.3435, 26.3477,26.3518,26.3558,26.3614,26.3649 ,26.3682,26.3713,26.3758,26.3785,26.381 ,26.3843,26.3861,26.3878,26.3886, 26.3887,26.7353,27.2163,27.5242,27.9673 ,28.3142,28.3335,28.3429,28.3361, 28.3291,28.3186,28.3117,28.3045,28.2974 ,28.29,28.2826,28.2754,28.2679,28.2567, 28.2489,28.241,28.2333,28.2219,28.2141, 28.2049,28.1968,28.1897,28.1808,28.1645 ,28.1433,28.1263,28.1178,28.109,28.1007 ,28.0921,28.0829,28.0739,28.0645, 28.0551,28.0453,28.0377,28.0291,28.0192 ,28.009,27.9988,27.9887,27.9779,27.9662 ,27.9534,27.936,27.9224,27.9167, 27.8941)
ORBIT_NUMBER = 8567
ORBITAL_ECCENTRICITY = 0.579
ORBITAL_INCLINATION = 86.83
ORBITAL_SEMIMAJOR_AXIS = 8782.87
PERIAPSIS_ALTITUDE = 321.16
PERIAPSIS_ARGUMENT_ANGLE = 298.03
PERIAPSIS_TIME = 2010-09-12T22:17:37.000Z
SPACECRAFT_ORIENTATION = (0.0,1.0,0.0)
^MEX_ORIENTATION_DESC = "MEX_ORIENTATION_DESC.TXT"
SPACECRAFT_POINTING_MODE = NADIR
^MEX_POINTING_DESC = "MEX_POINTING_DESC.TXT"
RIGHT_ASCENSION = -1e+32
DECLINATION = -1e+32
OFFSET_ANGLE = -1e+32
SPACECRAFT_SOLAR_DISTANCE = 2.31034e+08
TARGET_NAME = MARS
/* CAMERA DATA ELEMENTS */
DETECTOR_TEMPERATURE = 17.9627
FOCAL_PLANE_TEMPERATURE = 7.5638
INST_CMPRS_NAME = "DISCRETE COSINE TRANSFORMATION (DCT)"
INST_CMPRS_RATIO = 5.65735
INST_CMPRS_QUALITY = 0
INST_CMPRS_QUANTZ_TBL_ID = 0
INSTRUMENT_TEMPERATURE = 11.0301
LENS_TEMPERATURE = 7.9716
MACROPIXEL_SIZE = 1
MISSING_FRAMES = 0
PIXEL_SUBSAMPLING_FLAG = N
SIGNAL_CHAIN_ID = 0
/* RADIOMETRIC DATA ELEMENTS */
BANDWIDTH = 177.0
CENTER_FILTER_WAVELENGTH = 677.5
RADIANCE_OFFSET = 0.850739
RADIANCE_SCALING_FACTOR = 0.0155691
REFLECTANCE_SCALING_FACTOR = 0.000441465
MEX:REFLECTANCE_OFFSET = 0.0241229
/* IMAGE OBJECT DEFINITIONS */
OBJECT = IMAGE
  INTERCHANGE_FORMAT = BINARY
  LINES = 51180
  LINE_SAMPLES = 8181
  SAMPLE_TYPE = UNSIGNED_INTEGER
  SAMPLE_BITS = 8
  BANDS = 1
  BAND_STORAGE_TYPE = BAND_SEQUENTIAL
  MAXIMUM = 255
  MEAN = 98.0392
  MINIMUM = 1
  STANDARD_DEVIATION = 19.1126
END_OBJECT = IMAGE
/* MAP OBJECT DEFINITIONS */
OBJECT = IMAGE_MAP_PROJECTION
  ^DATA_SET_MAP_PROJECTION_CATALOG= "DSMAP.CAT"
  A_AXIS_RADIUS = 3396.0
  B_AXIS_RADIUS = 3396.0
  C_AXIS_RADIUS = 3396.0
  CENTER_LATITUDE = 0.0
  CENTER_LONGITUDE = 27.0
  COORDINATE_SYSTEM_NAME = PLANETOGRAPHIC
  COORDINATE_SYSTEM_TYPE = "BODY-FIXED ROTATING"
  EASTERNMOST_LONGITUDE = 28.3429
  FIRST_STANDARD_PARALLEL = "N/A"
  LINE_FIRST_PIXEL = 1
  LINE_LAST_PIXEL = 51180
  LINE_PROJECTION_OFFSET = -170207.0
  MAP_PROJECTION_ROTATION = 0.0
  MAP_PROJECTION_TYPE = SINUSOIDAL
  MAP_RESOLUTION = 4741.71043093333
  MAP_SCALE = 0.0125
  MAXIMUM_LATITUDE = -35.8953
  MINIMUM_LATITUDE = -46.6894
  POSITIVE_LONGITUDE_DIRECTION = EAST
  REFERENCE_LATITUDE = "N/A"
  REFERENCE_LONGITUDE = "N/A"
  SAMPLE_FIRST_PIXEL = 1
  SAMPLE_LAST_PIXEL = 8181
  SAMPLE_PROJECTION_OFFSET = 3022.0
  SECOND_STANDARD_PARALLEL = "N/A"
  WESTERNMOST_LONGITUDE = 26.0717
END_OBJECT = IMAGE_MAP_PROJECTION
END
