PDS_VERSION_ID = PDS3
/* FILE DATA ELEMENTS */
RECORD_TYPE = UNDEFINED
/* POINTERS TO DATA OBJECTS */
^IMAGE = ("H8564_0000_P24.TIF")
/* IDENTIFICATION DATA ELEMENTS */
DATA_SET_ID = "MEX-M-HRSC-4-REFDR-MAPPROJECT-EXT3-V4.0"
DATA_SET_NAME = "MARS EXPRESS HRSC MAP PROJECTED REFDR EXTENSION3 V4.0"
DETECTOR_ID = MEX_HRSC_P2
EVENT_TYPE = "MARS-REGIONAL-MAPPING-Im"
INSTRUMENT_HOST_ID = MEX
INSTRUMENT_HOST_NAME = "MARS EXPRESS"
INSTRUMENT_ID = HRSC
INSTRUMENT_NAME = "HIGH RESOLUTION STEREO CAMERA"
MISSION_NAME = "MARS EXPRESS"
MISSION_PHASE_NAME = ME_Phase_21
PROCESSING_LEVEL_ID = 4
PRODUCT_CREATION_TIME = 2023-02-03T21:13:30.000Z
PRODUCT_ID = "H8564_0000_P24.TIF"
RELEASE_ID = 0005
REVISION_ID = 0000
/* QUALITY DATA ELEMENTS */
DATA_QUALITY_ID = 1
DATA_QUALITY_DESC = "Data calculated based on original SPICE kernels"
/* TIME DATA ELEMENTS */
SPACECRAFT_CLOCK_START_COUNT = "1/0232334524.08244"
SPACECRAFT_CLOCK_STOP_COUNT = "1/0232334797.16209"
START_TIME = 2010-09-12T01:22:17.534Z
STOP_TIME = 2010-09-12T01:25:19.330Z
/* ORBITAL DATA ELEMENTS */
ASCENDING_NODE_LONGITUDE = 53.73
MAXIMUM_RESOLUTION = 0.0589
FOOTPRINT_POINT_LATITUDE = (-45.7524,-45.7538,-45.7512,-45.7458, -45.7455,-45.7065,-45.3132,-45.0146, -44.8161,-44.4187,-44.2199,-43.8668, -43.6303,-43.3941,-43.1581,-42.804, -42.567,-42.2134,-41.9787,-41.7393, -41.5015,-41.2682,-40.9182,-40.5653, -40.3294,-40.094,-39.8601,-39.6252, -39.2737,-39.0408,-38.8073,-38.4512, -38.2113,-37.9718,-37.7312,-37.4926, -37.2478,-37.003,-36.7578,-36.5127, -36.2641,-36.0137,-35.7633,-35.5132, -35.2599,-35.004,-34.7482,-34.4925, -34.1026,-33.972,-33.8829,-33.8835, -33.8822,-33.8775,-33.8667,-33.8664, -33.8674,-34.1288,-34.3907,-34.6467, -34.903,-35.1595,-35.5409,-35.9172, -36.1682,-36.542,-36.9101,-37.1557, -37.5241,-37.8842,-38.2445,-38.485, -38.7231,-39.0738,-39.3082,-39.5433, -39.7785,-40.0136,-40.2452,-40.593, -40.9447,-41.1801,-41.4158,-41.6518, -41.8918,-42.2518,-42.4874,-42.7237, -42.9601,-43.3152,-43.552,-43.7902, -44.1467,-44.3565,-44.7508,-44.9503, -45.2498,-45.5484,-45.6483,-45.7524)
FOOTPRINT_POINT_LONGITUDE = (335.535,334.838,334.315,333.797, 333.781,333.775,333.79,333.8,333.807, 333.82,333.826,333.836,333.843,333.85, 333.856,333.865,333.871,333.879,333.884 ,333.889,333.893,333.898,333.904,333.91 ,333.914,333.917,333.92,333.923,333.928 ,333.93,333.933,333.936,333.938,333.94, 333.941,333.943,333.944,333.945,333.946 ,333.946,333.947,333.947,333.947, 333.947,333.947,333.947,333.946,333.945 ,333.943,333.943,333.942,334.223, 334.577,335.148,335.834,335.853,335.859 ,335.855,335.85,335.846,335.842,335.837 ,335.83,335.824,335.819,335.812,335.805 ,335.8,335.793,335.785,335.777,335.772, 335.767,335.76,335.755,335.75,335.744, 335.738,335.736,335.733,335.726,335.721 ,335.715,335.709,335.699,335.683, 335.678,335.671,335.665,335.655,335.648 ,335.64,335.628,335.621,335.612,335.605 ,335.594,335.585,335.581,335.535)
ORBIT_NUMBER = 8564
ORBITAL_ECCENTRICITY = 0.578
ORBITAL_INCLINATION = 86.84
ORBITAL_SEMIMAJOR_AXIS = 8780.2
PERIAPSIS_ALTITUDE = 320.85
PERIAPSIS_ARGUMENT_ANGLE = 298.54
PERIAPSIS_TIME = 2010-09-12T01:18:40.000Z
SPACECRAFT_ORIENTATION = (0.0,1.0,0.0)
^MEX_ORIENTATION_DESC = "MEX_ORIENTATION_DESC.TXT"
SPACECRAFT_POINTING_MODE = ACROSSTRACK
^MEX_POINTING_DESC = "MEX_POINTING_DESC.TXT"
RIGHT_ASCENSION = -1e+32
DECLINATION = -1e+32
OFFSET_ANGLE = -0.5
SPACECRAFT_SOLAR_DISTANCE = 2.31199e+08
TARGET_NAME = MARS
/* CAMERA DATA ELEMENTS */
DETECTOR_TEMPERATURE = 18.7783
FOCAL_PLANE_TEMPERATURE = 8.1755
INST_CMPRS_NAME = "DISCRETE COSINE TRANSFORMATION (DCT)"
INST_CMPRS_RATIO = 7.7395
INST_CMPRS_QUALITY = 0
INST_CMPRS_QUANTZ_TBL_ID = 0
INSTRUMENT_TEMPERATURE = 10.8262
LENS_TEMPERATURE = 8.5833
MACROPIXEL_SIZE = 4
MISSING_FRAMES = 0
PIXEL_SUBSAMPLING_FLAG = N
SIGNAL_CHAIN_ID = 3
/* RADIOMETRIC DATA ELEMENTS */
BANDWIDTH = 177.0
CENTER_FILTER_WAVELENGTH = 676.5
RADIANCE_OFFSET = 1.08308
RADIANCE_SCALING_FACTOR = 0.0131402
REFLECTANCE_SCALING_FACTOR = 0.00037242
MEX:REFLECTANCE_OFFSET = 0.0306964
/* IMAGE OBJECT DEFINITIONS */
OBJECT = IMAGE
  INTERCHANGE_FORMAT = BINARY
  LINES = 14060
  LINE_SAMPLES = 1970
  SAMPLE_TYPE = UNSIGNED_INTEGER
  SAMPLE_BITS = 8
  BANDS = 1
  BAND_STORAGE_TYPE = BAND_SEQUENTIAL
  MAXIMUM = 255
  MEAN = 138.251
  MINIMUM = 1
  STANDARD_DEVIATION = 15.4739
END_OBJECT = IMAGE
/* MAP OBJECT DEFINITIONS */
OBJECT = IMAGE_MAP_PROJECTION
  ^DATA_SET_MAP_PROJECTION_CATALOG= "DSMAP.CAT"
  A_AXIS_RADIUS = 3396.0
  B_AXIS_RADIUS = 3396.0
  C_AXIS_RADIUS = 3396.0
  CENTER_LATITUDE = 0.0
  CENTER_LONGITUDE = 335.0
  COORDINATE_SYSTEM_NAME = PLANETOGRAPHIC
  COORDINATE_SYSTEM_TYPE = "BODY-FIXED ROTATING"
  EASTERNMOST_LONGITUDE = 335.859
  FIRST_STANDARD_PARALLEL = "N/A"
  LINE_FIRST_PIXEL = 1
  LINE_LAST_PIXEL = 14060
  LINE_PROJECTION_OFFSET = -40132.625
  MAP_PROJECTION_ROTATION = 0.0
  MAP_PROJECTION_TYPE = SINUSOIDAL
  MAP_RESOLUTION = 1185.42760773333
  MAP_SCALE = 0.05
  MAXIMUM_LATITUDE = -33.8664
  MINIMUM_LATITUDE = -45.7538
  POSITIVE_LONGITUDE_DIRECTION = EAST
  REFERENCE_LATITUDE = "N/A"
  REFERENCE_LONGITUDE = "N/A"
  SAMPLE_FIRST_PIXEL = 1
  SAMPLE_LAST_PIXEL = 1970
  SAMPLE_PROJECTION_OFFSET = 1088.625
  SECOND_STANDARD_PARALLEL = "N/A"
  WESTERNMOST_LONGITUDE = 333.775
END_OBJECT = IMAGE_MAP_PROJECTION
END
