PDS_VERSION_ID = PDS3
/* FILE DATA ELEMENTS */
RECORD_TYPE = UNDEFINED
/* POINTERS TO DATA OBJECTS */
^IMAGE = ("H8564_0000_ND4.TIF")
/* IDENTIFICATION DATA ELEMENTS */
DATA_SET_ID = "MEX-M-HRSC-4-REFDR-MAPPROJECT-EXT3-V4.0"
DATA_SET_NAME = "MARS EXPRESS HRSC MAP PROJECTED REFDR EXTENSION3 V4.0"
DETECTOR_ID = MEX_HRSC_NADIR
EVENT_TYPE = "MARS-REGIONAL-MAPPING-Im"
INSTRUMENT_HOST_ID = MEX
INSTRUMENT_HOST_NAME = "MARS EXPRESS"
INSTRUMENT_ID = HRSC
INSTRUMENT_NAME = "HIGH RESOLUTION STEREO CAMERA"
MISSION_NAME = "MARS EXPRESS"
MISSION_PHASE_NAME = ME_Phase_21
PROCESSING_LEVEL_ID = 4
PRODUCT_CREATION_TIME = 2023-02-03T21:13:30.000Z
PRODUCT_ID = "H8564_0000_ND4.TIF"
RELEASE_ID = 0005
REVISION_ID = 0000
/* QUALITY DATA ELEMENTS */
DATA_QUALITY_ID = 1
DATA_QUALITY_DESC = "Data calculated based on original SPICE kernels"
/* TIME DATA ELEMENTS */
SPACECRAFT_CLOCK_START_COUNT = "1/0232334524.08244"
SPACECRAFT_CLOCK_STOP_COUNT = "1/0232334797.16209"
START_TIME = 2010-09-12T01:22:39.100Z
STOP_TIME = 2010-09-12T01:25:48.101Z
/* ORBITAL DATA ELEMENTS */
ASCENDING_NODE_LONGITUDE = 53.73
MAXIMUM_RESOLUTION = 0.0146
FOOTPRINT_POINT_LATITUDE = (-45.7148,-45.7027,-45.6839,-45.6835, -45.6824,-45.2367,-45.006,-44.7755, -44.5452,-44.3152,-44.0852,-43.8555, -43.626,-43.3968,-43.1677,-42.9388, -42.7101,-42.2534,-41.7976,-41.3426, -40.8887,-40.4355,-40.0933,-39.8614, -39.6297,-39.3983,-39.1671,-38.8135, -38.5769,-38.3407,-38.1047,-37.8645, -37.6231,-37.382,-37.1412,-36.8967, -36.6505,-36.4046,-36.1591,-35.7837, -35.5331,-35.2828,-34.9013,-34.646, -34.3911,-34.0019,-33.872,-33.8543, -33.8597,-33.8621,-33.8626,-33.8615, -33.8614,-33.8616,-34.1222,-34.3823, -34.6378,-34.8936,-35.2764,-35.5272, -35.7784,-36.155,-36.4011,-36.6474, -36.8941,-37.1395,-37.3809,-37.6225, -37.8644,-38.1054,-38.3419,-38.5787, -38.8157,-39.1705,-39.4021,-39.634, -39.8661,-40.0985,-40.3284,-40.7821, -41.2368,-41.6924,-42.0348,-42.2632, -42.4919,-42.7208,-42.9499,-43.1793, -43.4088,-43.6385,-43.8685,-44.0986, -44.329,-44.5595,-44.7902,-45.0212, -45.2523,-45.5993,-45.7015,-45.7148)
FOOTPRINT_POINT_LONGITUDE = (335.553,334.657,333.778,333.761, 333.748,333.764,333.772,333.779,333.786 ,333.793,333.8,333.806,333.813,333.819, 333.825,333.83,333.835,333.845,333.854, 333.862,333.87,333.877,333.881,333.884, 333.886,333.889,333.891,333.894,333.896 ,333.898,333.899,333.9,333.901,333.902, 333.903,333.903,333.904,333.904,333.904 ,333.903,333.903,333.902,333.9,333.899, 333.897,333.895,333.894,333.894,334.479 ,334.95,335.485,335.864,335.884,335.894 ,335.889,335.885,335.88,335.875,335.868 ,335.863,335.858,335.85,335.845,335.84, 335.835,335.829,335.824,335.819,335.813 ,335.808,335.802,335.796,335.792, 335.784,335.778,335.772,335.766,335.762 ,335.758,335.753,335.742,335.729, 335.711,335.703,335.698,335.692,335.685 ,335.678,335.671,335.664,335.655, 335.648,335.639,335.632,335.63,335.618, 335.611,335.599,335.595,335.553)
ORBIT_NUMBER = 8564
ORBITAL_ECCENTRICITY = 0.578
ORBITAL_INCLINATION = 86.84
ORBITAL_SEMIMAJOR_AXIS = 8780.2
PERIAPSIS_ALTITUDE = 320.85
PERIAPSIS_ARGUMENT_ANGLE = 298.54
PERIAPSIS_TIME = 2010-09-12T01:18:40.000Z
SPACECRAFT_ORIENTATION = (0.0,1.0,0.0)
^MEX_ORIENTATION_DESC = "MEX_ORIENTATION_DESC.TXT"
SPACECRAFT_POINTING_MODE = ACROSSTRACK
^MEX_POINTING_DESC = "MEX_POINTING_DESC.TXT"
RIGHT_ASCENSION = -1e+32
DECLINATION = -1e+32
OFFSET_ANGLE = -0.5
SPACECRAFT_SOLAR_DISTANCE = 2.31199e+08
TARGET_NAME = MARS
/* CAMERA DATA ELEMENTS */
DETECTOR_TEMPERATURE = 18.1666
FOCAL_PLANE_TEMPERATURE = 8.1755
INST_CMPRS_NAME = "DISCRETE COSINE TRANSFORMATION (DCT)"
INST_CMPRS_RATIO = 7.01739
INST_CMPRS_QUALITY = 0
INST_CMPRS_QUANTZ_TBL_ID = 0
INSTRUMENT_TEMPERATURE = 10.8262
LENS_TEMPERATURE = 8.5833
MACROPIXEL_SIZE = 1
MISSING_FRAMES = 0
PIXEL_SUBSAMPLING_FLAG = N
SIGNAL_CHAIN_ID = 0
/* RADIOMETRIC DATA ELEMENTS */
BANDWIDTH = 177.0
CENTER_FILTER_WAVELENGTH = 677.5
RADIANCE_OFFSET = 1.13432
RADIANCE_SCALING_FACTOR = 0.0119151
REFLECTANCE_SCALING_FACTOR = 0.000338341
MEX:REFLECTANCE_OFFSET = 0.0322101
/* IMAGE OBJECT DEFINITIONS */
OBJECT = IMAGE
  INTERCHANGE_FORMAT = BINARY
  LINES = 56239
  LINE_SAMPLES = 7877
  SAMPLE_TYPE = UNSIGNED_INTEGER
  SAMPLE_BITS = 8
  BANDS = 1
  BAND_STORAGE_TYPE = BAND_SEQUENTIAL
  MAXIMUM = 255
  MEAN = 135.982
  MINIMUM = 1
  STANDARD_DEVIATION = 15.9226
END_OBJECT = IMAGE
/* MAP OBJECT DEFINITIONS */
OBJECT = IMAGE_MAP_PROJECTION
  ^DATA_SET_MAP_PROJECTION_CATALOG= "DSMAP.CAT"
  A_AXIS_RADIUS = 3396.0
  B_AXIS_RADIUS = 3396.0
  C_AXIS_RADIUS = 3396.0
  CENTER_LATITUDE = 0.0
  CENTER_LONGITUDE = 335.0
  COORDINATE_SYSTEM_NAME = PLANETOGRAPHIC
  COORDINATE_SYSTEM_TYPE = "BODY-FIXED ROTATING"
  EASTERNMOST_LONGITUDE = 335.894
  FIRST_STANDARD_PARALLEL = "N/A"
  LINE_FIRST_PIXEL = 1
  LINE_LAST_PIXEL = 56239
  LINE_PROJECTION_OFFSET = -160529.0
  MAP_PROJECTION_ROTATION = 0.0
  MAP_PROJECTION_TYPE = SINUSOIDAL
  MAP_RESOLUTION = 4741.71043093333
  MAP_SCALE = 0.0125
  MAXIMUM_LATITUDE = -33.8543
  MINIMUM_LATITUDE = -45.7148
  POSITIVE_LONGITUDE_DIRECTION = EAST
  REFERENCE_LATITUDE = "N/A"
  REFERENCE_LONGITUDE = "N/A"
  SAMPLE_FIRST_PIXEL = 1
  SAMPLE_LAST_PIXEL = 7877
  SAMPLE_PROJECTION_OFFSET = 4356.0
  SECOND_STANDARD_PARALLEL = "N/A"
  WESTERNMOST_LONGITUDE = 333.748
END_OBJECT = IMAGE_MAP_PROJECTION
END
