PDS_VERSION_ID = PDS3
/* FILE DATA ELEMENTS */
RECORD_TYPE = UNDEFINED
/* POINTERS TO DATA OBJECTS */
^IMAGE = ("H8564_0000_BL4.TIF")
/* IDENTIFICATION DATA ELEMENTS */
DATA_SET_ID = "MEX-M-HRSC-4-REFDR-MAPPROJECT-EXT3-V4.0"
DATA_SET_NAME = "MARS EXPRESS HRSC MAP PROJECTED REFDR EXTENSION3 V4.0"
DETECTOR_ID = MEX_HRSC_BLUE
EVENT_TYPE = "MARS-REGIONAL-MAPPING-Im"
INSTRUMENT_HOST_ID = MEX
INSTRUMENT_HOST_NAME = "MARS EXPRESS"
INSTRUMENT_ID = HRSC
INSTRUMENT_NAME = "HIGH RESOLUTION STEREO CAMERA"
MISSION_NAME = "MARS EXPRESS"
MISSION_PHASE_NAME = ME_Phase_21
PROCESSING_LEVEL_ID = 4
PRODUCT_CREATION_TIME = 2023-02-03T21:13:30.000Z
PRODUCT_ID = "H8564_0000_BL4.TIF"
RELEASE_ID = 0005
REVISION_ID = 0000
/* QUALITY DATA ELEMENTS */
DATA_QUALITY_ID = 1
DATA_QUALITY_DESC = "Data calculated based on original SPICE kernels"
/* TIME DATA ELEMENTS */
SPACECRAFT_CLOCK_START_COUNT = "1/0232334524.08244"
SPACECRAFT_CLOCK_STOP_COUNT = "1/0232334797.16209"
START_TIME = 2010-09-12T01:22:33.407Z
STOP_TIME = 2010-09-12T01:25:40.458Z
/* ORBITAL DATA ELEMENTS */
ASCENDING_NODE_LONGITUDE = 53.73
MAXIMUM_RESOLUTION = 0.0582
FOOTPRINT_POINT_LATITUDE = (-45.7273,-45.7245,-45.7182,-45.7094, -45.7024,-45.702,-45.6908,-45.3019, -44.965,-44.7327,-44.5006,-44.2687, -44.0367,-43.805,-43.5736,-43.3425, -43.1116,-42.7654,-42.5347,-42.0741, -41.7283,-41.2693,-40.9261,-40.354, -39.897,-39.6653,-39.4312,-39.1976, -38.9644,-38.7313,-38.3736,-38.1349, -37.8964,-37.6579,-37.4153,-37.1715, -36.9281,-36.6848,-36.4372,-36.1883, -35.9401,-35.6921,-35.3121,-35.0588, -34.8059,-34.5486,-34.2904,-34.0325, -33.9037,-33.8604,-33.8631,-33.8652, -33.8654,-33.8647,-33.8621,-33.8619, -33.863,-34.2508,-34.5096,-34.7683, -35.0217,-35.2755,-35.5297,-35.7816, -36.0303,-36.404,-36.653,-36.8967, -37.1407,-37.385,-37.6295,-37.8683, -38.1072,-38.4662,-38.7057,-38.9391, -39.173,-39.4071,-39.6416,-39.9892, -40.4456,-40.9028,-41.3621,-41.8227, -42.0552,-42.286,-42.5165,-42.7474, -42.9786,-43.2099,-43.4414,-43.7894, -44.0216,-44.2539,-44.6026,-44.834, -45.2947,-45.5876,-45.6855,-45.7273)
FOOTPRINT_POINT_LONGITUDE = (335.547,335.193,334.659,334.132, 333.789,333.773,333.765,333.779,333.791 ,333.798,333.806,333.813,333.82,333.826 ,333.832,333.839,333.844,333.853, 333.858,333.868,333.874,333.883,333.889 ,333.898,333.903,333.906,333.909, 333.911,333.914,333.916,333.918,333.92, 333.921,333.922,333.924,333.925,333.925 ,333.926,333.926,333.926,333.926, 333.926,333.925,333.924,333.923,333.922 ,333.921,333.919,333.918,333.918, 334.315,334.77,335.063,335.413,335.858, 335.877,335.883,335.876,335.872,335.867 ,335.863,335.858,335.853,335.848, 335.843,335.835,335.831,335.825,335.82, 335.815,335.81,335.804,335.799,335.791, 335.786,335.781,335.776,335.77,335.764, 335.756,335.75,335.743,335.732,335.718, 335.703,335.696,335.691,335.684,335.678 ,335.671,335.664,335.652,335.644, 335.636,335.625,335.622,335.604,335.594 ,335.59,335.547)
ORBIT_NUMBER = 8564
ORBITAL_ECCENTRICITY = 0.578
ORBITAL_INCLINATION = 86.84
ORBITAL_SEMIMAJOR_AXIS = 8780.2
PERIAPSIS_ALTITUDE = 320.85
PERIAPSIS_ARGUMENT_ANGLE = 298.54
PERIAPSIS_TIME = 2010-09-12T01:18:40.000Z
SPACECRAFT_ORIENTATION = (0.0,1.0,0.0)
^MEX_ORIENTATION_DESC = "MEX_ORIENTATION_DESC.TXT"
SPACECRAFT_POINTING_MODE = ACROSSTRACK
^MEX_POINTING_DESC = "MEX_POINTING_DESC.TXT"
RIGHT_ASCENSION = -1e+32
DECLINATION = -1e+32
OFFSET_ANGLE = -0.5
SPACECRAFT_SOLAR_DISTANCE = 2.31199e+08
TARGET_NAME = MARS
/* CAMERA DATA ELEMENTS */
DETECTOR_TEMPERATURE = 18.1666
FOCAL_PLANE_TEMPERATURE = 8.1755
INST_CMPRS_NAME = "DISCRETE COSINE TRANSFORMATION (DCT)"
INST_CMPRS_RATIO = 7.19716
INST_CMPRS_QUALITY = 0
INST_CMPRS_QUANTZ_TBL_ID = 0
INSTRUMENT_TEMPERATURE = 10.8262
LENS_TEMPERATURE = 8.5833
MACROPIXEL_SIZE = 4
MISSING_FRAMES = 0
PIXEL_SUBSAMPLING_FLAG = N
SIGNAL_CHAIN_ID = 2
/* RADIOMETRIC DATA ELEMENTS */
BANDWIDTH = 76.0
CENTER_FILTER_WAVELENGTH = 444.0
RADIANCE_OFFSET = 0.261333
RADIANCE_SCALING_FACTOR = 0.00309631
REFLECTANCE_SCALING_FACTOR = 0.000170049
MEX:REFLECTANCE_OFFSET = 0.0143523
/* IMAGE OBJECT DEFINITIONS */
OBJECT = IMAGE
  INTERCHANGE_FORMAT = BINARY
  LINES = 14060
  LINE_SAMPLES = 1970
  SAMPLE_TYPE = UNSIGNED_INTEGER
  SAMPLE_BITS = 8
  BANDS = 1
  BAND_STORAGE_TYPE = BAND_SEQUENTIAL
  MAXIMUM = 255
  MEAN = 111.098
  MINIMUM = 1
  STANDARD_DEVIATION = 20.5976
END_OBJECT = IMAGE
/* MAP OBJECT DEFINITIONS */
OBJECT = IMAGE_MAP_PROJECTION
  ^DATA_SET_MAP_PROJECTION_CATALOG= "DSMAP.CAT"
  A_AXIS_RADIUS = 3396.0
  B_AXIS_RADIUS = 3396.0
  C_AXIS_RADIUS = 3396.0
  CENTER_LATITUDE = 0.0
  CENTER_LONGITUDE = 335.0
  COORDINATE_SYSTEM_NAME = PLANETOGRAPHIC
  COORDINATE_SYSTEM_TYPE = "BODY-FIXED ROTATING"
  EASTERNMOST_LONGITUDE = 335.883
  FIRST_STANDARD_PARALLEL = "N/A"
  LINE_FIRST_PIXEL = 1
  LINE_LAST_PIXEL = 14060
  LINE_PROJECTION_OFFSET = -40132.625
  MAP_PROJECTION_ROTATION = 0.0
  MAP_PROJECTION_TYPE = SINUSOIDAL
  MAP_RESOLUTION = 1185.42760773333
  MAP_SCALE = 0.05
  MAXIMUM_LATITUDE = -33.8604
  MINIMUM_LATITUDE = -45.7273
  POSITIVE_LONGITUDE_DIRECTION = EAST
  REFERENCE_LATITUDE = "N/A"
  REFERENCE_LONGITUDE = "N/A"
  SAMPLE_FIRST_PIXEL = 1
  SAMPLE_LAST_PIXEL = 1970
  SAMPLE_PROJECTION_OFFSET = 1088.625
  SECOND_STANDARD_PARALLEL = "N/A"
  WESTERNMOST_LONGITUDE = 333.765
END_OBJECT = IMAGE_MAP_PROJECTION
END
