PDS_VERSION_ID = PDS3
/* FILE DATA ELEMENTS */
RECORD_TYPE = UNDEFINED
/* POINTERS TO DATA OBJECTS */
^IMAGE = ("H8558_0000_IR4.TIF")
/* IDENTIFICATION DATA ELEMENTS */
DATA_SET_ID = "MEX-M-HRSC-4-REFDR-MAPPROJECT-EXT3-V4.0"
DATA_SET_NAME = "MARS EXPRESS HRSC MAP PROJECTED REFDR EXTENSION3 V4.0"
DETECTOR_ID = MEX_HRSC_IR
EVENT_TYPE = "MARS-LOCAL-MAPPING-Vo-Te"
INSTRUMENT_HOST_ID = MEX
INSTRUMENT_HOST_NAME = "MARS EXPRESS"
INSTRUMENT_ID = HRSC
INSTRUMENT_NAME = "HIGH RESOLUTION STEREO CAMERA"
MISSION_NAME = "MARS EXPRESS"
MISSION_PHASE_NAME = ME_Phase_21
PROCESSING_LEVEL_ID = 4
PRODUCT_CREATION_TIME = 2023-02-03T21:13:30.000Z
PRODUCT_ID = "H8558_0000_IR4.TIF"
RELEASE_ID = 0005
REVISION_ID = 0000
/* QUALITY DATA ELEMENTS */
DATA_QUALITY_ID = 1
DATA_QUALITY_DESC = "Data calculated based on original SPICE kernels"
/* TIME DATA ELEMENTS */
SPACECRAFT_CLOCK_START_COUNT = "1/0232183485.07304"
SPACECRAFT_CLOCK_STOP_COUNT = "1/0232183778.44886"
START_TIME = 2010-09-10T07:25:52.569Z
STOP_TIME = 2010-09-10T07:29:29.198Z
/* ORBITAL DATA ELEMENTS */
ASCENDING_NODE_LONGITUDE = 53.84
MAXIMUM_RESOLUTION = 0.0662
FOOTPRINT_POINT_LATITUDE = (-42.255,-42.2299,-42.2091,-42.1868, -42.1861,-42.2188,-41.7691,-41.322, -40.7506,-40.2972,-39.837,-39.3738, -39.1415,-38.9045,-38.6691,-38.3159, -38.0768,-37.8359,-37.5961,-37.3563, -36.9897,-36.7455,-36.5019,-36.2538, -36.0052,-35.7572,-35.3784,-35.1258, -34.8744,-34.6187,-34.236,-33.9789, -33.7186,-33.459,-33.1968,-32.9329, -32.6667,-32.3987,-32.1309,-31.8647, -31.5938,-31.3232,-31.048,-30.7735, -30.496,-30.2154,-29.9366,-29.7947, -29.7353,-29.7484,-29.7549,-29.7615, -29.7663,-29.7716,-29.7763,-29.7766, -29.7779,-30.0614,-30.4801,-30.7592, -31.0344,-31.4468,-31.7181,-32.1245, -32.3922,-32.7931,-33.0573,-33.4537, -33.7135,-33.9741,-34.2334,-34.4894, -34.7463,-35.0014,-35.2539,-35.5068, -35.883,-36.1311,-36.3798,-36.7474, -36.9918,-37.2332,-37.4763,-37.7181, -37.9608,-38.2024,-38.4416,-38.6812, -38.9177,-39.1549,-39.5051,-39.7373, -39.97,-40.2025,-40.6583,-41.1106, -41.6749,-42.124,-42.2357,-42.255)
FOOTPRINT_POINT_LONGITUDE = (229.854,229.106,228.55,228.002,227.985 ,227.983,227.988,227.993,227.998, 228.001,228.003,228.005,228.006,228.006 ,228.006,228.006,228.006,228.005, 228.005,228.004,228.002,228.001,228.0, 227.998,227.996,227.994,227.991,227.988 ,227.985,227.983,227.978,227.974, 227.971,227.967,227.963,227.959,227.954 ,227.949,227.945,227.939,227.934, 227.928,227.923,227.917,227.91,227.904, 227.897,227.894,227.892,228.461,228.79, 229.141,229.412,229.748,230.085,230.107 ,230.114,230.109,230.103,230.099, 230.094,230.088,230.084,230.077,230.073 ,230.066,230.062,230.056,230.051, 230.047,230.043,230.038,230.034,230.03, 230.026,230.021,230.015,230.01,230.005, 229.997,229.993,229.985,229.98,229.977, 229.975,229.97,229.967,229.966,229.961, 229.957,229.95,229.945,229.941,229.935, 229.924,229.91,229.897,229.889,229.885, 229.854)
ORBIT_NUMBER = 8558
ORBITAL_ECCENTRICITY = 0.579
ORBITAL_INCLINATION = 86.84
ORBITAL_SEMIMAJOR_AXIS = 8782.21
PERIAPSIS_ALTITUDE = 320.22
PERIAPSIS_ARGUMENT_ANGLE = 299.55
PERIAPSIS_TIME = 2010-09-10T07:20:45.000Z
SPACECRAFT_ORIENTATION = (0.0,1.0,0.0)
^MEX_ORIENTATION_DESC = "MEX_ORIENTATION_DESC.TXT"
SPACECRAFT_POINTING_MODE = ACROSSTRACK
^MEX_POINTING_DESC = "MEX_POINTING_DESC.TXT"
RIGHT_ASCENSION = -1e+32
DECLINATION = -1e+32
OFFSET_ANGLE = -0.8
SPACECRAFT_SOLAR_DISTANCE = 2.3153e+08
TARGET_NAME = MARS
/* CAMERA DATA ELEMENTS */
DETECTOR_TEMPERATURE = 17.351
FOCAL_PLANE_TEMPERATURE = 8.3794
INST_CMPRS_NAME = "DISCRETE COSINE TRANSFORMATION (DCT)"
INST_CMPRS_RATIO = 5.58058
INST_CMPRS_QUALITY = 0
INST_CMPRS_QUANTZ_TBL_ID = 0
INSTRUMENT_TEMPERATURE = 11.0301
LENS_TEMPERATURE = 8.7872
MACROPIXEL_SIZE = 4
MISSING_FRAMES = 0
PIXEL_SUBSAMPLING_FLAG = N
SIGNAL_CHAIN_ID = 2
/* RADIOMETRIC DATA ELEMENTS */
BANDWIDTH = 81.0
CENTER_FILTER_WAVELENGTH = 955.5
RADIANCE_OFFSET = 0.175732
RADIANCE_SCALING_FACTOR = 0.00616786
REFLECTANCE_SCALING_FACTOR = 0.000713305
MEX:REFLECTANCE_OFFSET = 0.0203232
/* IMAGE OBJECT DEFINITIONS */
OBJECT = IMAGE
  INTERCHANGE_FORMAT = BINARY
  LINES = 14820
  LINE_SAMPLES = 2125
  SAMPLE_TYPE = UNSIGNED_INTEGER
  SAMPLE_BITS = 8
  BANDS = 1
  BAND_STORAGE_TYPE = BAND_SEQUENTIAL
  MAXIMUM = 255
  MEAN = 106.087
  MINIMUM = 1
  STANDARD_DEVIATION = 33.6225
END_OBJECT = IMAGE
/* MAP OBJECT DEFINITIONS */
OBJECT = IMAGE_MAP_PROJECTION
  ^DATA_SET_MAP_PROJECTION_CATALOG= "DSMAP.CAT"
  A_AXIS_RADIUS = 3396.0
  B_AXIS_RADIUS = 3396.0
  C_AXIS_RADIUS = 3396.0
  CENTER_LATITUDE = 0.0
  CENTER_LONGITUDE = 229.0
  COORDINATE_SYSTEM_NAME = PLANETOGRAPHIC
  COORDINATE_SYSTEM_TYPE = "BODY-FIXED ROTATING"
  EASTERNMOST_LONGITUDE = 230.114
  FIRST_STANDARD_PARALLEL = "N/A"
  LINE_FIRST_PIXEL = 1
  LINE_LAST_PIXEL = 14820
  LINE_PROJECTION_OFFSET = -35303.375
  MAP_PROJECTION_ROTATION = 0.0
  MAP_PROJECTION_TYPE = SINUSOIDAL
  MAP_RESOLUTION = 1185.42760773333
  MAP_SCALE = 0.05
  MAXIMUM_LATITUDE = -29.7353
  MINIMUM_LATITUDE = -42.255
  POSITIVE_LONGITUDE_DIRECTION = EAST
  REFERENCE_LATITUDE = "N/A"
  REFERENCE_LONGITUDE = "N/A"
  SAMPLE_FIRST_PIXEL = 1
  SAMPLE_LAST_PIXEL = 2125
  SAMPLE_PROJECTION_OFFSET = 1076.375
  SECOND_STANDARD_PARALLEL = "N/A"
  WESTERNMOST_LONGITUDE = 227.892
END_OBJECT = IMAGE_MAP_PROJECTION
END
