PDS_VERSION_ID = PDS3
/* FILE DATA ELEMENTS */
RECORD_TYPE = UNDEFINED
/* POINTERS TO DATA OBJECTS */
^IMAGE = ("H8557_0000_P24.TIF")
/* IDENTIFICATION DATA ELEMENTS */
DATA_SET_ID = "MEX-M-HRSC-4-REFDR-MAPPROJECT-EXT3-V4.0"
DATA_SET_NAME = "MARS EXPRESS HRSC MAP PROJECTED REFDR EXTENSION3 V4.0"
DETECTOR_ID = MEX_HRSC_P2
EVENT_TYPE = "MARS-REGIONAL-MAPPING-Im-Pf"
INSTRUMENT_HOST_ID = MEX
INSTRUMENT_HOST_NAME = "MARS EXPRESS"
INSTRUMENT_ID = HRSC
INSTRUMENT_NAME = "HIGH RESOLUTION STEREO CAMERA"
MISSION_NAME = "MARS EXPRESS"
MISSION_PHASE_NAME = ME_Phase_21
PROCESSING_LEVEL_ID = 4
PRODUCT_CREATION_TIME = 2023-02-03T21:13:30.000Z
PRODUCT_ID = "H8557_0000_P24.TIF"
RELEASE_ID = 0005
REVISION_ID = 0000
/* QUALITY DATA ELEMENTS */
DATA_QUALITY_ID = 1
DATA_QUALITY_DESC = "Data calculated based on original SPICE kernels"
/* TIME DATA ELEMENTS */
SPACECRAFT_CLOCK_START_COUNT = "1/0232158110.09133"
SPACECRAFT_CLOCK_STOP_COUNT = "1/0232158310.10295"
START_TIME = 2010-09-10T00:22:02.469Z
STOP_TIME = 2010-09-10T00:24:16.489Z
/* ORBITAL DATA ELEMENTS */
ASCENDING_NODE_LONGITUDE = 53.86
MAXIMUM_RESOLUTION = 0.0264
FOOTPRINT_POINT_LATITUDE = (-55.4774,-55.4609,-55.4321,-55.4092, -55.4084,-55.35,-55.0932,-54.8372, -54.4988,-54.2393,-54.0677,-53.8984, -53.6435,-53.3835,-53.2128,-53.0415, -52.87,-52.6948,-52.5183,-52.2544, -52.0758,-51.8981,-51.7219,-51.5471, -51.3688,-51.102,-50.8351,-50.6572, -50.4798,-50.3019,-50.0353,-49.7694, -49.592,-49.4151,-49.2412,-48.9791, -48.7051,-48.5203,-48.2435,-48.0598, -47.8765,-47.6927,-47.5093,-47.2345, -47.0513,-46.7765,-46.5933,-46.5037, -46.501,-46.5167,-46.5277,-46.5378, -46.5464,-46.5466,-46.5471,-46.7309, -47.0064,-47.1902,-47.3745,-47.6514, -47.8361,-48.0218,-48.2056,-48.392, -48.67,-48.8553,-49.0367,-49.2959, -49.4701,-49.647,-49.9136,-50.0925, -50.2697,-50.5353,-50.7128,-50.8906, -51.0684,-51.2474,-51.5142,-51.6917, -51.8692,-52.0489,-52.2313,-52.5022, -52.6753,-52.9314,-53.1041,-53.2752, -53.4477,-53.622,-53.7937,-53.9671, -54.3042,-54.4745,-54.6461,-54.8192, -55.0771,-55.335,-55.4202,-55.4774)
FOOTPRINT_POINT_LONGITUDE = (330.14,329.587,328.795,328.262,328.243 ,328.201,328.234,328.267,328.313, 328.342,328.362,328.383,328.414,328.441 ,328.461,328.479,328.498,328.513, 328.528,328.55,328.567,328.584,328.602, 328.621,328.637,328.661,328.685,328.7, 328.715,328.73,328.752,328.774,328.788, 328.803,328.818,328.841,328.861,328.873 ,328.892,328.904,328.916,328.928,328.94 ,328.958,328.969,328.986,328.997, 329.003,329.003,329.501,329.878,330.222 ,330.756,330.773,330.779,330.77,330.756 ,330.747,330.737,330.722,330.711,330.7, 330.69,330.678,330.661,330.65,330.64, 330.63,330.623,330.613,330.597,330.586, 330.576,330.56,330.549,330.538,330.527, 330.514,330.497,330.485,330.474,330.46, 330.444,330.417,330.404,330.386,330.373 ,330.361,330.348,330.332,330.319, 330.304,330.283,330.27,330.256,330.241, 330.219,330.197,330.19,330.14)
ORBIT_NUMBER = 8557
ORBITAL_ECCENTRICITY = 0.578
ORBITAL_INCLINATION = 86.84
ORBITAL_SEMIMAJOR_AXIS = 8781.7
PERIAPSIS_ALTITUDE = 321.0
PERIAPSIS_ARGUMENT_ANGLE = 299.74
PERIAPSIS_TIME = 2010-09-10T00:21:10.000Z
SPACECRAFT_ORIENTATION = (0.0,1.0,0.0)
^MEX_ORIENTATION_DESC = "MEX_ORIENTATION_DESC.TXT"
SPACECRAFT_POINTING_MODE = NADIR
^MEX_POINTING_DESC = "MEX_POINTING_DESC.TXT"
RIGHT_ASCENSION = -1e+32
DECLINATION = -1e+32
OFFSET_ANGLE = -1e+32
SPACECRAFT_SOLAR_DISTANCE = 2.31585e+08
TARGET_NAME = MARS
/* CAMERA DATA ELEMENTS */
DETECTOR_TEMPERATURE = 18.1666
FOCAL_PLANE_TEMPERATURE = 7.9716
INST_CMPRS_NAME = "DISCRETE COSINE TRANSFORMATION (DCT)"
INST_CMPRS_RATIO = 6.14054
INST_CMPRS_QUALITY = 0
INST_CMPRS_QUANTZ_TBL_ID = 0
INSTRUMENT_TEMPERATURE = 11.234
LENS_TEMPERATURE = 8.3794
MACROPIXEL_SIZE = 2
MISSING_FRAMES = 0
PIXEL_SUBSAMPLING_FLAG = N
SIGNAL_CHAIN_ID = 3
/* RADIOMETRIC DATA ELEMENTS */
BANDWIDTH = 177.0
CENTER_FILTER_WAVELENGTH = 676.5
RADIANCE_OFFSET = 1.01281
RADIANCE_SCALING_FACTOR = 0.0151149
REFLECTANCE_SCALING_FACTOR = 0.000429816
MEX:REFLECTANCE_OFFSET = 0.0288008
/* IMAGE OBJECT DEFINITIONS */
OBJECT = IMAGE
  INTERCHANGE_FORMAT = BINARY
  LINES = 21173
  LINE_SAMPLES = 3726
  SAMPLE_TYPE = UNSIGNED_INTEGER
  SAMPLE_BITS = 8
  BANDS = 1
  BAND_STORAGE_TYPE = BAND_SEQUENTIAL
  MAXIMUM = 255
  MEAN = 152.467
  MINIMUM = 1
  STANDARD_DEVIATION = 36.9573
END_OBJECT = IMAGE
/* MAP OBJECT DEFINITIONS */
OBJECT = IMAGE_MAP_PROJECTION
  ^DATA_SET_MAP_PROJECTION_CATALOG= "DSMAP.CAT"
  A_AXIS_RADIUS = 3396.0
  B_AXIS_RADIUS = 3396.0
  C_AXIS_RADIUS = 3396.0
  CENTER_LATITUDE = 0.0
  CENTER_LONGITUDE = 330.0
  COORDINATE_SYSTEM_NAME = PLANETOGRAPHIC
  COORDINATE_SYSTEM_TYPE = "BODY-FIXED ROTATING"
  EASTERNMOST_LONGITUDE = 330.779
  FIRST_STANDARD_PARALLEL = "N/A"
  LINE_FIRST_PIXEL = 1
  LINE_LAST_PIXEL = 21173
  LINE_PROJECTION_OFFSET = -110231.25
  MAP_PROJECTION_ROTATION = 0.0
  MAP_PROJECTION_TYPE = SINUSOIDAL
  MAP_RESOLUTION = 2370.85521546667
  MAP_SCALE = 0.025
  MAXIMUM_LATITUDE = -46.501
  MINIMUM_LATITUDE = -55.4774
  POSITIVE_LONGITUDE_DIRECTION = EAST
  REFERENCE_LATITUDE = "N/A"
  REFERENCE_LONGITUDE = "N/A"
  SAMPLE_FIRST_PIXEL = 1
  SAMPLE_LAST_PIXEL = 3726
  SAMPLE_PROJECTION_OFFSET = 2429.75
  SECOND_STANDARD_PARALLEL = "N/A"
  WESTERNMOST_LONGITUDE = 328.201
END_OBJECT = IMAGE_MAP_PROJECTION
END
