PDS_VERSION_ID = PDS3
/* FILE DATA ELEMENTS */
RECORD_TYPE = UNDEFINED
/* POINTERS TO DATA OBJECTS */
^IMAGE = ("H8551_0000_S24.TIF")
/* IDENTIFICATION DATA ELEMENTS */
DATA_SET_ID = "MEX-M-HRSC-4-REFDR-MAPPROJECT-EXT3-V4.0"
DATA_SET_NAME = "MARS EXPRESS HRSC MAP PROJECTED REFDR EXTENSION3 V4.0"
DETECTOR_ID = MEX_HRSC_S2
EVENT_TYPE = "MARS-REGIONAL-MAPPING-Vo"
INSTRUMENT_HOST_ID = MEX
INSTRUMENT_HOST_NAME = "MARS EXPRESS"
INSTRUMENT_ID = HRSC
INSTRUMENT_NAME = "HIGH RESOLUTION STEREO CAMERA"
MISSION_NAME = "MARS EXPRESS"
MISSION_PHASE_NAME = ME_Phase_21
PROCESSING_LEVEL_ID = 4
PRODUCT_CREATION_TIME = 2023-02-03T21:13:30.000Z
PRODUCT_ID = "H8551_0000_S24.TIF"
RELEASE_ID = 0005
REVISION_ID = 0000
/* QUALITY DATA ELEMENTS */
DATA_QUALITY_ID = 1
DATA_QUALITY_DESC = "Data calculated based on original SPICE kernels"
/* TIME DATA ELEMENTS */
SPACECRAFT_CLOCK_START_COUNT = "1/0232007410.09057"
SPACECRAFT_CLOCK_STOP_COUNT = "1/0232007696.56112"
START_TIME = 2010-09-08T06:30:12.763Z
STOP_TIME = 2010-09-08T06:32:40.400Z
/* ORBITAL DATA ELEMENTS */
ASCENDING_NODE_LONGITUDE = 53.97
MAXIMUM_RESOLUTION = 0.0394
FOOTPRINT_POINT_LATITUDE = (-29.6656,-29.6774,-29.6846,-29.6907, -29.6956,-29.6995,-29.7023,-29.7025, -29.6851,-29.3467,-29.0875,-28.7416, -28.3068,-27.9539,-27.6017,-27.4217, -27.1517,-26.7926,-26.6098,-26.4267, -26.1523,-25.9694,-25.783,-25.5033, -25.3174,-25.1309,-24.9407,-24.7509, -24.5613,-24.3708,-24.1776,-23.9845, -23.7921,-23.5975,-23.4009,-23.2044, -23.0084,-22.8098,-22.6102,-22.311, -22.1091,-21.9063,-21.602,-21.3964, -21.0877,-20.8819,-20.6729,-20.3593, -20.2549,-20.2505,-20.2428,-20.2356, -20.227,-20.2171,-20.2055,-20.1924, -20.1915,-20.1919,-20.4015,-20.6108, -20.9243,-21.1305,-21.3371,-21.5429, -21.7463,-21.9495,-22.2539,-22.4536, -22.6538,-22.9529,-23.1495,-23.3463, -23.6416,-23.8351,-24.0287,-24.222, -24.4148,-24.6049,-24.7951,-24.9854, -25.1743,-25.3611,-25.548,-25.7348, -26.0138,-26.1971,-26.3807,-26.5643, -26.7473,-27.107,-27.2872,-27.5576, -27.8219,-28.1754,-28.4404,-28.9601, -29.3068,-29.5652,-29.6526,-29.6656)
FOOTPRINT_POINT_LONGITUDE = (225.58,225.176,224.885,224.595,224.307 ,224.02,223.734,223.716,223.708,223.704 ,223.7,223.695,223.688,223.682,223.676, 223.673,223.668,223.661,223.657,223.653 ,223.648,223.644,223.64,223.633,223.629 ,223.625,223.62,223.616,223.611,223.606 ,223.601,223.596,223.592,223.586, 223.581,223.576,223.57,223.565,223.559, 223.55,223.544,223.538,223.529,223.522, 223.513,223.506,223.499,223.489,223.485 ,223.485,223.945,224.281,224.619, 224.957,225.298,225.64,225.661,225.669, 225.667,225.666,225.664,225.663,225.661 ,225.66,225.659,225.657,225.655,225.654 ,225.652,225.65,225.648,225.647,225.645 ,225.643,225.641,225.64,225.638,225.637 ,225.635,225.634,225.632,225.63,225.629 ,225.627,225.625,225.623,225.621,225.62 ,225.618,225.615,225.613,225.61,225.608 ,225.604,225.602,225.596,225.592, 225.587,225.585,225.58)
ORBIT_NUMBER = 8551
ORBITAL_ECCENTRICITY = 0.579
ORBITAL_INCLINATION = 86.84
ORBITAL_SEMIMAJOR_AXIS = 8783.81
PERIAPSIS_ALTITUDE = 320.39
PERIAPSIS_ARGUMENT_ANGLE = 300.75
PERIAPSIS_TIME = 2010-09-08T06:23:17.000Z
SPACECRAFT_ORIENTATION = (0.0,1.0,0.0)
^MEX_ORIENTATION_DESC = "MEX_ORIENTATION_DESC.TXT"
SPACECRAFT_POINTING_MODE = ACROSSTRACK
^MEX_POINTING_DESC = "MEX_POINTING_DESC.TXT"
RIGHT_ASCENSION = -1e+32
DECLINATION = -1e+32
OFFSET_ANGLE = -0.5
SPACECRAFT_SOLAR_DISTANCE = 2.31914e+08
TARGET_NAME = MARS
/* CAMERA DATA ELEMENTS */
DETECTOR_TEMPERATURE = 18.3705
FOCAL_PLANE_TEMPERATURE = 7.7677
INST_CMPRS_NAME = "DISCRETE COSINE TRANSFORMATION (DCT)"
INST_CMPRS_RATIO = 9.19695
INST_CMPRS_QUALITY = 0
INST_CMPRS_QUANTZ_TBL_ID = 0
INSTRUMENT_TEMPERATURE = 10.8262
LENS_TEMPERATURE = 7.7677
MACROPIXEL_SIZE = 2
MISSING_FRAMES = 0
PIXEL_SUBSAMPLING_FLAG = N
SIGNAL_CHAIN_ID = 1
/* RADIOMETRIC DATA ELEMENTS */
BANDWIDTH = 178.0
CENTER_FILTER_WAVELENGTH = 679.0
RADIANCE_OFFSET = 1.53949
RADIANCE_SCALING_FACTOR = 0.0325081
REFLECTANCE_SCALING_FACTOR = 0.000925921
MEX:REFLECTANCE_OFFSET = 0.043849
/* IMAGE OBJECT DEFINITIONS */
OBJECT = IMAGE
  INTERCHANGE_FORMAT = BINARY
  LINES = 11226
  LINE_SAMPLES = 2640
  SAMPLE_TYPE = UNSIGNED_INTEGER
  SAMPLE_BITS = 8
  BANDS = 1
  BAND_STORAGE_TYPE = BAND_SEQUENTIAL
  MAXIMUM = 255
  MEAN = 124.594
  MINIMUM = 1
  STANDARD_DEVIATION = 29.6794
END_OBJECT = IMAGE
/* MAP OBJECT DEFINITIONS */
OBJECT = IMAGE_MAP_PROJECTION
  ^DATA_SET_MAP_PROJECTION_CATALOG= "DSMAP.CAT"
  A_AXIS_RADIUS = 3396.0
  B_AXIS_RADIUS = 3396.0
  C_AXIS_RADIUS = 3396.0
  CENTER_LATITUDE = 0.0
  CENTER_LONGITUDE = 225.0
  COORDINATE_SYSTEM_NAME = PLANETOGRAPHIC
  COORDINATE_SYSTEM_TYPE = "BODY-FIXED ROTATING"
  EASTERNMOST_LONGITUDE = 225.669
  FIRST_STANDARD_PARALLEL = "N/A"
  LINE_FIRST_PIXEL = 1
  LINE_LAST_PIXEL = 11226
  LINE_PROJECTION_OFFSET = -23936.75
  MAP_PROJECTION_ROTATION = 0.0
  MAP_PROJECTION_TYPE = SINUSOIDAL
  MAP_RESOLUTION = 1185.42760773333
  MAP_SCALE = 0.05
  MAXIMUM_LATITUDE = -20.1915
  MINIMUM_LATITUDE = -29.7025
  POSITIVE_LONGITUDE_DIRECTION = EAST
  REFERENCE_LATITUDE = "N/A"
  REFERENCE_LONGITUDE = "N/A"
  SAMPLE_FIRST_PIXEL = 1
  SAMPLE_LAST_PIXEL = 2640
  SAMPLE_PROJECTION_OFFSET = 1804.25
  SECOND_STANDARD_PARALLEL = "N/A"
  WESTERNMOST_LONGITUDE = 223.485
END_OBJECT = IMAGE_MAP_PROJECTION
END
