PDS_VERSION_ID = PDS3
/* FILE DATA ELEMENTS */
RECORD_TYPE = UNDEFINED
/* POINTERS TO DATA OBJECTS */
^IMAGE = ("H8551_0000_GR4.TIF")
/* IDENTIFICATION DATA ELEMENTS */
DATA_SET_ID = "MEX-M-HRSC-4-REFDR-MAPPROJECT-EXT3-V4.0"
DATA_SET_NAME = "MARS EXPRESS HRSC MAP PROJECTED REFDR EXTENSION3 V4.0"
DETECTOR_ID = MEX_HRSC_GREEN
EVENT_TYPE = "MARS-REGIONAL-MAPPING-Vo"
INSTRUMENT_HOST_ID = MEX
INSTRUMENT_HOST_NAME = "MARS EXPRESS"
INSTRUMENT_ID = HRSC
INSTRUMENT_NAME = "HIGH RESOLUTION STEREO CAMERA"
MISSION_NAME = "MARS EXPRESS"
MISSION_PHASE_NAME = ME_Phase_21
PROCESSING_LEVEL_ID = 4
PRODUCT_CREATION_TIME = 2023-02-03T21:13:30.000Z
PRODUCT_ID = "H8551_0000_GR4.TIF"
RELEASE_ID = 0005
REVISION_ID = 0000
/* QUALITY DATA ELEMENTS */
DATA_QUALITY_ID = 1
DATA_QUALITY_DESC = "Data calculated based on original SPICE kernels"
/* TIME DATA ELEMENTS */
SPACECRAFT_CLOCK_START_COUNT = "1/0232007410.09057"
SPACECRAFT_CLOCK_STOP_COUNT = "1/0232007696.56112"
START_TIME = 2010-09-08T06:31:06.207Z
STOP_TIME = 2010-09-08T06:33:52.060Z
/* ORBITAL DATA ELEMENTS */
ASCENDING_NODE_LONGITUDE = 53.97
MAXIMUM_RESOLUTION = 0.0802
FOOTPRINT_POINT_LATITUDE = (-29.6369,-29.6379,-29.638,-29.6375, -29.6364,-29.6346,-29.6315,-29.6313, -29.6326,-29.1241,-28.7828,-28.3515, -28.005,-27.6531,-27.2122,-27.0334, -26.8548,-26.6765,-26.4051,-26.224, -26.0431,-25.7679,-25.5842,-25.4007, -25.2145,-25.0283,-24.8424,-24.5601, -24.3715,-24.1831,-23.9918,-23.8006, -23.5127,-23.319,-23.1256,-22.9301, -22.734,-22.5382,-22.3397,-22.0423, -21.742,-21.5413,-21.3389,-21.1357, -20.9328,-20.7273,-20.4192,-20.3151, -20.2185,-20.2165,-20.2143,-20.2116, -20.2068,-20.2039,-20.1994,-20.1961, -20.1958,-20.1971,-20.406,-20.7151, -20.9211,-21.1247,-21.3287,-21.5316, -21.733,-21.9347,-22.1337,-22.3327, -22.5317,-22.7282,-22.9249,-23.1209, -23.315,-23.5093,-23.798,-23.9898, -24.1816,-24.3705,-24.5598,-24.8427, -25.0293,-25.2161,-25.4027,-25.5866, -25.7708,-26.0466,-26.228,-26.4096, -26.6817,-26.8605,-27.1292,-27.3084, -27.6611,-28.0138,-28.3611,-28.7079, -29.0499,-29.4766,-29.5602,-29.6369)
FOOTPRINT_POINT_LONGITUDE = (225.642,225.245,224.944,224.645, 224.347,224.051,223.663,223.645,223.638 ,223.629,223.623,223.614,223.607, 223.599,223.589,223.585,223.581,223.577 ,223.57,223.565,223.561,223.553,223.548 ,223.543,223.538,223.533,223.528, 223.519,223.514,223.508,223.502,223.496 ,223.487,223.481,223.475,223.468, 223.462,223.455,223.448,223.438,223.427 ,223.42,223.412,223.405,223.397,223.389 ,223.377,223.373,223.369,223.79,224.124 ,224.458,224.929,225.176,225.515, 225.742,225.764,225.772,225.769,225.766 ,225.763,225.761,225.759,225.756, 225.754,225.751,225.749,225.747,225.744 ,225.742,225.74,225.737,225.735,225.732 ,225.729,225.726,225.724,225.722, 225.719,225.716,225.713,225.711,225.708 ,225.706,225.704,225.7,225.697,225.695, 225.691,225.689,225.686,225.683,225.679 ,225.674,225.669,225.664,225.659, 225.651,225.648,225.642)
ORBIT_NUMBER = 8551
ORBITAL_ECCENTRICITY = 0.579
ORBITAL_INCLINATION = 86.84
ORBITAL_SEMIMAJOR_AXIS = 8783.81
PERIAPSIS_ALTITUDE = 320.39
PERIAPSIS_ARGUMENT_ANGLE = 300.75
PERIAPSIS_TIME = 2010-09-08T06:23:17.000Z
SPACECRAFT_ORIENTATION = (0.0,1.0,0.0)
^MEX_ORIENTATION_DESC = "MEX_ORIENTATION_DESC.TXT"
SPACECRAFT_POINTING_MODE = ACROSSTRACK
^MEX_POINTING_DESC = "MEX_POINTING_DESC.TXT"
RIGHT_ASCENSION = -1e+32
DECLINATION = -1e+32
OFFSET_ANGLE = -0.5
SPACECRAFT_SOLAR_DISTANCE = 2.31914e+08
TARGET_NAME = MARS
/* CAMERA DATA ELEMENTS */
DETECTOR_TEMPERATURE = 18.1666
FOCAL_PLANE_TEMPERATURE = 7.7677
INST_CMPRS_NAME = "DISCRETE COSINE TRANSFORMATION (DCT)"
INST_CMPRS_RATIO = 11.6228
INST_CMPRS_QUALITY = 0
INST_CMPRS_QUANTZ_TBL_ID = 0
INSTRUMENT_TEMPERATURE = 10.8262
LENS_TEMPERATURE = 7.7677
MACROPIXEL_SIZE = 4
MISSING_FRAMES = 0
PIXEL_SUBSAMPLING_FLAG = N
SIGNAL_CHAIN_ID = 2
/* RADIOMETRIC DATA ELEMENTS */
BANDWIDTH = 88.0
CENTER_FILTER_WAVELENGTH = 538.0
RADIANCE_OFFSET = 0.539628
RADIANCE_SCALING_FACTOR = 0.00917015
REFLECTANCE_SCALING_FACTOR = 0.000424637
MEX:REFLECTANCE_OFFSET = 0.0249882
/* IMAGE OBJECT DEFINITIONS */
OBJECT = IMAGE
  INTERCHANGE_FORMAT = BINARY
  LINES = 5613
  LINE_SAMPLES = 1320
  SAMPLE_TYPE = UNSIGNED_INTEGER
  SAMPLE_BITS = 8
  BANDS = 1
  BAND_STORAGE_TYPE = BAND_SEQUENTIAL
  MAXIMUM = 255
  MEAN = 130.95
  MINIMUM = 1
  STANDARD_DEVIATION = 24.2381
END_OBJECT = IMAGE
/* MAP OBJECT DEFINITIONS */
OBJECT = IMAGE_MAP_PROJECTION
  ^DATA_SET_MAP_PROJECTION_CATALOG= "DSMAP.CAT"
  A_AXIS_RADIUS = 3396.0
  B_AXIS_RADIUS = 3396.0
  C_AXIS_RADIUS = 3396.0
  CENTER_LATITUDE = 0.0
  CENTER_LONGITUDE = 225.0
  COORDINATE_SYSTEM_NAME = PLANETOGRAPHIC
  COORDINATE_SYSTEM_TYPE = "BODY-FIXED ROTATING"
  EASTERNMOST_LONGITUDE = 225.772
  FIRST_STANDARD_PARALLEL = "N/A"
  LINE_FIRST_PIXEL = 1
  LINE_LAST_PIXEL = 5613
  LINE_PROJECTION_OFFSET = -11968.625
  MAP_PROJECTION_ROTATION = 0.0
  MAP_PROJECTION_TYPE = SINUSOIDAL
  MAP_RESOLUTION = 592.713803866667
  MAP_SCALE = 0.1
  MAXIMUM_LATITUDE = -20.1958
  MINIMUM_LATITUDE = -29.638
  POSITIVE_LONGITUDE_DIRECTION = EAST
  REFERENCE_LATITUDE = "N/A"
  REFERENCE_LONGITUDE = "N/A"
  SAMPLE_FIRST_PIXEL = 1
  SAMPLE_LAST_PIXEL = 1320
  SAMPLE_PROJECTION_OFFSET = 901.875
  SECOND_STANDARD_PARALLEL = "N/A"
  WESTERNMOST_LONGITUDE = 223.369
END_OBJECT = IMAGE_MAP_PROJECTION
END
