PDS_VERSION_ID = PDS3
/* FILE DATA ELEMENTS */
RECORD_TYPE = UNDEFINED
/* POINTERS TO DATA OBJECTS */
^IMAGE = ("H8542_0000_RE4.TIF")
/* IDENTIFICATION DATA ELEMENTS */
DATA_SET_ID = "MEX-M-HRSC-4-REFDR-MAPPROJECT-EXT3-V4.0"
DATA_SET_NAME = "MARS EXPRESS HRSC MAP PROJECTED REFDR EXTENSION3 V4.0"
DETECTOR_ID = MEX_HRSC_RED
EVENT_TYPE = "MARS-REGIONAL-MAPPING-Im-Lc-La"
INSTRUMENT_HOST_ID = MEX
INSTRUMENT_HOST_NAME = "MARS EXPRESS"
INSTRUMENT_ID = HRSC
INSTRUMENT_NAME = "HIGH RESOLUTION STEREO CAMERA"
MISSION_NAME = "MARS EXPRESS"
MISSION_PHASE_NAME = ME_Phase_21
PROCESSING_LEVEL_ID = 4
PRODUCT_CREATION_TIME = 2023-02-03T21:13:30.000Z
PRODUCT_ID = "H8542_0000_RE4.TIF"
RELEASE_ID = 0005
REVISION_ID = 0000
/* QUALITY DATA ELEMENTS */
DATA_QUALITY_ID = 1
DATA_QUALITY_DESC = "Data calculated based on original SPICE kernels"
/* TIME DATA ELEMENTS */
SPACECRAFT_CLOCK_START_COUNT = "1/0231780578.09060"
SPACECRAFT_CLOCK_STOP_COUNT = "1/0231780864.00724"
START_TIME = 2010-09-05T15:29:45.938Z
STOP_TIME = 2010-09-05T15:33:01.184Z
/* ORBITAL DATA ELEMENTS */
ASCENDING_NODE_LONGITUDE = 54.14
MAXIMUM_RESOLUTION = 0.1183
FOOTPRINT_POINT_LATITUDE = (-43.6506,-43.656,-43.657,-43.6551, -43.655,-43.5707,-43.2349,-43.0097, -42.6716,-42.3334,-41.8854,-41.4359, -41.1004,-40.6521,-40.4273,-40.2024, -39.978,-39.5952,-39.3278,-39.0608, -38.6602,-38.393,-38.1274,-37.7304, -37.3294,-37.0619,-36.7955,-36.5292, -36.2633,-35.9986,-35.7319,-35.4673, -35.2019,-34.9357,-34.6664,-34.4076, -34.1364,-33.8628,-33.5909,-33.1875, -32.7739,-32.359,-31.9397,-31.5125, -31.2276,-30.9441,-30.7996,-30.7316, -30.7259,-30.7161,-30.7031,-30.7026, -30.7045,-30.9945,-31.2791,-31.5635, -31.8487,-32.1309,-32.5478,-32.8261, -33.1038,-33.376,-33.6471,-34.0512, -34.323,-34.5863,-34.9865,-35.2559, -35.5207,-35.7875,-36.0518,-36.3178, -36.5847,-36.9833,-37.2499,-37.5166, -37.9189,-38.1866,-38.454,-38.7209, -38.989,-39.3904,-39.6574,-39.915, -40.1394,-40.3638,-40.701,-40.9257, -41.1507,-41.3762,-41.7133,-41.9386, -42.1646,-42.5023,-42.7275,-42.9517, -43.1767,-43.403,-43.515,-43.6506)
FOOTPRINT_POINT_LONGITUDE = (65.8191,65.1792,64.6872,64.2009, 64.1858,64.1768,64.1873,64.194,64.2036, 64.2128,64.2243,64.235,64.2426,64.252, 64.2564,64.2606,64.2646,64.271,64.2753, 64.2792,64.2848,64.2881,64.2913,64.2958 ,64.2994,64.3016,64.3036,64.3053, 64.3069,64.3083,64.3093,64.3103,64.3111 ,64.3115,64.3114,64.3121,64.3118, 64.3113,64.3108,64.3101,64.3087,64.3069 ,64.3044,64.3013,64.2989,64.2967, 64.2954,64.2948,64.9195,65.5194,66.0913 ,66.1087,66.1204,66.1176,66.1139, 66.1105,66.1066,66.1033,66.0981,66.0944 ,66.0914,66.0877,66.0845,66.0817, 66.0773,66.075,66.0675,66.0607,66.0574, 66.0526,66.0497,66.0457,66.0409,66.0352 ,66.0307,66.0263,66.0178,66.0125, 66.0075,66.0029,65.9974,65.9896,65.985, 65.9809,65.9764,65.9719,65.9645,65.9598 ,65.9547,65.9492,65.9417,65.9363, 65.9302,65.9221,65.9166,65.9119,65.9065 ,65.8998,65.8976,65.8191)
ORBIT_NUMBER = 8542
ORBITAL_ECCENTRICITY = 0.579
ORBITAL_INCLINATION = 86.84
ORBITAL_SEMIMAJOR_AXIS = 8789.23
PERIAPSIS_ALTITUDE = 320.78
PERIAPSIS_ARGUMENT_ANGLE = 302.31
PERIAPSIS_TIME = 2010-09-05T15:26:39.000Z
SPACECRAFT_ORIENTATION = (0.0,1.0,0.0)
^MEX_ORIENTATION_DESC = "MEX_ORIENTATION_DESC.TXT"
SPACECRAFT_POINTING_MODE = ACROSSTRACK
^MEX_POINTING_DESC = "MEX_POINTING_DESC.TXT"
RIGHT_ASCENSION = -1e+32
DECLINATION = -1e+32
OFFSET_ANGLE = -0.5
SPACECRAFT_SOLAR_DISTANCE = 2.32406e+08
TARGET_NAME = MARS
/* CAMERA DATA ELEMENTS */
DETECTOR_TEMPERATURE = 18.5744
FOCAL_PLANE_TEMPERATURE = 8.1755
INST_CMPRS_NAME = "DISCRETE COSINE TRANSFORMATION (DCT)"
INST_CMPRS_RATIO = 27.8935
INST_CMPRS_QUALITY = 0
INST_CMPRS_QUANTZ_TBL_ID = 0
INSTRUMENT_TEMPERATURE = 11.234
LENS_TEMPERATURE = 8.5833
MACROPIXEL_SIZE = 8
MISSING_FRAMES = 0
PIXEL_SUBSAMPLING_FLAG = N
SIGNAL_CHAIN_ID = 2
/* RADIOMETRIC DATA ELEMENTS */
BANDWIDTH = 48.0
CENTER_FILTER_WAVELENGTH = 748.0
RADIANCE_OFFSET = 0.772269
RADIANCE_SCALING_FACTOR = 0.00334492
REFLECTANCE_SCALING_FACTOR = 0.00041229
MEX:REFLECTANCE_OFFSET = 0.0951889
/* IMAGE OBJECT DEFINITIONS */
OBJECT = IMAGE
  INTERCHANGE_FORMAT = BINARY
  LINES = 7624
  LINE_SAMPLES = 984
  SAMPLE_TYPE = UNSIGNED_INTEGER
  SAMPLE_BITS = 8
  BANDS = 1
  BAND_STORAGE_TYPE = BAND_SEQUENTIAL
  MAXIMUM = 255
  MEAN = 129.856
  MINIMUM = 1
  STANDARD_DEVIATION = 32.1372
END_OBJECT = IMAGE
/* MAP OBJECT DEFINITIONS */
OBJECT = IMAGE_MAP_PROJECTION
  ^DATA_SET_MAP_PROJECTION_CATALOG= "DSMAP.CAT"
  A_AXIS_RADIUS = 3396.0
  B_AXIS_RADIUS = 3396.0
  C_AXIS_RADIUS = 3396.0
  CENTER_LATITUDE = 0.0
  CENTER_LONGITUDE = 65.0
  COORDINATE_SYSTEM_NAME = PLANETOGRAPHIC
  COORDINATE_SYSTEM_TYPE = "BODY-FIXED ROTATING"
  EASTERNMOST_LONGITUDE = 66.1204
  FIRST_STANDARD_PARALLEL = "N/A"
  LINE_FIRST_PIXEL = 1
  LINE_LAST_PIXEL = 7624
  LINE_PROJECTION_OFFSET = -18225.8125
  MAP_PROJECTION_ROTATION = 0.0
  MAP_PROJECTION_TYPE = SINUSOIDAL
  MAP_RESOLUTION = 592.713803866667
  MAP_SCALE = 0.1
  MAXIMUM_LATITUDE = -30.7026
  MINIMUM_LATITUDE = -43.657
  POSITIVE_LONGITUDE_DIRECTION = EAST
  REFERENCE_LATITUDE = "N/A"
  REFERENCE_LONGITUDE = "N/A"
  SAMPLE_FIRST_PIXEL = 1
  SAMPLE_LAST_PIXEL = 984
  SAMPLE_PROJECTION_OFFSET = 392.5625
  SECOND_STANDARD_PARALLEL = "N/A"
  WESTERNMOST_LONGITUDE = 64.1768
END_OBJECT = IMAGE_MAP_PROJECTION
END
