PDS_VERSION_ID = PDS3
/* FILE DATA ELEMENTS */
RECORD_TYPE = UNDEFINED
/* POINTERS TO DATA OBJECTS */
^IMAGE = ("H8542_0000_BL4.TIF")
/* IDENTIFICATION DATA ELEMENTS */
DATA_SET_ID = "MEX-M-HRSC-4-REFDR-MAPPROJECT-EXT3-V4.0"
DATA_SET_NAME = "MARS EXPRESS HRSC MAP PROJECTED REFDR EXTENSION3 V4.0"
DETECTOR_ID = MEX_HRSC_BLUE
EVENT_TYPE = "MARS-REGIONAL-MAPPING-Im-Lc-La"
INSTRUMENT_HOST_ID = MEX
INSTRUMENT_HOST_NAME = "MARS EXPRESS"
INSTRUMENT_ID = HRSC
INSTRUMENT_NAME = "HIGH RESOLUTION STEREO CAMERA"
MISSION_NAME = "MARS EXPRESS"
MISSION_PHASE_NAME = ME_Phase_21
PROCESSING_LEVEL_ID = 4
PRODUCT_CREATION_TIME = 2023-02-03T21:13:30.000Z
PRODUCT_ID = "H8542_0000_BL4.TIF"
RELEASE_ID = 0005
REVISION_ID = 0000
/* QUALITY DATA ELEMENTS */
DATA_QUALITY_ID = 1
DATA_QUALITY_DESC = "Data calculated based on original SPICE kernels"
/* TIME DATA ELEMENTS */
SPACECRAFT_CLOCK_START_COUNT = "1/0231780578.09060"
SPACECRAFT_CLOCK_STOP_COUNT = "1/0231780864.00724"
START_TIME = 2010-09-05T15:30:06.467Z
STOP_TIME = 2010-09-05T15:33:28.776Z
/* ORBITAL DATA ELEMENTS */
ASCENDING_NODE_LONGITUDE = 54.14
MAXIMUM_RESOLUTION = 0.1155
FOOTPRINT_POINT_LATITUDE = (-43.6323,-43.6275,-43.6211,-43.6127, -43.6124,-43.5922,-43.1528,-42.4934, -42.0551,-41.7264,-41.398,-41.1529, -40.8923,-40.5015,-40.241,-39.981, -39.7211,-39.4615,-39.2021,-38.943, -38.6842,-38.4255,-38.1673,-37.9097, -37.6519,-37.2654,-37.0078,-36.7507, -36.494,-36.2376,-35.9815,-35.5893, -35.3271,-35.0649,-34.6681,-34.4011, -34.133,-33.7313,-33.3204,-33.0483, -32.7754,-32.3582,-32.0791,-31.8007, -31.5165,-31.2322,-30.9475,-30.8052, -30.7372,-30.7389,-30.739,-30.7378, -30.736,-30.7332,-30.733,-30.7351, -31.1644,-31.4494,-31.7349,-32.0145, -32.2935,-32.5735,-32.8504,-33.1239, -33.398,-33.8072,-34.0747,-34.3432, -34.6112,-34.878,-35.1415,-35.4041, -35.6674,-35.9299,-36.1862,-36.4431, -36.7004,-36.9575,-37.2151,-37.473, -37.8606,-38.1193,-38.3782,-38.6373, -38.8966,-39.156,-39.4159,-39.6757, -39.9356,-40.1961,-40.4567,-40.7177, -40.9788,-41.4746,-41.9131,-42.4624, -42.9021,-43.4528,-43.5631,-43.6323)
FOOTPRINT_POINT_LONGITUDE = (65.8292,65.1817,64.6838,64.1916, 64.1763,64.1638,64.177,64.1947,64.2058, 64.2135,64.2207,64.226,64.2313,64.2386, 64.2432,64.2475,64.2516,64.2554,64.259, 64.2624,64.2656,64.2685,64.2713,64.274, 64.2763,64.2792,64.2808,64.2823,64.2835 ,64.2847,64.2856,64.2865,64.287,64.2872 ,64.2865,64.2868,64.2862,64.2848,64.283 ,64.2824,64.2809,64.2785,64.2763,64.274 ,64.2714,64.2687,64.2653,64.2642, 64.2635,64.7854,65.0668,65.4741,65.7772 ,66.1177,66.1356,66.1476,66.1423, 66.1383,66.1339,66.13,66.127,66.1221, 66.1183,66.1147,66.1104,66.1057,66.1034 ,66.0987,66.0964,66.0915,66.0836, 66.0794,66.0738,66.0701,66.0666,66.062, 66.0569,66.0532,66.0487,66.0441,66.0358 ,66.0302,66.0249,66.0198,66.0143, 66.0096,66.0037,65.9989,65.9943,65.9886 ,65.9831,65.9769,65.9709,65.9583,65.948 ,65.9335,65.9231,65.9081,65.9046, 65.8292)
ORBIT_NUMBER = 8542
ORBITAL_ECCENTRICITY = 0.579
ORBITAL_INCLINATION = 86.84
ORBITAL_SEMIMAJOR_AXIS = 8789.23
PERIAPSIS_ALTITUDE = 320.78
PERIAPSIS_ARGUMENT_ANGLE = 302.31
PERIAPSIS_TIME = 2010-09-05T15:26:39.000Z
SPACECRAFT_ORIENTATION = (0.0,1.0,0.0)
^MEX_ORIENTATION_DESC = "MEX_ORIENTATION_DESC.TXT"
SPACECRAFT_POINTING_MODE = ACROSSTRACK
^MEX_POINTING_DESC = "MEX_POINTING_DESC.TXT"
RIGHT_ASCENSION = -1e+32
DECLINATION = -1e+32
OFFSET_ANGLE = -0.5
SPACECRAFT_SOLAR_DISTANCE = 2.32406e+08
TARGET_NAME = MARS
/* CAMERA DATA ELEMENTS */
DETECTOR_TEMPERATURE = 18.3705
FOCAL_PLANE_TEMPERATURE = 8.1755
INST_CMPRS_NAME = "DISCRETE COSINE TRANSFORMATION (DCT)"
INST_CMPRS_RATIO = 19.0252
INST_CMPRS_QUALITY = 0
INST_CMPRS_QUANTZ_TBL_ID = 0
INSTRUMENT_TEMPERATURE = 11.234
LENS_TEMPERATURE = 8.5833
MACROPIXEL_SIZE = 8
MISSING_FRAMES = 0
PIXEL_SUBSAMPLING_FLAG = N
SIGNAL_CHAIN_ID = 2
/* RADIOMETRIC DATA ELEMENTS */
BANDWIDTH = 76.0
CENTER_FILTER_WAVELENGTH = 444.0
RADIANCE_OFFSET = 0.521724
RADIANCE_SCALING_FACTOR = 0.00224398
REFLECTANCE_SCALING_FACTOR = 0.000124528
MEX:REFLECTANCE_OFFSET = 0.0289527
/* IMAGE OBJECT DEFINITIONS */
OBJECT = IMAGE
  INTERCHANGE_FORMAT = BINARY
  LINES = 7624
  LINE_SAMPLES = 984
  SAMPLE_TYPE = UNSIGNED_INTEGER
  SAMPLE_BITS = 8
  BANDS = 1
  BAND_STORAGE_TYPE = BAND_SEQUENTIAL
  MAXIMUM = 255
  MEAN = 84.8533
  MINIMUM = 1
  STANDARD_DEVIATION = 32.2014
END_OBJECT = IMAGE
/* MAP OBJECT DEFINITIONS */
OBJECT = IMAGE_MAP_PROJECTION
  ^DATA_SET_MAP_PROJECTION_CATALOG= "DSMAP.CAT"
  A_AXIS_RADIUS = 3396.0
  B_AXIS_RADIUS = 3396.0
  C_AXIS_RADIUS = 3396.0
  CENTER_LATITUDE = 0.0
  CENTER_LONGITUDE = 65.0
  COORDINATE_SYSTEM_NAME = PLANETOGRAPHIC
  COORDINATE_SYSTEM_TYPE = "BODY-FIXED ROTATING"
  EASTERNMOST_LONGITUDE = 66.1476
  FIRST_STANDARD_PARALLEL = "N/A"
  LINE_FIRST_PIXEL = 1
  LINE_LAST_PIXEL = 7624
  LINE_PROJECTION_OFFSET = -18225.8125
  MAP_PROJECTION_ROTATION = 0.0
  MAP_PROJECTION_TYPE = SINUSOIDAL
  MAP_RESOLUTION = 592.713803866667
  MAP_SCALE = 0.1
  MAXIMUM_LATITUDE = -30.733
  MINIMUM_LATITUDE = -43.6323
  POSITIVE_LONGITUDE_DIRECTION = EAST
  REFERENCE_LATITUDE = "N/A"
  REFERENCE_LONGITUDE = "N/A"
  SAMPLE_FIRST_PIXEL = 1
  SAMPLE_LAST_PIXEL = 984
  SAMPLE_PROJECTION_OFFSET = 392.5625
  SECOND_STANDARD_PARALLEL = "N/A"
  WESTERNMOST_LONGITUDE = 64.16379999999999
END_OBJECT = IMAGE_MAP_PROJECTION
END
