PDS_VERSION_ID = PDS3
/* FILE DATA ELEMENTS */
RECORD_TYPE = UNDEFINED
/* POINTERS TO DATA OBJECTS */
^IMAGE = ("H8540_0000_P24.TIF")
/* IDENTIFICATION DATA ELEMENTS */
DATA_SET_ID = "MEX-M-HRSC-4-REFDR-MAPPROJECT-EXT3-V4.0"
DATA_SET_NAME = "MARS EXPRESS HRSC MAP PROJECTED REFDR EXTENSION3 V4.0"
DETECTOR_ID = MEX_HRSC_P2
EVENT_TYPE = "MARS-REGIONAL-STEREO-Vo-Te"
INSTRUMENT_HOST_ID = MEX
INSTRUMENT_HOST_NAME = "MARS EXPRESS"
INSTRUMENT_ID = HRSC
INSTRUMENT_NAME = "HIGH RESOLUTION STEREO CAMERA"
MISSION_NAME = "MARS EXPRESS"
MISSION_PHASE_NAME = ME_Phase_21
PROCESSING_LEVEL_ID = 4
PRODUCT_CREATION_TIME = 2023-02-03T21:13:30.000Z
PRODUCT_ID = "H8540_0000_P24.TIF"
RELEASE_ID = 0005
REVISION_ID = 0000
/* QUALITY DATA ELEMENTS */
DATA_QUALITY_ID = 1
DATA_QUALITY_DESC = "Data calculated based on original SPICE kernels"
/* TIME DATA ELEMENTS */
SPACECRAFT_CLOCK_START_COUNT = "1/0231730404.08267"
SPACECRAFT_CLOCK_STOP_COUNT = "1/0231730719.49008"
START_TIME = 2010-09-05T01:33:40.120Z
STOP_TIME = 2010-09-05T01:36:48.240Z
/* ORBITAL DATA ELEMENTS */
ASCENDING_NODE_LONGITUDE = 54.18
MAXIMUM_RESOLUTION = 0.0357
FOOTPRINT_POINT_LATITUDE = (-31.3473,-31.3472,-31.3457,-31.341, -31.3373,-31.3318,-31.3315,-31.3268, -31.0181,-30.5972,-30.2814,-29.8567, -29.3195,-28.8851,-28.6659,-28.2275, -27.893,-27.6695,-27.4462,-27.2209, -26.9928,-26.7652,-26.5376,-26.3066, -26.0747,-25.7269,-25.4915,-25.2555, -24.9018,-24.6615,-24.4212,-24.1814, -23.9378,-23.6931,-23.4488,-23.201, -22.9526,-22.7045,-22.4523,-22.2001, -21.8191,-21.5626,-21.1762,-20.9158, -20.6561,-20.2593,-19.9948,-19.7263, -19.5923,-19.554,-19.5548,-19.5541, -19.5524,-19.5486,-19.5444,-19.5399, -19.5396,-19.5402,-19.8092,-20.0771, -20.342,-20.7384,-20.9991,-21.3893, -21.6462,-22.0312,-22.2841,-22.5375, -22.7889,-23.0377,-23.2869,-23.6561, -23.9009,-24.1459,-24.507,-24.7478, -24.9869,-25.2232,-25.4601,-25.6965, -25.9287,-26.161,-26.5096,-26.7376, -26.9659,-27.1944,-27.5328,-27.7565, -27.9808,-28.2046,-28.6436,-28.8634, -29.0835,-29.5167,-29.946,-30.2656, -30.6864,-31.2095,-31.3127,-31.3473)
FOOTPRINT_POINT_LONGITUDE = (270.022,269.764,269.387,268.872, 268.598,268.271,268.254,268.247,268.246 ,268.245,268.244,268.242,268.239, 268.236,268.234,268.23,268.227,268.224, 268.222,268.219,268.216,268.213,268.21, 268.207,268.203,268.198,268.194,268.19, 268.184,268.18,268.175,268.17,268.166, 268.16,268.155,268.15,268.144,268.139, 268.133,268.127,268.117,268.111,268.101 ,268.094,268.087,268.076,268.068,268.06 ,268.056,268.055,268.491,268.781, 269.113,269.57,269.882,270.173,270.194, 270.201,270.198,270.196,270.193,270.188 ,270.185,270.181,270.178,270.173,270.17 ,270.167,270.163,270.16,270.157,270.152 ,270.149,270.146,270.141,270.137, 270.134,270.13,270.127,270.123,270.12, 270.117,270.111,270.108,270.104,270.1, 270.095,270.091,270.087,270.083,270.076 ,270.072,270.068,270.059,270.052, 270.045,270.038,270.027,270.025, 270.022)
ORBIT_NUMBER = 8540
ORBITAL_ECCENTRICITY = 0.579
ORBITAL_INCLINATION = 86.83
ORBITAL_SEMIMAJOR_AXIS = 8788.59
PERIAPSIS_ALTITUDE = 321.06
PERIAPSIS_ARGUMENT_ANGLE = 302.64
PERIAPSIS_TIME = 2010-09-05T01:27:25.000Z
SPACECRAFT_ORIENTATION = (0.0,1.0,0.0)
^MEX_ORIENTATION_DESC = "MEX_ORIENTATION_DESC.TXT"
SPACECRAFT_POINTING_MODE = NADIR
^MEX_POINTING_DESC = "MEX_POINTING_DESC.TXT"
RIGHT_ASCENSION = -1e+32
DECLINATION = -1e+32
OFFSET_ANGLE = -1e+32
SPACECRAFT_SOLAR_DISTANCE = 2.32514e+08
TARGET_NAME = MARS
/* CAMERA DATA ELEMENTS */
DETECTOR_TEMPERATURE = 17.9627
FOCAL_PLANE_TEMPERATURE = 7.7677
INST_CMPRS_NAME = "DISCRETE COSINE TRANSFORMATION (DCT)"
INST_CMPRS_RATIO = 7.47558
INST_CMPRS_QUALITY = 0
INST_CMPRS_QUANTZ_TBL_ID = 0
INSTRUMENT_TEMPERATURE = 11.0301
LENS_TEMPERATURE = 8.3794
MACROPIXEL_SIZE = 2
MISSING_FRAMES = 0
PIXEL_SUBSAMPLING_FLAG = N
SIGNAL_CHAIN_ID = 3
/* RADIOMETRIC DATA ELEMENTS */
BANDWIDTH = 177.0
CENTER_FILTER_WAVELENGTH = 676.5
RADIANCE_OFFSET = 0.786647
RADIANCE_SCALING_FACTOR = 0.0207128
REFLECTANCE_SCALING_FACTOR = 0.000593737
MEX:REFLECTANCE_OFFSET = 0.0225494
/* IMAGE OBJECT DEFINITIONS */
OBJECT = IMAGE
  INTERCHANGE_FORMAT = BINARY
  LINES = 27979
  LINE_SAMPLES = 5075
  SAMPLE_TYPE = UNSIGNED_INTEGER
  SAMPLE_BITS = 8
  BANDS = 1
  BAND_STORAGE_TYPE = BAND_SEQUENTIAL
  MAXIMUM = 255
  MEAN = 142.652
  MINIMUM = 1
  STANDARD_DEVIATION = 24.2279
END_OBJECT = IMAGE
/* MAP OBJECT DEFINITIONS */
OBJECT = IMAGE_MAP_PROJECTION
  ^DATA_SET_MAP_PROJECTION_CATALOG= "DSMAP.CAT"
  A_AXIS_RADIUS = 3396.0
  B_AXIS_RADIUS = 3396.0
  C_AXIS_RADIUS = 3396.0
  CENTER_LATITUDE = 0.0
  CENTER_LONGITUDE = 269.0
  COORDINATE_SYSTEM_NAME = PLANETOGRAPHIC
  COORDINATE_SYSTEM_TYPE = "BODY-FIXED ROTATING"
  EASTERNMOST_LONGITUDE = 270.201
  FIRST_STANDARD_PARALLEL = "N/A"
  LINE_FIRST_PIXEL = 1
  LINE_LAST_PIXEL = 27979
  LINE_PROJECTION_OFFSET = -46274.75
  MAP_PROJECTION_ROTATION = 0.0
  MAP_PROJECTION_TYPE = SINUSOIDAL
  MAP_RESOLUTION = 2370.85521546667
  MAP_SCALE = 0.025
  MAXIMUM_LATITUDE = -19.5396
  MINIMUM_LATITUDE = -31.3473
  POSITIVE_LONGITUDE_DIRECTION = EAST
  REFERENCE_LATITUDE = "N/A"
  REFERENCE_LONGITUDE = "N/A"
  SAMPLE_FIRST_PIXEL = 1
  SAMPLE_LAST_PIXEL = 5075
  SAMPLE_PROJECTION_OFFSET = 2256.25
  SECOND_STANDARD_PARALLEL = "N/A"
  WESTERNMOST_LONGITUDE = 268.055
END_OBJECT = IMAGE_MAP_PROJECTION
END
