PDS_VERSION_ID = PDS3
/* FILE DATA ELEMENTS */
RECORD_TYPE = UNDEFINED
/* POINTERS TO DATA OBJECTS */
^IMAGE = ("H8537_0000_S24.TIF")
/* IDENTIFICATION DATA ELEMENTS */
DATA_SET_ID = "MEX-M-HRSC-4-REFDR-MAPPROJECT-EXT3-V4.0"
DATA_SET_NAME = "MARS EXPRESS HRSC MAP PROJECTED REFDR EXTENSION3 V4.0"
DETECTOR_ID = MEX_HRSC_S2
EVENT_TYPE = "MARS-REGIONAL-MAPPING-Te-Im"
INSTRUMENT_HOST_ID = MEX
INSTRUMENT_HOST_NAME = "MARS EXPRESS"
INSTRUMENT_ID = HRSC
INSTRUMENT_NAME = "HIGH RESOLUTION STEREO CAMERA"
MISSION_NAME = "MARS EXPRESS"
MISSION_PHASE_NAME = ME_Phase_21
PROCESSING_LEVEL_ID = 4
PRODUCT_CREATION_TIME = 2023-02-03T21:13:30.000Z
PRODUCT_ID = "H8537_0000_S24.TIF"
RELEASE_ID = 0005
REVISION_ID = 0000
/* QUALITY DATA ELEMENTS */
DATA_QUALITY_ID = 1
DATA_QUALITY_DESC = "Data calculated based on original SPICE kernels"
/* TIME DATA ELEMENTS */
SPACECRAFT_CLOCK_START_COUNT = "1/0231654805.07309"
SPACECRAFT_CLOCK_STOP_COUNT = "1/0231655156.21184"
START_TIME = 2010-09-04T04:33:27.719Z
STOP_TIME = 2010-09-04T04:37:10.867Z
/* ORBITAL DATA ELEMENTS */
ASCENDING_NODE_LONGITUDE = 54.24
MAXIMUM_RESOLUTION = 0.0335
FOOTPRINT_POINT_LATITUDE = (-34.6966,-34.6715,-34.6425,-34.6025, -34.6014,-34.5708,-34.1776,-33.6517, -33.1292,-32.5958,-32.1952,-31.6507, -31.3757,-31.1019,-30.6864,-30.406, -29.9843,-29.7037,-29.417,-29.1318, -28.8454,-28.5536,-28.1136,-27.8199, -27.5213,-27.2227,-26.9242,-26.6193, -26.3141,-26.0105,-25.7067,-25.4037, -25.1032,-24.7977,-24.4897,-24.0358, -23.7329,-23.2796,-22.9774,-22.6765, -22.3753,-22.0748,-21.7747,-21.475, -21.1757,-20.8769,-20.5779,-20.2792, -20.1303,-20.1006,-20.1144,-20.1345, -20.1466,-20.1564,-20.1679,-20.1683, -20.1691,-20.4679,-20.7672,-21.067, -21.5172,-21.8178,-22.1188,-22.4199, -22.7228,-23.1757,-23.6246,-23.9277, -24.2305,-24.5343,-24.8461,-25.1501, -25.4536,-25.7577,-26.063,-26.3689, -26.8274,-27.1279,-27.4263,-27.7269, -28.1767,-28.4634,-28.7572,-29.1937, -29.6205,-29.9072,-30.1879,-30.4685, -30.7512,-31.0316,-31.307,-31.5797, -31.8551,-32.1272,-32.6626,-33.3308, -33.8548,-34.5137,-34.645,-34.6966)
FOOTPRINT_POINT_LONGITUDE = (215.959,215.445,214.924,214.293, 214.276,214.251,214.259,214.267,214.276 ,214.285,214.291,214.297,214.299, 214.302,214.305,214.307,214.309,214.311 ,214.313,214.315,214.315,214.316, 214.315,214.315,214.314,214.314,214.313 ,214.311,214.31,214.308,214.307,214.305 ,214.305,214.301,214.295,214.29,214.286 ,214.28,214.275,214.271,214.266,214.261 ,214.255,214.25,214.244,214.239,214.232 ,214.226,214.222,214.222,214.549, 215.076,215.438,215.777,216.273,216.292 ,216.299,216.295,216.29,216.285,216.278 ,216.273,216.268,216.263,216.258,216.25 ,216.242,216.236,216.23,216.225,216.218 ,216.212,216.206,216.2,216.193,216.187, 216.177,216.17,216.163,216.157,216.146, 216.139,216.132,216.121,216.11,216.103, 216.095,216.088,216.08,216.072,216.064, 216.057,216.049,216.041,216.024,216.004 ,215.987,215.965,215.96,215.959)
ORBIT_NUMBER = 8537
ORBITAL_ECCENTRICITY = 0.579
ORBITAL_INCLINATION = 86.84
ORBITAL_SEMIMAJOR_AXIS = 8787.28
PERIAPSIS_ALTITUDE = 320.78
PERIAPSIS_ARGUMENT_ANGLE = 303.14
PERIAPSIS_TIME = 2010-09-04T04:28:24.000Z
SPACECRAFT_ORIENTATION = (0.0,1.0,0.0)
^MEX_ORIENTATION_DESC = "MEX_ORIENTATION_DESC.TXT"
SPACECRAFT_POINTING_MODE = ACROSSTRACK
^MEX_POINTING_DESC = "MEX_POINTING_DESC.TXT"
RIGHT_ASCENSION = -1e+32
DECLINATION = -1e+32
OFFSET_ANGLE = 0.7
SPACECRAFT_SOLAR_DISTANCE = 2.32677e+08
TARGET_NAME = MARS
/* CAMERA DATA ELEMENTS */
DETECTOR_TEMPERATURE = 18.1666
FOCAL_PLANE_TEMPERATURE = 7.7677
INST_CMPRS_NAME = "DISCRETE COSINE TRANSFORMATION (DCT)"
INST_CMPRS_RATIO = 6.43276
INST_CMPRS_QUALITY = 0
INST_CMPRS_QUANTZ_TBL_ID = 0
INSTRUMENT_TEMPERATURE = 10.8262
LENS_TEMPERATURE = 8.1755
MACROPIXEL_SIZE = 2
MISSING_FRAMES = 0
PIXEL_SUBSAMPLING_FLAG = N
SIGNAL_CHAIN_ID = 1
/* RADIOMETRIC DATA ELEMENTS */
BANDWIDTH = 178.0
CENTER_FILTER_WAVELENGTH = 679.0
RADIANCE_OFFSET = 0.726454
RADIANCE_SCALING_FACTOR = 0.0370349
REFLECTANCE_SCALING_FACTOR = 0.0010618
MEX:REFLECTANCE_OFFSET = 0.0208276
/* IMAGE OBJECT DEFINITIONS */
OBJECT = IMAGE
  INTERCHANGE_FORMAT = BINARY
  LINES = 34358
  LINE_SAMPLES = 4990
  SAMPLE_TYPE = UNSIGNED_INTEGER
  SAMPLE_BITS = 8
  BANDS = 1
  BAND_STORAGE_TYPE = BAND_SEQUENTIAL
  MAXIMUM = 255
  MEAN = 118.989
  MINIMUM = 1
  STANDARD_DEVIATION = 34.3419
END_OBJECT = IMAGE
/* MAP OBJECT DEFINITIONS */
OBJECT = IMAGE_MAP_PROJECTION
  ^DATA_SET_MAP_PROJECTION_CATALOG= "DSMAP.CAT"
  A_AXIS_RADIUS = 3396.0
  B_AXIS_RADIUS = 3396.0
  C_AXIS_RADIUS = 3396.0
  CENTER_LATITUDE = 0.0
  CENTER_LONGITUDE = 215.0
  COORDINATE_SYSTEM_NAME = PLANETOGRAPHIC
  COORDINATE_SYSTEM_TYPE = "BODY-FIXED ROTATING"
  EASTERNMOST_LONGITUDE = 216.299
  FIRST_STANDARD_PARALLEL = "N/A"
  LINE_FIRST_PIXEL = 1
  LINE_LAST_PIXEL = 34358
  LINE_PROJECTION_OFFSET = -47719.75
  MAP_PROJECTION_ROTATION = 0.0
  MAP_PROJECTION_TYPE = SINUSOIDAL
  MAP_RESOLUTION = 2370.85521546667
  MAP_SCALE = 0.025
  MAXIMUM_LATITUDE = -20.1006
  MINIMUM_LATITUDE = -34.6966
  POSITIVE_LONGITUDE_DIRECTION = EAST
  REFERENCE_LATITUDE = "N/A"
  REFERENCE_LONGITUDE = "N/A"
  SAMPLE_FIRST_PIXEL = 1
  SAMPLE_LAST_PIXEL = 4990
  SAMPLE_PROJECTION_OFFSET = 1910.75
  SECOND_STANDARD_PARALLEL = "N/A"
  WESTERNMOST_LONGITUDE = 214.222
END_OBJECT = IMAGE_MAP_PROJECTION
END
