PDS_VERSION_ID = PDS3
/* FILE DATA ELEMENTS */
RECORD_TYPE = UNDEFINED
/* POINTERS TO DATA OBJECTS */
^IMAGE = ("H8537_0000_ND4.TIF")
/* IDENTIFICATION DATA ELEMENTS */
DATA_SET_ID = "MEX-M-HRSC-4-REFDR-MAPPROJECT-EXT3-V4.0"
DATA_SET_NAME = "MARS EXPRESS HRSC MAP PROJECTED REFDR EXTENSION3 V4.0"
DETECTOR_ID = MEX_HRSC_NADIR
EVENT_TYPE = "MARS-REGIONAL-MAPPING-Te-Im"
INSTRUMENT_HOST_ID = MEX
INSTRUMENT_HOST_NAME = "MARS EXPRESS"
INSTRUMENT_ID = HRSC
INSTRUMENT_NAME = "HIGH RESOLUTION STEREO CAMERA"
MISSION_NAME = "MARS EXPRESS"
MISSION_PHASE_NAME = ME_Phase_21
PROCESSING_LEVEL_ID = 4
PRODUCT_CREATION_TIME = 2023-02-03T21:13:30.000Z
PRODUCT_ID = "H8537_0000_ND4.TIF"
RELEASE_ID = 0005
REVISION_ID = 0000
/* QUALITY DATA ELEMENTS */
DATA_QUALITY_ID = 1
DATA_QUALITY_DESC = "Data calculated based on original SPICE kernels"
/* TIME DATA ELEMENTS */
SPACECRAFT_CLOCK_START_COUNT = "1/0231654805.07309"
SPACECRAFT_CLOCK_STOP_COUNT = "1/0231655156.21184"
START_TIME = 2010-09-04T04:34:04.936Z
STOP_TIME = 2010-09-04T04:38:06.932Z
/* ORBITAL DATA ELEMENTS */
ASCENDING_NODE_LONGITUDE = 54.24
MAXIMUM_RESOLUTION = 0.0165
FOOTPRINT_POINT_LATITUDE = (-34.6194,-34.6119,-34.6018,-34.587, -34.5866,-34.5851,-34.0411,-33.4942, -32.938,-32.3804,-32.0953,-31.5262, -31.0908,-30.8008,-30.5112,-30.2155, -29.7726,-29.3236,-29.0229,-28.7228, -28.4232,-28.1242,-27.8257,-27.5279, -27.2306,-26.9339,-26.6378,-26.3422, -26.0473,-25.753,-25.4593,-25.1661, -24.8737,-24.5816,-24.2903,-23.9996, -23.7095,-23.42,-23.1312,-22.843, -22.5554,-22.2684,-21.9821,-21.4114, -20.8433,-20.2778,-20.1368,-20.1341, -20.135,-20.135,-20.1344,-20.133, -20.1304,-20.1275,-20.1273,-20.1275, -20.6944,-21.2638,-21.5495,-21.8358, -22.1227,-22.4103,-22.6985,-22.9873, -23.2767,-23.5667,-23.8574,-24.1487, -24.4406,-24.7332,-25.0263,-25.32, -25.6143,-25.9092,-26.2047,-26.5008, -26.7974,-27.0946,-27.3924,-27.6908, -27.9898,-28.2893,-28.5893,-28.89, -29.1911,-29.4929,-29.7921,-30.0881, -30.3845,-30.823,-31.1138,-31.5502, -32.1206,-32.4064,-32.9654,-33.523, -34.0712,-34.4824,-34.6164,-34.6194)
FOOTPRINT_POINT_LONGITUDE = (216.0,215.454,214.899,214.264,214.246, 214.217,214.226,214.233,214.241,214.25, 214.253,214.256,214.259,214.26,214.262, 214.263,214.265,214.266,214.266,214.266 ,214.265,214.264,214.262,214.261, 214.259,214.257,214.255,214.253,214.25, 214.248,214.247,214.242,214.239,214.233 ,214.229,214.224,214.219,214.214, 214.209,214.203,214.198,214.192,214.186 ,214.173,214.16,214.145,214.141,214.141 ,214.523,214.88,215.234,215.586,216.002 ,216.35,216.372,216.383,216.372,216.36, 216.355,216.349,216.343,216.337,216.331 ,216.325,216.319,216.313,216.306,216.3, 216.293,216.286,216.279,216.273,216.266 ,216.259,216.251,216.244,216.237, 216.229,216.222,216.214,216.206,216.198 ,216.19,216.182,216.174,216.165,216.157 ,216.148,216.139,216.126,216.117, 216.104,216.086,216.076,216.058,216.039 ,216.02,216.005,216.0,216.0)
ORBIT_NUMBER = 8537
ORBITAL_ECCENTRICITY = 0.579
ORBITAL_INCLINATION = 86.84
ORBITAL_SEMIMAJOR_AXIS = 8787.28
PERIAPSIS_ALTITUDE = 320.78
PERIAPSIS_ARGUMENT_ANGLE = 303.14
PERIAPSIS_TIME = 2010-09-04T04:28:24.000Z
SPACECRAFT_ORIENTATION = (0.0,1.0,0.0)
^MEX_ORIENTATION_DESC = "MEX_ORIENTATION_DESC.TXT"
SPACECRAFT_POINTING_MODE = ACROSSTRACK
^MEX_POINTING_DESC = "MEX_POINTING_DESC.TXT"
RIGHT_ASCENSION = -1e+32
DECLINATION = -1e+32
OFFSET_ANGLE = 0.7
SPACECRAFT_SOLAR_DISTANCE = 2.32677e+08
TARGET_NAME = MARS
/* CAMERA DATA ELEMENTS */
DETECTOR_TEMPERATURE = 17.9627
FOCAL_PLANE_TEMPERATURE = 7.7677
INST_CMPRS_NAME = "DISCRETE COSINE TRANSFORMATION (DCT)"
INST_CMPRS_RATIO = 5.89406
INST_CMPRS_QUALITY = 0
INST_CMPRS_QUANTZ_TBL_ID = 0
INSTRUMENT_TEMPERATURE = 10.8262
LENS_TEMPERATURE = 8.1755
MACROPIXEL_SIZE = 1
MISSING_FRAMES = 0
MISSING_FRAMES = 1
PIXEL_SUBSAMPLING_FLAG = N
SIGNAL_CHAIN_ID = 0
/* RADIOMETRIC DATA ELEMENTS */
BANDWIDTH = 177.0
CENTER_FILTER_WAVELENGTH = 677.5
RADIANCE_OFFSET = 0.542683
RADIANCE_SCALING_FACTOR = 0.0359854
REFLECTANCE_SCALING_FACTOR = 0.00103494
MEX:REFLECTANCE_OFFSET = 0.0156076
/* IMAGE OBJECT DEFINITIONS */
OBJECT = IMAGE
  INTERCHANGE_FORMAT = BINARY
  LINES = 68716
  LINE_SAMPLES = 9979
  SAMPLE_TYPE = UNSIGNED_INTEGER
  SAMPLE_BITS = 8
  BANDS = 1
  BAND_STORAGE_TYPE = BAND_SEQUENTIAL
  MAXIMUM = 255
  MEAN = 118.337
  MINIMUM = 1
  STANDARD_DEVIATION = 34.4509
END_OBJECT = IMAGE
/* MAP OBJECT DEFINITIONS */
OBJECT = IMAGE_MAP_PROJECTION
  ^DATA_SET_MAP_PROJECTION_CATALOG= "DSMAP.CAT"
  A_AXIS_RADIUS = 3396.0
  B_AXIS_RADIUS = 3396.0
  C_AXIS_RADIUS = 3396.0
  CENTER_LATITUDE = 0.0
  CENTER_LONGITUDE = 215.0
  COORDINATE_SYSTEM_NAME = PLANETOGRAPHIC
  COORDINATE_SYSTEM_TYPE = "BODY-FIXED ROTATING"
  EASTERNMOST_LONGITUDE = 216.383
  FIRST_STANDARD_PARALLEL = "N/A"
  LINE_FIRST_PIXEL = 1
  LINE_LAST_PIXEL = 68716
  LINE_PROJECTION_OFFSET = -95439.0
  MAP_PROJECTION_ROTATION = 0.0
  MAP_PROJECTION_TYPE = SINUSOIDAL
  MAP_RESOLUTION = 4741.71043093333
  MAP_SCALE = 0.0125
  MAXIMUM_LATITUDE = -20.1273
  MINIMUM_LATITUDE = -34.6194
  POSITIVE_LONGITUDE_DIRECTION = EAST
  REFERENCE_LATITUDE = "N/A"
  REFERENCE_LONGITUDE = "N/A"
  SAMPLE_FIRST_PIXEL = 1
  SAMPLE_LAST_PIXEL = 9979
  SAMPLE_PROJECTION_OFFSET = 3822.0
  SECOND_STANDARD_PARALLEL = "N/A"
  WESTERNMOST_LONGITUDE = 214.141
END_OBJECT = IMAGE_MAP_PROJECTION
END
