PDS_VERSION_ID = PDS3
/* FILE DATA ELEMENTS */
RECORD_TYPE = UNDEFINED
/* POINTERS TO DATA OBJECTS */
^IMAGE = ("H8534_0000_ND4.TIF")
/* IDENTIFICATION DATA ELEMENTS */
DATA_SET_ID = "MEX-M-HRSC-4-REFDR-MAPPROJECT-EXT3-V4.0"
DATA_SET_NAME = "MARS EXPRESS HRSC MAP PROJECTED REFDR EXTENSION3 V4.0"
DETECTOR_ID = MEX_HRSC_NADIR
EVENT_TYPE = "MARS-REGIONAL-MAPPING-Im-Pf"
INSTRUMENT_HOST_ID = MEX
INSTRUMENT_HOST_NAME = "MARS EXPRESS"
INSTRUMENT_ID = HRSC
INSTRUMENT_NAME = "HIGH RESOLUTION STEREO CAMERA"
MISSION_NAME = "MARS EXPRESS"
MISSION_PHASE_NAME = ME_Phase_21
PROCESSING_LEVEL_ID = 4
PRODUCT_CREATION_TIME = 2023-02-03T21:13:30.000Z
PRODUCT_ID = "H8534_0000_ND4.TIF"
RELEASE_ID = 0005
REVISION_ID = 0000
/* QUALITY DATA ELEMENTS */
DATA_QUALITY_ID = 1
DATA_QUALITY_DESC = "Data calculated based on original SPICE kernels"
/* TIME DATA ELEMENTS */
SPACECRAFT_CLOCK_START_COUNT = "1/0231579110.09051"
SPACECRAFT_CLOCK_STOP_COUNT = "1/0231579451.50382"
START_TIME = 2010-09-03T07:32:22.968Z
STOP_TIME = 2010-09-03T07:36:42.988Z
/* ORBITAL DATA ELEMENTS */
ASCENDING_NODE_LONGITUDE = 54.29
MAXIMUM_RESOLUTION = 0.0137
FOOTPRINT_POINT_LATITUDE = (-45.1959,-45.1854,-45.1754,-45.1563, -45.1558,-45.1536,-44.8642,-44.5749, -44.2859,-43.9971,-43.7085,-43.1319, -42.5562,-41.9814,-41.4077,-40.835, -40.2634,-39.9321,-39.5918,-39.252, -38.9125,-38.5736,-38.2351,-37.897, -37.5594,-37.2222,-36.8855,-36.5494, -36.2136,-35.8784,-35.5437,-35.2094, -34.8755,-34.5334,-34.1918,-33.8507, -33.5036,-33.1548,-32.8066,-32.4523, -32.0965,-31.5596,-31.1966,-30.8344, -30.465,-29.911,-29.5346,-28.9693, -28.7774,-28.7529,-28.7579,-28.7603, -28.7608,-28.7602,-28.7602,-28.7604, -29.1428,-29.5199,-29.8977,-30.2676, -30.6382,-31.1865,-31.5502,-31.9108, -32.267,-32.8009,-33.1498,-33.4991, -33.8476,-34.1894,-34.5316,-35.0424, -35.377,-35.7121,-36.0477,-36.3838, -36.7204,-37.0575,-37.395,-37.7331, -38.0715,-38.4105,-38.7498,-39.0897, -39.4299,-39.7706,-40.2766,-40.8493, -41.4232,-41.9981,-42.5738,-43.1507, -43.4395,-43.7286,-44.0178,-44.3072, -44.5968,-45.0317,-45.1768,-45.1959)
FOOTPRINT_POINT_LONGITUDE = (163.299,162.761,162.337,161.669, 161.653,161.623,161.638,161.653,161.667 ,161.681,161.695,161.72,161.744,161.767 ,161.787,161.806,161.824,161.834, 161.843,161.851,161.859,161.866,161.874 ,161.881,161.887,161.893,161.898, 161.904,161.909,161.913,161.917,161.92, 161.923,161.927,161.929,161.931,161.934 ,161.936,161.937,161.938,161.939, 161.938,161.938,161.937,161.935,161.932 ,161.93,161.925,161.923,161.923,162.499 ,163.018,163.371,163.779,163.798, 163.807,163.799,163.792,163.784,163.776 ,163.77,163.757,163.749,163.741,163.733 ,163.722,163.714,163.708,163.698,163.69 ,163.682,163.669,163.66,163.651,163.642 ,163.633,163.623,163.614,163.604, 163.594,163.584,163.573,163.563,163.551 ,163.539,163.527,163.51,163.49,163.469, 163.446,163.429,163.408,163.396,163.381 ,163.37,163.359,163.347,163.328,163.322 ,163.299)
ORBIT_NUMBER = 8534
ORBITAL_ECCENTRICITY = 0.579
ORBITAL_INCLINATION = 86.83
ORBITAL_SEMIMAJOR_AXIS = 8790.09
PERIAPSIS_ALTITUDE = 322.1
PERIAPSIS_ARGUMENT_ANGLE = 303.68
PERIAPSIS_TIME = 2010-09-03T07:29:35.000Z
SPACECRAFT_ORIENTATION = (0.0,1.0,0.0)
^MEX_ORIENTATION_DESC = "MEX_ORIENTATION_DESC.TXT"
SPACECRAFT_POINTING_MODE = NADIR
^MEX_POINTING_DESC = "MEX_POINTING_DESC.TXT"
RIGHT_ASCENSION = -1e+32
DECLINATION = -1e+32
OFFSET_ANGLE = -1e+32
SPACECRAFT_SOLAR_DISTANCE = 2.32839e+08
TARGET_NAME = MARS
/* CAMERA DATA ELEMENTS */
DETECTOR_TEMPERATURE = 17.9627
FOCAL_PLANE_TEMPERATURE = 7.9716
INST_CMPRS_NAME = "DISCRETE COSINE TRANSFORMATION (DCT)"
INST_CMPRS_RATIO = 6.27516
INST_CMPRS_QUALITY = 0
INST_CMPRS_QUANTZ_TBL_ID = 0
INSTRUMENT_TEMPERATURE = 11.234
LENS_TEMPERATURE = 8.3794
MACROPIXEL_SIZE = 1
MISSING_FRAMES = 0
PIXEL_SUBSAMPLING_FLAG = N
SIGNAL_CHAIN_ID = 0
/* RADIOMETRIC DATA ELEMENTS */
BANDWIDTH = 177.0
CENTER_FILTER_WAVELENGTH = 677.5
RADIANCE_OFFSET = 0.483513
RADIANCE_SCALING_FACTOR = 0.0180132
REFLECTANCE_SCALING_FACTOR = 0.000518782
MEX:REFLECTANCE_OFFSET = 0.0139252
/* IMAGE OBJECT DEFINITIONS */
OBJECT = IMAGE
  INTERCHANGE_FORMAT = BINARY
  LINES = 77964
  LINE_SAMPLES = 7961
  SAMPLE_TYPE = UNSIGNED_INTEGER
  SAMPLE_BITS = 8
  BANDS = 1
  BAND_STORAGE_TYPE = BAND_SEQUENTIAL
  MAXIMUM = 255
  MEAN = 100.352
  MINIMUM = 1
  STANDARD_DEVIATION = 22.5429
END_OBJECT = IMAGE
/* MAP OBJECT DEFINITIONS */
OBJECT = IMAGE_MAP_PROJECTION
  ^DATA_SET_MAP_PROJECTION_CATALOG= "DSMAP.CAT"
  A_AXIS_RADIUS = 3396.0
  B_AXIS_RADIUS = 3396.0
  C_AXIS_RADIUS = 3396.0
  CENTER_LATITUDE = 0.0
  CENTER_LONGITUDE = 163.0
  COORDINATE_SYSTEM_NAME = PLANETOGRAPHIC
  COORDINATE_SYSTEM_TYPE = "BODY-FIXED ROTATING"
  EASTERNMOST_LONGITUDE = 163.807
  FIRST_STANDARD_PARALLEL = "N/A"
  LINE_FIRST_PIXEL = 1
  LINE_LAST_PIXEL = 77964
  LINE_PROJECTION_OFFSET = -136340.0
  MAP_PROJECTION_ROTATION = 0.0
  MAP_PROJECTION_TYPE = SINUSOIDAL
  MAP_RESOLUTION = 4741.71043093333
  MAP_SCALE = 0.0125
  MAXIMUM_LATITUDE = -28.7529
  MINIMUM_LATITUDE = -45.1959
  POSITIVE_LONGITUDE_DIRECTION = EAST
  REFERENCE_LATITUDE = "N/A"
  REFERENCE_LONGITUDE = "N/A"
  SAMPLE_FIRST_PIXEL = 1
  SAMPLE_LAST_PIXEL = 7961
  SAMPLE_PROJECTION_OFFSET = 4606.0
  SECOND_STANDARD_PARALLEL = "N/A"
  WESTERNMOST_LONGITUDE = 161.623
END_OBJECT = IMAGE_MAP_PROJECTION
END
