PDS_VERSION_ID = PDS3
/* FILE DATA ELEMENTS */
RECORD_TYPE = UNDEFINED
/* POINTERS TO DATA OBJECTS */
^IMAGE = ("H8531_0000_RE4.TIF")
/* IDENTIFICATION DATA ELEMENTS */
DATA_SET_ID = "MEX-M-HRSC-4-REFDR-MAPPROJECT-EXT3-V4.0"
DATA_SET_NAME = "MARS EXPRESS HRSC MAP PROJECTED REFDR EXTENSION3 V4.0"
DETECTOR_ID = MEX_HRSC_RED
EVENT_TYPE = "MARS-REGIONAL-MAPPING-Im-Pf"
INSTRUMENT_HOST_ID = MEX
INSTRUMENT_HOST_NAME = "MARS EXPRESS"
INSTRUMENT_ID = HRSC
INSTRUMENT_NAME = "HIGH RESOLUTION STEREO CAMERA"
MISSION_NAME = "MARS EXPRESS"
MISSION_PHASE_NAME = ME_Phase_21
PROCESSING_LEVEL_ID = 4
PRODUCT_CREATION_TIME = 2023-02-03T21:13:30.000Z
PRODUCT_ID = "H8531_0000_RE4.TIF"
RELEASE_ID = 0005
REVISION_ID = 0000
/* QUALITY DATA ELEMENTS */
DATA_QUALITY_ID = 1
DATA_QUALITY_DESC = "Data calculated based on original SPICE kernels"
/* TIME DATA ELEMENTS */
SPACECRAFT_CLOCK_START_COUNT = "1/0231503582.09111"
SPACECRAFT_CLOCK_STOP_COUNT = "1/0231503892.62421"
START_TIME = 2010-09-02T10:33:09.842Z
STOP_TIME = 2010-09-02T10:36:51.776Z
/* ORBITAL DATA ELEMENTS */
ASCENDING_NODE_LONGITUDE = 54.35
MAXIMUM_RESOLUTION = 0.0559
FOOTPRINT_POINT_LATITUDE = (-44.1284,-44.1211,-44.108,-44.0889, -44.0884,-44.0465,-43.7784,-43.3834, -42.8585,-42.4625,-42.0691,-41.5557, -41.292,-41.022,-40.6195,-40.0991, -39.8348,-39.575,-39.3125,-39.0478, -38.7837,-38.3892,-37.9915,-37.7015, -37.2392,-36.9258,-36.6127,-36.3006, -35.9892,-35.6786,-35.2104,-34.8978, -34.5867,-34.2753,-33.9644,-33.6539, -33.1887,-32.8788,-32.4145,-32.0979, -31.7756,-31.2954,-30.8191,-30.4928, -30.0004,-29.6677,-29.5013,-29.4327, -29.442,-29.4471,-29.4472,-29.4472, -29.4483,-29.7815,-30.2788,-30.6048, -30.9307,-31.4162,-31.8905,-32.2109, -32.5253,-32.8357,-33.1461,-33.4568, -33.9235,-34.235,-34.546,-34.8578, -35.1698,-35.4837,-35.7955,-36.1095, -36.4206,-36.7321,-37.045,-37.3582, -37.674,-37.9734,-38.2358,-38.499, -38.7629,-39.0255,-39.42,-39.6797, -39.9449,-40.2087,-40.4737,-40.7372, -41.0034,-41.2645,-41.5307,-41.7956, -42.0558,-42.586,-42.9775,-43.244, -43.5046,-43.9028,-44.0348,-44.1284)
FOOTPRINT_POINT_LONGITUDE = (110.193,109.79,109.239,108.612,108.597 ,108.576,108.587,108.605,108.629, 108.646,108.662,108.688,108.697,108.704 ,108.714,108.733,108.741,108.75,108.757 ,108.763,108.77,108.779,108.787,108.793 ,108.806,108.812,108.817,108.823, 108.828,108.833,108.839,108.843,108.846 ,108.849,108.852,108.855,108.859, 108.861,108.863,108.864,108.863,108.863 ,108.867,108.866,108.864,108.863, 108.862,108.862,109.448,110.067,110.588 ,110.605,110.61,110.604,110.595,110.589 ,110.583,110.573,110.565,110.558, 110.552,110.545,110.539,110.532,110.522 ,110.515,110.508,110.501,110.494, 110.485,110.478,110.47,110.462,110.455, 110.447,110.438,110.429,110.421,110.414 ,110.406,110.398,110.391,110.379, 110.372,110.363,110.355,110.346,110.337 ,110.327,110.319,110.309,110.299, 110.292,110.271,110.259,110.247,110.239 ,110.222,110.217,110.193)
ORBIT_NUMBER = 8531
ORBITAL_ECCENTRICITY = 0.579
ORBITAL_INCLINATION = 86.83
ORBITAL_SEMIMAJOR_AXIS = 8793.46
PERIAPSIS_ALTITUDE = 320.87
PERIAPSIS_ARGUMENT_ANGLE = 304.17
PERIAPSIS_TIME = 2010-09-02T10:30:38.000Z
SPACECRAFT_ORIENTATION = (0.0,1.0,0.0)
^MEX_ORIENTATION_DESC = "MEX_ORIENTATION_DESC.TXT"
SPACECRAFT_POINTING_MODE = NADIR
^MEX_POINTING_DESC = "MEX_POINTING_DESC.TXT"
RIGHT_ASCENSION = -1e+32
DECLINATION = -1e+32
OFFSET_ANGLE = -1e+32
SPACECRAFT_SOLAR_DISTANCE = 2.33001e+08
TARGET_NAME = MARS
/* CAMERA DATA ELEMENTS */
DETECTOR_TEMPERATURE = 18.3705
FOCAL_PLANE_TEMPERATURE = 7.9716
INST_CMPRS_NAME = "DISCRETE COSINE TRANSFORMATION (DCT)"
INST_CMPRS_RATIO = 6.45638
INST_CMPRS_QUALITY = 0
INST_CMPRS_QUANTZ_TBL_ID = 0
INSTRUMENT_TEMPERATURE = 11.234
LENS_TEMPERATURE = 8.3794
MACROPIXEL_SIZE = 4
MISSING_FRAMES = 0
PIXEL_SUBSAMPLING_FLAG = N
SIGNAL_CHAIN_ID = 2
/* RADIOMETRIC DATA ELEMENTS */
BANDWIDTH = 48.0
CENTER_FILTER_WAVELENGTH = 748.0
RADIANCE_OFFSET = 0.230736
RADIANCE_SCALING_FACTOR = 0.00798394
REFLECTANCE_SCALING_FACTOR = 0.000989141
MEX:REFLECTANCE_OFFSET = 0.0285862
/* IMAGE OBJECT DEFINITIONS */
OBJECT = IMAGE
  INTERCHANGE_FORMAT = BINARY
  LINES = 17359
  LINE_SAMPLES = 1899
  SAMPLE_TYPE = UNSIGNED_INTEGER
  SAMPLE_BITS = 8
  BANDS = 1
  BAND_STORAGE_TYPE = BAND_SEQUENTIAL
  MAXIMUM = 255
  MEAN = 88.1822
  MINIMUM = 1
  STANDARD_DEVIATION = 19.7491
END_OBJECT = IMAGE
/* MAP OBJECT DEFINITIONS */
OBJECT = IMAGE_MAP_PROJECTION
  ^DATA_SET_MAP_PROJECTION_CATALOG= "DSMAP.CAT"
  A_AXIS_RADIUS = 3396.0
  B_AXIS_RADIUS = 3396.0
  C_AXIS_RADIUS = 3396.0
  CENTER_LATITUDE = 0.0
  CENTER_LONGITUDE = 110.0
  COORDINATE_SYSTEM_NAME = PLANETOGRAPHIC
  COORDINATE_SYSTEM_TYPE = "BODY-FIXED ROTATING"
  EASTERNMOST_LONGITUDE = 110.61
  FIRST_STANDARD_PARALLEL = "N/A"
  LINE_FIRST_PIXEL = 1
  LINE_LAST_PIXEL = 17359
  LINE_PROJECTION_OFFSET = -34892.625
  MAP_PROJECTION_ROTATION = 0.0
  MAP_PROJECTION_TYPE = SINUSOIDAL
  MAP_RESOLUTION = 1185.42760773333
  MAP_SCALE = 0.05
  MAXIMUM_LATITUDE = -29.4327
  MINIMUM_LATITUDE = -44.1284
  POSITIVE_LONGITUDE_DIRECTION = EAST
  REFERENCE_LATITUDE = "N/A"
  REFERENCE_LONGITUDE = "N/A"
  SAMPLE_FIRST_PIXEL = 1
  SAMPLE_LAST_PIXEL = 1899
  SAMPLE_PROJECTION_OFFSET = 1228.625
  SECOND_STANDARD_PARALLEL = "N/A"
  WESTERNMOST_LONGITUDE = 108.576
END_OBJECT = IMAGE_MAP_PROJECTION
END
