PDS_VERSION_ID = PDS3
/* FILE DATA ELEMENTS */
RECORD_TYPE = UNDEFINED
/* POINTERS TO DATA OBJECTS */
^IMAGE = ("H8527_0000_RE4.TIF")
/* IDENTIFICATION DATA ELEMENTS */
DATA_SET_ID = "MEX-M-HRSC-4-REFDR-MAPPROJECT-EXT3-V4.0"
DATA_SET_NAME = "MARS EXPRESS HRSC MAP PROJECTED REFDR EXTENSION3 V4.0"
DETECTOR_ID = MEX_HRSC_RED
EVENT_TYPE = "MARS-REGIONAL-MAPPING-Te-Fl-Pf"
INSTRUMENT_HOST_ID = MEX
INSTRUMENT_HOST_NAME = "MARS EXPRESS"
INSTRUMENT_ID = HRSC
INSTRUMENT_NAME = "HIGH RESOLUTION STEREO CAMERA"
MISSION_NAME = "MARS EXPRESS"
MISSION_PHASE_NAME = ME_Phase_21
PROCESSING_LEVEL_ID = 4
PRODUCT_CREATION_TIME = 2023-02-03T21:13:30.000Z
PRODUCT_ID = "H8527_0000_RE4.TIF"
RELEASE_ID = 0005
REVISION_ID = 0000
/* QUALITY DATA ELEMENTS */
DATA_QUALITY_ID = 1
DATA_QUALITY_DESC = "Data calculated based on original SPICE kernels"
/* TIME DATA ELEMENTS */
SPACECRAFT_CLOCK_START_COUNT = "1/0231402826.09043"
SPACECRAFT_CLOCK_STOP_COUNT = "1/0231403081.09085"
START_TIME = 2010-09-01T06:33:53.631Z
STOP_TIME = 2010-09-01T06:36:52.404Z
/* ORBITAL DATA ELEMENTS */
ASCENDING_NODE_LONGITUDE = 54.43
MAXIMUM_RESOLUTION = 0.0549
FOOTPRINT_POINT_LATITUDE = (-46.3972,-46.3887,-46.3741,-46.3531, -46.3525,-46.3048,-45.9716,-45.6378, -45.1949,-44.9701,-44.5258,-44.3034, -44.0794,-43.7472,-43.4105,-43.1811, -42.8368,-42.4929,-42.263,-41.9186, -41.5741,-41.2301,-40.886,-40.6562, -40.427,-40.1965,-39.9685,-39.6239, -39.3937,-39.1642,-38.935,-38.701, -38.4708,-38.2413,-38.0169,-37.7883, -37.559,-37.3292,-36.9307,-36.6574, -36.3783,-35.9743,-35.7006,-35.4285, -35.1569,-34.8872,-34.6163,-34.4812, -34.4791,-34.4879,-34.493,-34.4972, -34.5007,-34.5008,-34.5018,-34.9139, -35.187,-35.4582,-35.864,-36.1343, -36.5439,-36.8174,-37.0909,-37.3527, -37.5824,-37.927,-38.1567,-38.3867, -38.6143,-38.8437,-39.1883,-39.4182, -39.6536,-39.8828,-40.1127,-40.3428, -40.5724,-40.8029,-41.1486,-41.3738, -41.6037,-41.9515,-42.1841,-42.4133, -42.6437,-42.9869,-43.218,-43.4491, -43.6767,-43.8995,-44.1218,-44.3447, -44.6776,-44.9018,-45.2375,-45.4608, -45.9052,-46.2372,-46.349,-46.3972)
FOOTPRINT_POINT_LONGITUDE = (159.22,158.812,158.253,157.62,157.604, 157.581,157.601,157.621,157.647,157.659 ,157.683,157.694,157.705,157.722, 157.738,157.749,157.765,157.78,157.79, 157.804,157.817,157.831,157.843,157.851 ,157.859,157.866,157.874,157.884, 157.891,157.897,157.904,157.908,157.913 ,157.919,157.926,157.932,157.937, 157.941,157.949,157.954,157.956,157.965 ,157.969,157.973,157.977,157.982, 157.986,157.988,157.988,158.401,158.676 ,159.059,159.611,159.627,159.632, 159.621,159.614,159.608,159.6,159.595, 159.585,159.577,159.57,159.563,159.557, 159.547,159.541,159.534,159.529,159.522 ,159.512,159.505,159.495,159.489, 159.482,159.474,159.467,159.459,159.448 ,159.443,159.435,159.422,159.412, 159.405,159.396,159.385,159.376,159.367 ,159.357,159.349,159.34,159.331,159.318 ,159.309,159.294,159.284,159.265, 159.251,159.246,159.22)
ORBIT_NUMBER = 8527
ORBITAL_ECCENTRICITY = 0.579
ORBITAL_INCLINATION = 86.83
ORBITAL_SEMIMAJOR_AXIS = 8792.36
PERIAPSIS_ALTITUDE = 322.23
PERIAPSIS_ARGUMENT_ANGLE = 304.88
PERIAPSIS_TIME = 2010-09-01T06:32:06.000Z
SPACECRAFT_ORIENTATION = (0.0,1.0,0.0)
^MEX_ORIENTATION_DESC = "MEX_ORIENTATION_DESC.TXT"
SPACECRAFT_POINTING_MODE = NADIR
^MEX_POINTING_DESC = "MEX_POINTING_DESC.TXT"
RIGHT_ASCENSION = -1e+32
DECLINATION = -1e+32
OFFSET_ANGLE = -1e+32
SPACECRAFT_SOLAR_DISTANCE = 2.33216e+08
TARGET_NAME = MARS
/* CAMERA DATA ELEMENTS */
DETECTOR_TEMPERATURE = 18.3705
FOCAL_PLANE_TEMPERATURE = 8.3794
INST_CMPRS_NAME = "DISCRETE COSINE TRANSFORMATION (DCT)"
INST_CMPRS_RATIO = 12.3893
INST_CMPRS_QUALITY = 0
INST_CMPRS_QUANTZ_TBL_ID = 0
INSTRUMENT_TEMPERATURE = 11.234
LENS_TEMPERATURE = 8.5833
MACROPIXEL_SIZE = 4
MISSING_FRAMES = 0
PIXEL_SUBSAMPLING_FLAG = N
SIGNAL_CHAIN_ID = 2
/* RADIOMETRIC DATA ELEMENTS */
BANDWIDTH = 48.0
CENTER_FILTER_WAVELENGTH = 748.0
RADIANCE_OFFSET = 0.108582
RADIANCE_SCALING_FACTOR = 0.00447101
REFLECTANCE_SCALING_FACTOR = 0.000554944
MEX:REFLECTANCE_OFFSET = 0.0134772
/* IMAGE OBJECT DEFINITIONS */
OBJECT = IMAGE
  INTERCHANGE_FORMAT = BINARY
  LINES = 14065
  LINE_SAMPLES = 1819
  SAMPLE_TYPE = UNSIGNED_INTEGER
  SAMPLE_BITS = 8
  BANDS = 1
  BAND_STORAGE_TYPE = BAND_SEQUENTIAL
  MAXIMUM = 255
  MEAN = 112.373
  MINIMUM = 1
  STANDARD_DEVIATION = 22.6364
END_OBJECT = IMAGE
/* MAP OBJECT DEFINITIONS */
OBJECT = IMAGE_MAP_PROJECTION
  ^DATA_SET_MAP_PROJECTION_CATALOG= "DSMAP.CAT"
  A_AXIS_RADIUS = 3396.0
  B_AXIS_RADIUS = 3396.0
  C_AXIS_RADIUS = 3396.0
  CENTER_LATITUDE = 0.0
  CENTER_LONGITUDE = 159.0
  COORDINATE_SYSTEM_NAME = PLANETOGRAPHIC
  COORDINATE_SYSTEM_TYPE = "BODY-FIXED ROTATING"
  EASTERNMOST_LONGITUDE = 159.632
  FIRST_STANDARD_PARALLEL = "N/A"
  LINE_FIRST_PIXEL = 1
  LINE_LAST_PIXEL = 14065
  LINE_PROJECTION_OFFSET = -40867.125
  MAP_PROJECTION_ROTATION = 0.0
  MAP_PROJECTION_TYPE = SINUSOIDAL
  MAP_RESOLUTION = 1185.42760773333
  MAP_SCALE = 0.05
  MAXIMUM_LATITUDE = -34.4791
  MINIMUM_LATITUDE = -46.3972
  POSITIVE_LONGITUDE_DIRECTION = EAST
  REFERENCE_LATITUDE = "N/A"
  REFERENCE_LONGITUDE = "N/A"
  SAMPLE_FIRST_PIXEL = 1
  SAMPLE_LAST_PIXEL = 1819
  SAMPLE_PROJECTION_OFFSET = 1174.125
  SECOND_STANDARD_PARALLEL = "N/A"
  WESTERNMOST_LONGITUDE = 157.581
END_OBJECT = IMAGE_MAP_PROJECTION
END
