PDS_VERSION_ID = PDS3
/* FILE DATA ELEMENTS */
RECORD_TYPE = UNDEFINED
/* POINTERS TO DATA OBJECTS */
^IMAGE = ("H8525_0000_ND4.TIF")
/* IDENTIFICATION DATA ELEMENTS */
DATA_SET_ID = "MEX-M-HRSC-4-REFDR-MAPPROJECT-EXT3-V4.0"
DATA_SET_NAME = "MARS EXPRESS HRSC MAP PROJECTED REFDR EXTENSION3 V4.0"
DETECTOR_ID = MEX_HRSC_NADIR
EVENT_TYPE = "MARS-REGIONAL-MAPPING-Te-Im-Fl"
INSTRUMENT_HOST_ID = MEX
INSTRUMENT_HOST_NAME = "MARS EXPRESS"
INSTRUMENT_ID = HRSC
INSTRUMENT_NAME = "HIGH RESOLUTION STEREO CAMERA"
MISSION_NAME = "MARS EXPRESS"
MISSION_PHASE_NAME = ME_Phase_21
PROCESSING_LEVEL_ID = 4
PRODUCT_CREATION_TIME = 2023-02-03T21:13:30.000Z
PRODUCT_ID = "H8525_0000_ND4.TIF"
RELEASE_ID = 0005
REVISION_ID = 0000
/* QUALITY DATA ELEMENTS */
DATA_QUALITY_ID = 1
DATA_QUALITY_DESC = "Data calculated based on original SPICE kernels"
/* TIME DATA ELEMENTS */
SPACECRAFT_CLOCK_START_COUNT = "1/0231352608.08249"
SPACECRAFT_CLOCK_STOP_COUNT = "1/0231352822.49528"
START_TIME = 2010-08-31T16:37:24.715Z
STOP_TIME = 2010-08-31T16:39:35.719Z
/* ORBITAL DATA ELEMENTS */
ASCENDING_NODE_LONGITUDE = 54.47
MAXIMUM_RESOLUTION = 0.0154
FOOTPRINT_POINT_LATITUDE = (-36.4492,-36.4442,-36.4385,-36.434, -36.4266,-36.4263,-36.4249,-36.1866, -35.8692,-35.5523,-35.2358,-34.9197, -34.604,-34.2887,-33.9738,-33.6596, -33.3459,-33.1867,-33.0258,-32.865, -32.7044,-32.5439,-32.3835,-32.2232, -31.9781,-31.8139,-31.6499,-31.4861, -31.3223,-31.1587,-30.9919,-30.8244, -30.657,-30.4898,-30.3227,-30.1558, -29.9001,-29.7294,-29.5589,-29.3885, -29.2183,-29.045,-28.871,-28.6971, -28.5235,-28.35,-28.2626,-28.2598, -28.2618,-28.2638,-28.266,-28.2668, -28.2673,-28.2673,-28.2668,-28.2667, -28.267,-28.5284,-28.7025,-28.8767, -29.0511,-29.2249,-29.3954,-29.5662, -29.7371,-29.9081,-30.1645,-30.3317, -30.4991,-30.6666,-30.8343,-31.0022, -31.1695,-31.3334,-31.4975,-31.6617, -31.826,-31.9905,-32.2362,-32.3967, -32.5575,-32.7183,-32.8792,-33.0403, -33.2016,-33.361,-33.6755,-33.9904, -34.3058,-34.6217,-34.9379,-35.2547, -35.5718,-35.7305,-35.8894,-36.0483, -36.2073,-36.3665,-36.4461,-36.4492)
FOOTPRINT_POINT_LONGITUDE = (4.18785,3.65314,3.232,2.95684,2.56779, 2.55158,2.53059,2.53439,2.53916,2.54369 ,2.54831,2.55211,2.55501,2.55824, 2.55954,2.564,2.56762,2.56747,2.56804, 2.56864,2.56922,2.56978,2.57015,2.5707, 2.57055,2.57029,2.57111,2.57149,2.57143 ,2.57132,2.57113,2.57083,2.57048, 2.57008,2.56967,2.56916,2.56814,2.56733 ,2.56644,2.56551,2.56437,2.56309,2.5619 ,2.56045,2.55905,2.5576,2.55684,2.55681 ,2.75459,3.00668,3.38431,3.61815, 3.87018,4.08603,4.35608,4.37411,4.38293 ,4.37817,4.37488,4.37152,4.36834,4.365, 4.36171,4.35829,4.3547,4.35101,4.34554, 4.34232,4.3401,4.33588,4.33272,4.32916, 4.3254,4.32124,4.31833,4.31479,4.31131, 4.30792,4.30255,4.29904,4.29543,4.29183 ,4.28816,4.28414,4.2796,4.27619,4.26996 ,4.26296,4.25556,4.24795,4.24023, 4.23231,4.2243,4.22031,4.21605,4.21189, 4.20772,4.20345,4.20135,4.18785)
ORBIT_NUMBER = 8525
ORBITAL_ECCENTRICITY = 0.579
ORBITAL_INCLINATION = 86.83
ORBITAL_SEMIMAJOR_AXIS = 8792.43
PERIAPSIS_ALTITUDE = 321.71
PERIAPSIS_ARGUMENT_ANGLE = 305.19
PERIAPSIS_TIME = 2010-08-31T16:32:45.000Z
SPACECRAFT_ORIENTATION = (0.0,1.0,0.0)
^MEX_ORIENTATION_DESC = "MEX_ORIENTATION_DESC.TXT"
SPACECRAFT_POINTING_MODE = NADIR
^MEX_POINTING_DESC = "MEX_POINTING_DESC.TXT"
RIGHT_ASCENSION = -1e+32
DECLINATION = -1e+32
OFFSET_ANGLE = -1e+32
SPACECRAFT_SOLAR_DISTANCE = 2.33323e+08
TARGET_NAME = MARS
/* CAMERA DATA ELEMENTS */
DETECTOR_TEMPERATURE = 17.7588
FOCAL_PLANE_TEMPERATURE = 7.7677
INST_CMPRS_NAME = "DISCRETE COSINE TRANSFORMATION (DCT)"
INST_CMPRS_RATIO = 6.41621
INST_CMPRS_QUALITY = 0
INST_CMPRS_QUANTZ_TBL_ID = 0
INSTRUMENT_TEMPERATURE = 10.6223
LENS_TEMPERATURE = 7.9716
MACROPIXEL_SIZE = 1
MISSING_FRAMES = 0
PIXEL_SUBSAMPLING_FLAG = N
SIGNAL_CHAIN_ID = 0
/* RADIOMETRIC DATA ELEMENTS */
BANDWIDTH = 177.0
CENTER_FILTER_WAVELENGTH = 677.5
RADIANCE_OFFSET = 0.50482
RADIANCE_SCALING_FACTOR = 0.0203908
REFLECTANCE_SCALING_FACTOR = 0.000589701
MEX:REFLECTANCE_OFFSET = 0.0145994
/* IMAGE OBJECT DEFINITIONS */
OBJECT = IMAGE
  INTERCHANGE_FORMAT = BINARY
  LINES = 38828
  LINE_SAMPLES = 7628
  SAMPLE_TYPE = UNSIGNED_INTEGER
  SAMPLE_BITS = 8
  BANDS = 1
  BAND_STORAGE_TYPE = BAND_SEQUENTIAL
  MAXIMUM = 255
  MEAN = 117.961
  MINIMUM = 1
  STANDARD_DEVIATION = 20.5986
END_OBJECT = IMAGE
/* MAP OBJECT DEFINITIONS */
OBJECT = IMAGE_MAP_PROJECTION
  ^DATA_SET_MAP_PROJECTION_CATALOG= "DSMAP.CAT"
  A_AXIS_RADIUS = 3396.0
  B_AXIS_RADIUS = 3396.0
  C_AXIS_RADIUS = 3396.0
  CENTER_LATITUDE = 0.0
  CENTER_LONGITUDE = 3.0
  COORDINATE_SYSTEM_NAME = PLANETOGRAPHIC
  COORDINATE_SYSTEM_TYPE = "BODY-FIXED ROTATING"
  EASTERNMOST_LONGITUDE = 4.38293
  FIRST_STANDARD_PARALLEL = "N/A"
  LINE_FIRST_PIXEL = 1
  LINE_LAST_PIXEL = 38828
  LINE_PROJECTION_OFFSET = -134002.0
  MAP_PROJECTION_ROTATION = 0.0
  MAP_PROJECTION_TYPE = SINUSOIDAL
  MAP_RESOLUTION = 4741.71043093333
  MAP_SCALE = 0.0125
  MAXIMUM_LATITUDE = -28.2598
  MINIMUM_LATITUDE = -36.4492
  POSITIVE_LONGITUDE_DIRECTION = EAST
  REFERENCE_LATITUDE = "N/A"
  REFERENCE_LONGITUDE = "N/A"
  SAMPLE_FIRST_PIXEL = 1
  SAMPLE_LAST_PIXEL = 7628
  SAMPLE_PROJECTION_OFFSET = 1851.0
  SECOND_STANDARD_PARALLEL = "N/A"
  WESTERNMOST_LONGITUDE = 2.53059
END_OBJECT = IMAGE_MAP_PROJECTION
END
