PDS_VERSION_ID = PDS3
/* FILE DATA ELEMENTS */
RECORD_TYPE = UNDEFINED
/* POINTERS TO DATA OBJECTS */
^IMAGE = ("H8516_0000_ND4.TIF")
/* IDENTIFICATION DATA ELEMENTS */
DATA_SET_ID = "MEX-M-HRSC-4-REFDR-MAPPROJECT-EXT3-V4.0"
DATA_SET_NAME = "MARS EXPRESS HRSC MAP PROJECTED REFDR EXTENSION3 V4.0"
DETECTOR_ID = MEX_HRSC_NADIR
EVENT_TYPE = "MARS-REGIONAL-MAPPING-Te-Im"
INSTRUMENT_HOST_ID = MEX
INSTRUMENT_HOST_NAME = "MARS EXPRESS"
INSTRUMENT_ID = HRSC
INSTRUMENT_NAME = "HIGH RESOLUTION STEREO CAMERA"
MISSION_NAME = "MARS EXPRESS"
MISSION_PHASE_NAME = ME_Phase_21
PROCESSING_LEVEL_ID = 4
PRODUCT_CREATION_TIME = 2023-02-03T21:13:30.000Z
PRODUCT_ID = "H8516_0000_ND4.TIF"
RELEASE_ID = 0005
REVISION_ID = 0000
/* QUALITY DATA ELEMENTS */
DATA_QUALITY_ID = 1
DATA_QUALITY_DESC = "Data calculated based on original SPICE kernels"
/* TIME DATA ELEMENTS */
SPACECRAFT_CLOCK_START_COUNT = "1/0231125963.08407"
SPACECRAFT_CLOCK_STOP_COUNT = "1/0231126203.31174"
START_TIME = 2010-08-29T01:39:58.079Z
STOP_TIME = 2010-08-29T01:42:37.083Z
/* ORBITAL DATA ELEMENTS */
ASCENDING_NODE_LONGITUDE = 54.64
MAXIMUM_RESOLUTION = 0.0146
FOOTPRINT_POINT_LATITUDE = (-37.115,-37.1113,-37.1079,-37.1008, -37.0956,-37.0899,-37.0895,-37.088, -36.7164,-36.4202,-36.2231,-36.0262, -35.8295,-35.5344,-35.3379,-35.1416, -34.9454,-34.7493,-34.5534,-34.3577, -33.9668,-33.5764,-33.1867,-32.8909, -32.5024,-32.1146,-31.7275,-31.4321, -31.2339,-31.0359,-30.838,-30.6404, -30.3387,-30.1363,-29.9342,-29.7323, -29.5304,-29.2209,-29.0147,-28.8086, -28.6026,-28.394,-28.1834,-27.8679, -27.6579,-27.4449,-27.2304,-27.1232, -27.1183,-27.1203,-27.1225,-27.1248, -27.1253,-27.1248,-27.1248,-27.125, -27.3399,-27.6611,-27.8715,-28.0821, -28.293,-28.6077,-28.814,-29.0206, -29.2273,-29.5375,-29.7397,-29.9421, -30.1446,-30.3474,-30.6497,-30.8478, -31.0461,-31.2445,-31.4432,-31.7391, -32.127,-32.5155,-32.9048,-33.2011, -33.5916,-33.787,-33.9826,-34.1784, -34.3744,-34.5704,-34.7667,-34.9631, -35.1596,-35.3563,-35.5532,-35.7502, -35.9474,-36.1447,-36.3421,-36.5397, -36.7374,-37.0277,-37.1106,-37.115)
FOOTPRINT_POINT_LONGITUDE = (204.617,204.274,204.023,203.585, 203.319,203.051,203.036,203.014,203.025 ,203.028,203.032,203.036,203.041, 203.045,203.048,203.052,203.054,203.056 ,203.058,203.061,203.066,203.069, 203.073,203.075,203.077,203.08,203.082, 203.082,203.083,203.084,203.084,203.085 ,203.084,203.084,203.084,203.084, 203.082,203.081,203.081,203.081,203.078 ,203.077,203.076,203.072,203.07,203.069 ,203.067,203.067,203.067,203.296, 203.596,204.073,204.407,204.829,204.847 ,204.855,204.852,204.846,204.842, 204.838,204.834,204.828,204.824,204.82, 204.816,204.809,204.805,204.801,204.797 ,204.793,204.787,204.782,204.778, 204.774,204.769,204.763,204.755,204.746 ,204.737,204.73,204.721,204.716,204.711 ,204.706,204.701,204.696,204.691, 204.686,204.681,204.676,204.67,204.664, 204.658,204.653,204.648,204.642,204.636 ,204.628,204.626,204.617)
ORBIT_NUMBER = 8516
ORBITAL_ECCENTRICITY = 0.579
ORBITAL_INCLINATION = 86.84
ORBITAL_SEMIMAJOR_AXIS = 8793.07
PERIAPSIS_ALTITUDE = 321.37
PERIAPSIS_ARGUMENT_ANGLE = 306.73
PERIAPSIS_TIME = 2010-08-29T01:35:53.000Z
SPACECRAFT_ORIENTATION = (0.0,1.0,0.0)
^MEX_ORIENTATION_DESC = "MEX_ORIENTATION_DESC.TXT"
SPACECRAFT_POINTING_MODE = ACROSSTRACK
^MEX_POINTING_DESC = "MEX_POINTING_DESC.TXT"
RIGHT_ASCENSION = -1e+32
DECLINATION = -1e+32
OFFSET_ANGLE = 0.1
SPACECRAFT_SOLAR_DISTANCE = 2.33804e+08
TARGET_NAME = MARS
/* CAMERA DATA ELEMENTS */
DETECTOR_TEMPERATURE = 17.9627
FOCAL_PLANE_TEMPERATURE = 7.7677
INST_CMPRS_NAME = "DISCRETE COSINE TRANSFORMATION (DCT)"
INST_CMPRS_RATIO = 6.4498
INST_CMPRS_QUALITY = 0
INST_CMPRS_QUANTZ_TBL_ID = 0
INSTRUMENT_TEMPERATURE = 11.0301
LENS_TEMPERATURE = 8.1755
MACROPIXEL_SIZE = 1
MISSING_FRAMES = 2
PIXEL_SUBSAMPLING_FLAG = N
SIGNAL_CHAIN_ID = 0
/* RADIOMETRIC DATA ELEMENTS */
BANDWIDTH = 177.0
CENTER_FILTER_WAVELENGTH = 677.5
RADIANCE_OFFSET = 0.28358
RADIANCE_SCALING_FACTOR = 0.0217649
REFLECTANCE_SCALING_FACTOR = 0.000632037
MEX:REFLECTANCE_OFFSET = 0.00823494
/* IMAGE OBJECT DEFINITIONS */
OBJECT = IMAGE
  INTERCHANGE_FORMAT = BINARY
  LINES = 47398
  LINE_SAMPLES = 7555
  SAMPLE_TYPE = UNSIGNED_INTEGER
  SAMPLE_BITS = 8
  BANDS = 1
  BAND_STORAGE_TYPE = BAND_SEQUENTIAL
  MAXIMUM = 255
  MEAN = 98.2341
  MINIMUM = 1
  STANDARD_DEVIATION = 28.9923
END_OBJECT = IMAGE
/* MAP OBJECT DEFINITIONS */
OBJECT = IMAGE_MAP_PROJECTION
  ^DATA_SET_MAP_PROJECTION_CATALOG= "DSMAP.CAT"
  A_AXIS_RADIUS = 3396.0
  B_AXIS_RADIUS = 3396.0
  C_AXIS_RADIUS = 3396.0
  CENTER_LATITUDE = 0.0
  CENTER_LONGITUDE = 204.0
  COORDINATE_SYSTEM_NAME = PLANETOGRAPHIC
  COORDINATE_SYSTEM_TYPE = "BODY-FIXED ROTATING"
  EASTERNMOST_LONGITUDE = 204.855
  FIRST_STANDARD_PARALLEL = "N/A"
  LINE_FIRST_PIXEL = 1
  LINE_LAST_PIXEL = 47398
  LINE_PROJECTION_OFFSET = -128589.0
  MAP_PROJECTION_ROTATION = 0.0
  MAP_PROJECTION_TYPE = SINUSOIDAL
  MAP_RESOLUTION = 4741.71043093333
  MAP_SCALE = 0.0125
  MAXIMUM_LATITUDE = -27.1183
  MINIMUM_LATITUDE = -37.115
  POSITIVE_LONGITUDE_DIRECTION = EAST
  REFERENCE_LATITUDE = "N/A"
  REFERENCE_LONGITUDE = "N/A"
  SAMPLE_FIRST_PIXEL = 1
  SAMPLE_LAST_PIXEL = 7555
  SAMPLE_PROJECTION_OFFSET = 3943.0
  SECOND_STANDARD_PARALLEL = "N/A"
  WESTERNMOST_LONGITUDE = 203.014
END_OBJECT = IMAGE_MAP_PROJECTION
END
