PDS_VERSION_ID = PDS3
/* FILE DATA ELEMENTS */
RECORD_TYPE = UNDEFINED
/* POINTERS TO DATA OBJECTS */
^IMAGE = ("H8515_0000_S14.TIF")
/* IDENTIFICATION DATA ELEMENTS */
DATA_SET_ID = "MEX-M-HRSC-4-REFDR-MAPPROJECT-EXT3-V4.0"
DATA_SET_NAME = "MARS EXPRESS HRSC MAP PROJECTED REFDR EXTENSION3 V4.0"
DETECTOR_ID = MEX_HRSC_S1
EVENT_TYPE = "MARS-REGIONAL-MAPPING-Te-Im"
INSTRUMENT_HOST_ID = MEX
INSTRUMENT_HOST_NAME = "MARS EXPRESS"
INSTRUMENT_ID = HRSC
INSTRUMENT_NAME = "HIGH RESOLUTION STEREO CAMERA"
MISSION_NAME = "MARS EXPRESS"
MISSION_PHASE_NAME = ME_Phase_21
PROCESSING_LEVEL_ID = 4
PRODUCT_CREATION_TIME = 2023-02-03T21:13:30.000Z
PRODUCT_ID = "H8515_0000_S14.TIF"
RELEASE_ID = 0005
REVISION_ID = 0000
/* QUALITY DATA ELEMENTS */
DATA_QUALITY_ID = 1
DATA_QUALITY_DESC = "Data calculated based on original SPICE kernels"
/* TIME DATA ELEMENTS */
SPACECRAFT_CLOCK_START_COUNT = "1/0231100748.08248"
SPACECRAFT_CLOCK_STOP_COUNT = "1/0231101001.41910"
START_TIME = 2010-08-28T18:40:15.840Z
STOP_TIME = 2010-08-28T18:43:22.187Z
/* ORBITAL DATA ELEMENTS */
ASCENDING_NODE_LONGITUDE = 54.66
MAXIMUM_RESOLUTION = 0.0311
FOOTPRINT_POINT_LATITUDE = (-39.4653,-39.4747,-39.4828,-39.4909, -39.4911,-39.5227,-39.086,-38.8677, -38.6497,-38.4325,-38.2156,-38.0016, -37.785,-37.4601,-37.2434,-37.0272, -36.8097,-36.4838,-36.2699,-36.056, -35.7353,-35.5215,-35.3093,-34.8871, -34.3575,-34.0356,-33.8196,-33.605, -33.2829,-33.0645,-32.7348,-32.5148, -32.2958,-31.9621,-31.7386,-31.5156, -31.2931,-31.0669,-30.839,-30.6121, -30.3859,-30.1551,-29.9242,-29.5786, -29.2279,-28.9933,-28.6413,-28.5219, -28.4996,-28.4918,-28.4784,-28.4686, -28.4601,-28.4457,-28.4451,-28.4454, -28.6836,-29.0359,-29.2711,-29.6219, -29.8527,-30.0843,-30.3163,-30.5429, -30.8839,-31.1122,-31.3353,-31.5574, -31.8903,-32.1138,-32.3347,-32.5567, -32.7824,-33.0038,-33.33,-33.6545, -33.9785,-34.1952,-34.4077,-34.831, -35.0435,-35.2567,-35.4715,-35.6855, -35.8997,-36.2208,-36.5439,-36.7605, -37.0849,-37.3017,-37.5164,-37.7375, -38.059,-38.2769,-38.6024,-38.9291, -39.1482,-39.372,-39.4814,-39.4653)
FOOTPRINT_POINT_LONGITUDE = (305.867,305.361,304.844,304.215, 304.198,304.16,304.178,304.188,304.197, 304.205,304.213,304.219,304.227,304.239 ,304.247,304.255,304.264,304.278, 304.284,304.29,304.299,304.306,304.311, 304.319,304.331,304.337,304.341,304.345 ,304.35,304.353,304.358,304.362,304.365 ,304.369,304.372,304.374,304.376, 304.378,304.38,304.382,304.383,304.385, 304.386,304.387,304.388,304.389,304.389 ,304.389,304.389,304.673,305.142, 305.511,305.804,306.275,306.293,306.299 ,306.292,306.28,306.273,306.261,306.254 ,306.246,306.238,306.23,306.219,306.211 ,306.203,306.195,306.184,306.176, 306.167,306.159,306.151,306.142,306.13, 306.118,306.105,306.097,306.088,306.072 ,306.063,306.054,306.045,306.036, 306.027,306.014,305.999,305.99,305.975, 305.966,305.956,305.945,305.931,305.921 ,305.905,305.89,305.879,305.867,305.862 ,305.867)
ORBIT_NUMBER = 8515
ORBITAL_ECCENTRICITY = 0.579
ORBITAL_INCLINATION = 86.83
ORBITAL_SEMIMAJOR_AXIS = 8793.8
PERIAPSIS_ALTITUDE = 321.8
PERIAPSIS_ARGUMENT_ANGLE = 306.93
PERIAPSIS_TIME = 2010-08-28T18:36:18.000Z
SPACECRAFT_ORIENTATION = (0.0,1.0,0.0)
^MEX_ORIENTATION_DESC = "MEX_ORIENTATION_DESC.TXT"
SPACECRAFT_POINTING_MODE = ACROSSTRACK
^MEX_POINTING_DESC = "MEX_POINTING_DESC.TXT"
RIGHT_ASCENSION = -1e+32
DECLINATION = -1e+32
OFFSET_ANGLE = 0.85
SPACECRAFT_SOLAR_DISTANCE = 2.33857e+08
TARGET_NAME = MARS
/* CAMERA DATA ELEMENTS */
DETECTOR_TEMPERATURE = 17.351
FOCAL_PLANE_TEMPERATURE = 7.9716
INST_CMPRS_NAME = "DISCRETE COSINE TRANSFORMATION (DCT)"
INST_CMPRS_RATIO = 11.5062
INST_CMPRS_QUALITY = 0
INST_CMPRS_QUANTZ_TBL_ID = 0
INSTRUMENT_TEMPERATURE = 10.8262
LENS_TEMPERATURE = 6.7482
MACROPIXEL_SIZE = 2
MISSING_FRAMES = 0
PIXEL_SUBSAMPLING_FLAG = N
SIGNAL_CHAIN_ID = 1
/* RADIOMETRIC DATA ELEMENTS */
BANDWIDTH = 180.0
CENTER_FILTER_WAVELENGTH = 677.0
RADIANCE_OFFSET = 0.592243
RADIANCE_SCALING_FACTOR = 0.0165673
REFLECTANCE_SCALING_FACTOR = 0.000472709
MEX:REFLECTANCE_OFFSET = 0.0168983
/* IMAGE OBJECT DEFINITIONS */
OBJECT = IMAGE
  INTERCHANGE_FORMAT = BINARY
  LINES = 26314
  LINE_SAMPLES = 4049
  SAMPLE_TYPE = UNSIGNED_INTEGER
  SAMPLE_BITS = 8
  BANDS = 1
  BAND_STORAGE_TYPE = BAND_SEQUENTIAL
  MAXIMUM = 255
  MEAN = 114.438
  MINIMUM = 1
  STANDARD_DEVIATION = 23.6436
END_OBJECT = IMAGE
/* MAP OBJECT DEFINITIONS */
OBJECT = IMAGE_MAP_PROJECTION
  ^DATA_SET_MAP_PROJECTION_CATALOG= "DSMAP.CAT"
  A_AXIS_RADIUS = 3396.0
  B_AXIS_RADIUS = 3396.0
  C_AXIS_RADIUS = 3396.0
  CENTER_LATITUDE = 0.0
  CENTER_LONGITUDE = 305.0
  COORDINATE_SYSTEM_NAME = PLANETOGRAPHIC
  COORDINATE_SYSTEM_TYPE = "BODY-FIXED ROTATING"
  EASTERNMOST_LONGITUDE = 306.299
  FIRST_STANDARD_PARALLEL = "N/A"
  LINE_FIRST_PIXEL = 1
  LINE_LAST_PIXEL = 26314
  LINE_PROJECTION_OFFSET = -67452.75
  MAP_PROJECTION_ROTATION = 0.0
  MAP_PROJECTION_TYPE = SINUSOIDAL
  MAP_RESOLUTION = 2370.85521546667
  MAP_SCALE = 0.025
  MAXIMUM_LATITUDE = -28.4451
  MINIMUM_LATITUDE = -39.5227
  POSITIVE_LONGITUDE_DIRECTION = EAST
  REFERENCE_LATITUDE = "N/A"
  REFERENCE_LONGITUDE = "N/A"
  SAMPLE_FIRST_PIXEL = 1
  SAMPLE_LAST_PIXEL = 4049
  SAMPLE_PROJECTION_OFFSET = 1475.75
  SECOND_STANDARD_PARALLEL = "N/A"
  WESTERNMOST_LONGITUDE = 304.16
END_OBJECT = IMAGE_MAP_PROJECTION
END
