PDS_VERSION_ID = PDS3
/* FILE DATA ELEMENTS */
RECORD_TYPE = UNDEFINED
/* POINTERS TO DATA OBJECTS */
^IMAGE = ("H8514_0000_S24.TIF")
/* IDENTIFICATION DATA ELEMENTS */
DATA_SET_ID = "MEX-M-HRSC-4-REFDR-MAPPROJECT-EXT3-V4.0"
DATA_SET_NAME = "MARS EXPRESS HRSC MAP PROJECTED REFDR EXTENSION3 V4.0"
DETECTOR_ID = MEX_HRSC_S2
EVENT_TYPE = "MARS-REGIONAL-MAPPING-Te-Im-Fl"
INSTRUMENT_HOST_ID = MEX
INSTRUMENT_HOST_NAME = "MARS EXPRESS"
INSTRUMENT_ID = HRSC
INSTRUMENT_NAME = "HIGH RESOLUTION STEREO CAMERA"
MISSION_NAME = "MARS EXPRESS"
MISSION_PHASE_NAME = ME_Phase_21
PROCESSING_LEVEL_ID = 4
PRODUCT_CREATION_TIME = 2023-02-03T21:13:30.000Z
PRODUCT_ID = "H8514_0000_S24.TIF"
RELEASE_ID = 0005
REVISION_ID = 0000
/* QUALITY DATA ELEMENTS */
DATA_QUALITY_ID = 1
DATA_QUALITY_DESC = "Data calculated based on original SPICE kernels"
/* TIME DATA ELEMENTS */
SPACECRAFT_CLOCK_START_COUNT = "1/0231075636.08263"
SPACECRAFT_CLOCK_STOP_COUNT = "1/0231075949.61595"
START_TIME = 2010-08-28T11:40:38.731Z
STOP_TIME = 2010-08-28T11:44:05.743Z
/* ORBITAL DATA ELEMENTS */
ASCENDING_NODE_LONGITUDE = 54.68
MAXIMUM_RESOLUTION = 0.0315
FOOTPRINT_POINT_LATITUDE = (-34.8451,-34.84,-34.8334,-34.8221, -34.8217,-34.7775,-34.1912,-33.9317, -33.6727,-33.2852,-33.0267,-32.6362, -32.3761,-31.8597,-31.6001,-31.3395, -31.0774,-30.8175,-30.5576,-30.2986, -30.0404,-29.5254,-29.2666,-29.0079, -28.7462,-28.3405,-28.0735,-27.8105, -27.4163,-27.0093,-26.7379,-26.4629, -26.1852,-25.9083,-25.6319,-25.3476, -24.9219,-24.6406,-24.3513,-24.0626, -23.6295,-23.3337,-23.0378,-22.7425, -22.4424,-22.1336,-21.8299,-21.3769, -21.2257,-21.1965,-21.1991,-21.1992, -21.197,-21.1952,-21.1918,-21.1916, -21.1922,-21.6551,-21.9627,-22.2653, -22.719,-23.0151,-23.3075,-23.5985, -24.0291,-24.3191,-24.6097,-24.8938, -25.178,-25.4635,-25.7541,-26.0306, -26.3085,-26.7246,-26.9958,-27.2672, -27.5402,-27.8092,-28.3293,-28.5933, -28.8625,-29.1331,-29.5215,-29.7801, -30.1662,-30.677,-31.1863,-31.4456, -31.7141,-31.9744,-32.2357,-32.4965, -33.0143,-33.2724,-33.5313,-33.9193, -34.3041,-34.6607,-34.7676,-34.8451)
FOOTPRINT_POINT_LONGITUDE = (49.342,48.7559,48.3355,47.8094,47.7944 ,47.7754,47.7859,47.7893,47.7927, 47.7976,47.8005,47.8036,47.8054,47.8096 ,47.8109,47.8117,47.8118,47.8123, 47.8126,47.813,47.8134,47.814,47.8136, 47.813,47.8127,47.8087,47.8069,47.806, 47.8073,47.8044,47.8021,47.8001,47.7975 ,47.7949,47.7922,47.7889,47.7837, 47.7807,47.7769,47.7731,47.7673,47.7627 ,47.7577,47.7528,47.7479,47.7402, 47.7339,47.7274,47.725,47.7242,48.0621, 48.5242,48.8446,49.1296,49.5392,49.5571 ,49.5635,49.5583,49.5546,49.551,49.5459 ,49.5425,49.5402,49.5384,49.535,49.5314 ,49.5278,49.5241,49.5203,49.5162, 49.5094,49.5061,49.5023,49.4963,49.4925 ,49.4886,49.4842,49.4808,49.4762, 49.4726,49.4671,49.4595,49.4532,49.449, 49.4434,49.4371,49.4314,49.4269,49.419, 49.4141,49.4087,49.4035,49.3943,49.3899 ,49.3851,49.3781,49.3721,49.3653, 49.3638,49.342)
ORBIT_NUMBER = 8514
ORBITAL_ECCENTRICITY = 0.579
ORBITAL_INCLINATION = 86.83
ORBITAL_SEMIMAJOR_AXIS = 8797.49
PERIAPSIS_ALTITUDE = 321.63
PERIAPSIS_ARGUMENT_ANGLE = 307.09
PERIAPSIS_TIME = 2010-08-28T11:36:37.000Z
SPACECRAFT_ORIENTATION = (0.0,1.0,0.0)
^MEX_ORIENTATION_DESC = "MEX_ORIENTATION_DESC.TXT"
SPACECRAFT_POINTING_MODE = NADIR
^MEX_POINTING_DESC = "MEX_POINTING_DESC.TXT"
RIGHT_ASCENSION = -1e+32
DECLINATION = -1e+32
OFFSET_ANGLE = -1e+32
SPACECRAFT_SOLAR_DISTANCE = 2.3391e+08
TARGET_NAME = MARS
/* CAMERA DATA ELEMENTS */
DETECTOR_TEMPERATURE = 18.3705
FOCAL_PLANE_TEMPERATURE = 8.1755
INST_CMPRS_NAME = "DISCRETE COSINE TRANSFORMATION (DCT)"
INST_CMPRS_RATIO = 9.34037
INST_CMPRS_QUALITY = 0
INST_CMPRS_QUANTZ_TBL_ID = 0
INSTRUMENT_TEMPERATURE = 11.234
LENS_TEMPERATURE = 8.5833
MACROPIXEL_SIZE = 2
MISSING_FRAMES = 0
PIXEL_SUBSAMPLING_FLAG = N
SIGNAL_CHAIN_ID = 1
/* RADIOMETRIC DATA ELEMENTS */
BANDWIDTH = 178.0
CENTER_FILTER_WAVELENGTH = 679.0
RADIANCE_OFFSET = 1.13908
RADIANCE_SCALING_FACTOR = 0.0162726
REFLECTANCE_SCALING_FACTOR = 0.0004715
MEX:REFLECTANCE_OFFSET = 0.033005
/* IMAGE OBJECT DEFINITIONS */
OBJECT = IMAGE
  INTERCHANGE_FORMAT = BINARY
  LINES = 32276
  LINE_SAMPLES = 4333
  SAMPLE_TYPE = UNSIGNED_INTEGER
  SAMPLE_BITS = 8
  BANDS = 1
  BAND_STORAGE_TYPE = BAND_SEQUENTIAL
  MAXIMUM = 255
  MEAN = 117.923
  MINIMUM = 1
  STANDARD_DEVIATION = 23.6703
END_OBJECT = IMAGE
/* MAP OBJECT DEFINITIONS */
OBJECT = IMAGE_MAP_PROJECTION
  ^DATA_SET_MAP_PROJECTION_CATALOG= "DSMAP.CAT"
  A_AXIS_RADIUS = 3396.0
  B_AXIS_RADIUS = 3396.0
  C_AXIS_RADIUS = 3396.0
  CENTER_LATITUDE = 0.0
  CENTER_LONGITUDE = 49.0
  COORDINATE_SYSTEM_NAME = PLANETOGRAPHIC
  COORDINATE_SYSTEM_TYPE = "BODY-FIXED ROTATING"
  EASTERNMOST_LONGITUDE = 49.5635
  FIRST_STANDARD_PARALLEL = "N/A"
  LINE_FIRST_PIXEL = 1
  LINE_LAST_PIXEL = 32276
  LINE_PROJECTION_OFFSET = -50255.25
  MAP_PROJECTION_ROTATION = 0.0
  MAP_PROJECTION_TYPE = SINUSOIDAL
  MAP_RESOLUTION = 2370.85521546667
  MAP_SCALE = 0.025
  MAXIMUM_LATITUDE = -21.1916
  MINIMUM_LATITUDE = -34.8451
  POSITIVE_LONGITUDE_DIRECTION = EAST
  REFERENCE_LATITUDE = "N/A"
  REFERENCE_LONGITUDE = "N/A"
  SAMPLE_FIRST_PIXEL = 1
  SAMPLE_LAST_PIXEL = 4333
  SAMPLE_PROJECTION_OFFSET = 2963.25
  SECOND_STANDARD_PARALLEL = "N/A"
  WESTERNMOST_LONGITUDE = 47.7242
END_OBJECT = IMAGE_MAP_PROJECTION
END
