PDS_VERSION_ID = PDS3
/* FILE DATA ELEMENTS */
RECORD_TYPE = UNDEFINED
/* POINTERS TO DATA OBJECTS */
^IMAGE = ("H8514_0000_GR4.TIF")
/* IDENTIFICATION DATA ELEMENTS */
DATA_SET_ID = "MEX-M-HRSC-4-REFDR-MAPPROJECT-EXT3-V4.0"
DATA_SET_NAME = "MARS EXPRESS HRSC MAP PROJECTED REFDR EXTENSION3 V4.0"
DETECTOR_ID = MEX_HRSC_GREEN
EVENT_TYPE = "MARS-REGIONAL-MAPPING-Te-Im-Fl"
INSTRUMENT_HOST_ID = MEX
INSTRUMENT_HOST_NAME = "MARS EXPRESS"
INSTRUMENT_ID = HRSC
INSTRUMENT_NAME = "HIGH RESOLUTION STEREO CAMERA"
MISSION_NAME = "MARS EXPRESS"
MISSION_PHASE_NAME = ME_Phase_21
PROCESSING_LEVEL_ID = 4
PRODUCT_CREATION_TIME = 2023-02-03T21:13:30.000Z
PRODUCT_ID = "H8514_0000_GR4.TIF"
RELEASE_ID = 0005
REVISION_ID = 0000
/* QUALITY DATA ELEMENTS */
DATA_QUALITY_ID = 1
DATA_QUALITY_DESC = "Data calculated based on original SPICE kernels"
/* TIME DATA ELEMENTS */
SPACECRAFT_CLOCK_START_COUNT = "1/0231075636.08263"
SPACECRAFT_CLOCK_STOP_COUNT = "1/0231075949.61595"
START_TIME = 2010-08-28T11:41:18.535Z
STOP_TIME = 2010-08-28T11:45:02.303Z
/* ORBITAL DATA ELEMENTS */
ASCENDING_NODE_LONGITUDE = 54.68
MAXIMUM_RESOLUTION = 0.0619
FOOTPRINT_POINT_LATITUDE = (-34.7912,-34.7846,-34.7776,-34.7711, -34.7708,-34.7755,-34.3986,-34.1486, -33.8986,-33.6489,-33.3993,-32.9014, -32.2812,-31.7859,-31.534,-31.2809, -31.0282,-30.6496,-30.3914,-30.1329, -29.7378,-29.4772,-29.2136,-28.9505, -28.6876,-28.4207,-28.0189,-27.7509, -27.4775,-27.2032,-26.9303,-26.515, -26.2367,-25.8173,-25.534,-25.2512, -24.9652,-24.6768,-24.3892,-23.9502, -23.6574,-23.212,-22.9148,-22.6133, -22.1612,-21.8544,-21.3919,-21.2357, -21.1987,-21.1986,-21.1977,-21.1955, -21.1936,-21.1912,-21.191,-21.1922, -21.5039,-21.8113,-22.1193,-22.5735, -22.8764,-23.324,-23.6233,-23.9167, -24.2103,-24.6454,-24.9341,-25.3631, -25.6456,-26.0691,-26.3477,-26.6268, -26.9041,-27.1776,-27.4515,-27.7251, -27.995,-28.3987,-28.6676,-28.9304, -29.1925,-29.4567,-29.8475,-30.3743, -30.6337,-31.0145,-31.2684,-31.5218, -31.7741,-32.2694,-32.767,-33.0159, -33.2655,-33.5153,-33.7654,-34.1414, -34.3924,-34.6434,-34.7696,-34.7912)
FOOTPRINT_POINT_LONGITUDE = (49.3717,48.6669,48.1577,47.7826, 47.7676,47.7486,47.7559,47.7581,47.7609 ,47.7635,47.7662,47.7704,47.773,47.7758 ,47.7763,47.7762,47.7757,47.7752, 47.7749,47.7746,47.774,47.7733,47.7722, 47.7707,47.7695,47.7664,47.7615,47.7598 ,47.7593,47.7587,47.7555,47.7509, 47.7476,47.7423,47.7383,47.7341,47.7296 ,47.7255,47.7207,47.7131,47.7084, 47.6998,47.6936,47.6873,47.6753,47.668, 47.6601,47.6566,47.6555,48.1888,48.5571 ,49.0551,49.3317,49.6084,49.6269, 49.6331,49.6284,49.6237,49.6188,49.6118 ,49.6072,49.6017,49.6,49.5961,49.5915, 49.5846,49.5798,49.5726,49.5653,49.5578 ,49.5532,49.5484,49.5436,49.5388, 49.5339,49.5283,49.5271,49.5208,49.516, 49.51,49.5013,49.4965,49.4889,49.4818, 49.4771,49.4719,49.4679,49.4617,49.4543 ,49.4426,49.4331,49.4274,49.4227, 49.4174,49.4123,49.4051,49.4001,49.3945 ,49.3929,49.3717)
ORBIT_NUMBER = 8514
ORBITAL_ECCENTRICITY = 0.579
ORBITAL_INCLINATION = 86.83
ORBITAL_SEMIMAJOR_AXIS = 8797.49
PERIAPSIS_ALTITUDE = 321.63
PERIAPSIS_ARGUMENT_ANGLE = 307.09
PERIAPSIS_TIME = 2010-08-28T11:36:37.000Z
SPACECRAFT_ORIENTATION = (0.0,1.0,0.0)
^MEX_ORIENTATION_DESC = "MEX_ORIENTATION_DESC.TXT"
SPACECRAFT_POINTING_MODE = NADIR
^MEX_POINTING_DESC = "MEX_POINTING_DESC.TXT"
RIGHT_ASCENSION = -1e+32
DECLINATION = -1e+32
OFFSET_ANGLE = -1e+32
SPACECRAFT_SOLAR_DISTANCE = 2.3391e+08
TARGET_NAME = MARS
/* CAMERA DATA ELEMENTS */
DETECTOR_TEMPERATURE = 18.1666
FOCAL_PLANE_TEMPERATURE = 8.1755
INST_CMPRS_NAME = "DISCRETE COSINE TRANSFORMATION (DCT)"
INST_CMPRS_RATIO = 8.13262
INST_CMPRS_QUALITY = 0
INST_CMPRS_QUANTZ_TBL_ID = 0
INSTRUMENT_TEMPERATURE = 11.234
LENS_TEMPERATURE = 8.5833
MACROPIXEL_SIZE = 4
MISSING_FRAMES = 1
PIXEL_SUBSAMPLING_FLAG = N
SIGNAL_CHAIN_ID = 2
/* RADIOMETRIC DATA ELEMENTS */
BANDWIDTH = 88.0
CENTER_FILTER_WAVELENGTH = 538.0
RADIANCE_OFFSET = 0.415834
RADIANCE_SCALING_FACTOR = 0.00513197
REFLECTANCE_SCALING_FACTOR = 0.000241751
MEX:REFLECTANCE_OFFSET = 0.0195886
/* IMAGE OBJECT DEFINITIONS */
OBJECT = IMAGE
  INTERCHANGE_FORMAT = BINARY
  LINES = 16138
  LINE_SAMPLES = 2167
  SAMPLE_TYPE = UNSIGNED_INTEGER
  SAMPLE_BITS = 8
  BANDS = 1
  BAND_STORAGE_TYPE = BAND_SEQUENTIAL
  MAXIMUM = 255
  MEAN = 134.037
  MINIMUM = 1
  STANDARD_DEVIATION = 24.9781
END_OBJECT = IMAGE
/* MAP OBJECT DEFINITIONS */
OBJECT = IMAGE_MAP_PROJECTION
  ^DATA_SET_MAP_PROJECTION_CATALOG= "DSMAP.CAT"
  A_AXIS_RADIUS = 3396.0
  B_AXIS_RADIUS = 3396.0
  C_AXIS_RADIUS = 3396.0
  CENTER_LATITUDE = 0.0
  CENTER_LONGITUDE = 49.0
  COORDINATE_SYSTEM_NAME = PLANETOGRAPHIC
  COORDINATE_SYSTEM_TYPE = "BODY-FIXED ROTATING"
  EASTERNMOST_LONGITUDE = 49.6331
  FIRST_STANDARD_PARALLEL = "N/A"
  LINE_FIRST_PIXEL = 1
  LINE_LAST_PIXEL = 16138
  LINE_PROJECTION_OFFSET = -25127.875
  MAP_PROJECTION_ROTATION = 0.0
  MAP_PROJECTION_TYPE = SINUSOIDAL
  MAP_RESOLUTION = 1185.42760773333
  MAP_SCALE = 0.05
  MAXIMUM_LATITUDE = -21.191
  MINIMUM_LATITUDE = -34.7912
  POSITIVE_LONGITUDE_DIRECTION = EAST
  REFERENCE_LATITUDE = "N/A"
  REFERENCE_LONGITUDE = "N/A"
  SAMPLE_FIRST_PIXEL = 1
  SAMPLE_LAST_PIXEL = 2167
  SAMPLE_PROJECTION_OFFSET = 1481.375
  SECOND_STANDARD_PARALLEL = "N/A"
  WESTERNMOST_LONGITUDE = 47.6555
END_OBJECT = IMAGE_MAP_PROJECTION
END
