PDS_VERSION_ID = PDS3
/* FILE DATA ELEMENTS */
RECORD_TYPE = UNDEFINED
/* POINTERS TO DATA OBJECTS */
^IMAGE = ("H8511_0000_BL4.TIF")
/* IDENTIFICATION DATA ELEMENTS */
DATA_SET_ID = "MEX-M-HRSC-4-REFDR-MAPPROJECT-EXT3-V4.0"
DATA_SET_NAME = "MARS EXPRESS HRSC MAP PROJECTED REFDR EXTENSION3 V4.0"
DETECTOR_ID = MEX_HRSC_BLUE
EVENT_TYPE = "MARS-REGIONAL-MAPPING-Im-Fl"
INSTRUMENT_HOST_ID = MEX
INSTRUMENT_HOST_NAME = "MARS EXPRESS"
INSTRUMENT_ID = HRSC
INSTRUMENT_NAME = "HIGH RESOLUTION STEREO CAMERA"
MISSION_NAME = "MARS EXPRESS"
MISSION_PHASE_NAME = ME_Phase_21
PROCESSING_LEVEL_ID = 4
PRODUCT_CREATION_TIME = 2023-02-03T21:13:30.000Z
PRODUCT_ID = "H8511_0000_BL4.TIF"
RELEASE_ID = 0005
REVISION_ID = 0000
/* QUALITY DATA ELEMENTS */
DATA_QUALITY_ID = 1
DATA_QUALITY_DESC = "Data calculated based on original SPICE kernels"
/* TIME DATA ELEMENTS */
SPACECRAFT_CLOCK_START_COUNT = "1/0231000141.07281"
SPACECRAFT_CLOCK_STOP_COUNT = "1/0231000438.14171"
START_TIME = 2010-08-27T14:42:52.816Z
STOP_TIME = 2010-08-27T14:43:32.630Z
/* ORBITAL DATA ELEMENTS */
ASCENDING_NODE_LONGITUDE = 54.74
MAXIMUM_RESOLUTION = 0.0646
FOOTPRINT_POINT_LATITUDE = (-31.1687,-31.1685,-31.1683,-31.1681, -31.1679,-31.1676,-31.1673,-31.1668, -31.1665,-31.1661,-31.1656,-31.1652, -31.1647,-31.1641,-31.1636,-31.163, -31.1623,-31.1617,-31.1608,-31.1601, -31.1593,-31.1586,-31.1582,-31.1574, -31.1565,-31.1556,-31.1549,-31.1547, -31.1495,-31.0875,-30.9835,-30.4942, -29.22,-29.1793,-29.129,-28.9774, -28.8886,-28.8876,-28.8865,-28.8869, -28.8873,-28.8879,-28.8885,-28.8889, -28.8894,-28.8897,-28.89,-28.8903, -28.8906,-28.8909,-28.8911,-28.8915, -28.8918,-28.8921,-28.8923,-28.8926, -28.8928,-28.893,-28.8933,-28.8935, -28.8937,-28.8939,-28.8941,-28.8943, -28.8944,-28.8946,-28.8948,-28.8949, -28.8951,-28.8952,-28.8954,-28.8955, -28.8956,-28.8958,-28.8958,-28.896, -28.8961,-28.8962,-28.8964,-28.8964, -28.8965,-28.8967,-28.8968,-28.8971, -28.8971,-28.8971,-28.8972,-28.8972, -28.8972,-28.8982,-28.9882,-29.1399, -29.1902,-29.2311,-30.5072,-30.9972, -31.1013,-31.1625,-31.1635,-31.1687)
FOOTPRINT_POINT_LONGITUDE = (356.321,356.23,356.17,356.109,356.049, 355.988,355.927,355.837,355.776,355.715 ,355.655,355.594,355.534,355.473, 355.413,355.352,355.292,355.231,355.155 ,355.095,355.034,354.974,354.943, 354.883,354.822,354.762,354.716,354.701 ,354.69,354.69,354.69,354.691,354.689, 354.689,354.688,354.688,354.687,354.687 ,354.687,354.717,354.749,354.796, 354.843,354.89,354.937,354.969,355.0, 355.032,355.063,355.094,355.126,355.173 ,355.204,355.236,355.267,355.298,355.33 ,355.361,355.393,355.424,355.455, 355.487,355.518,355.55,355.581,355.612, 355.644,355.675,355.707,355.738,355.77, 355.801,355.832,355.864,355.895,355.942 ,355.974,356.021,356.052,356.083,356.13 ,356.162,356.193,356.224,356.255, 356.287,356.318,356.349,356.365,356.37, 356.369,356.366,356.365,356.365,356.342 ,356.332,356.33,356.329,356.329, 356.321)
ORBIT_NUMBER = 8511
ORBITAL_ECCENTRICITY = 0.579
ORBITAL_INCLINATION = 86.83
ORBITAL_SEMIMAJOR_AXIS = 8795.87
PERIAPSIS_ALTITUDE = 321.77
PERIAPSIS_ARGUMENT_ANGLE = 307.57
PERIAPSIS_TIME = 2010-08-27T14:37:35.000Z
SPACECRAFT_ORIENTATION = (0.0,1.0,0.0)
^MEX_ORIENTATION_DESC = "MEX_ORIENTATION_DESC.TXT"
SPACECRAFT_POINTING_MODE = NADIR
^MEX_POINTING_DESC = "MEX_POINTING_DESC.TXT"
RIGHT_ASCENSION = -1e+32
DECLINATION = -1e+32
OFFSET_ANGLE = -1e+32
SPACECRAFT_SOLAR_DISTANCE = 2.34069e+08
TARGET_NAME = MARS
/* CAMERA DATA ELEMENTS */
DETECTOR_TEMPERATURE = 17.7588
FOCAL_PLANE_TEMPERATURE = 7.5638
INST_CMPRS_NAME = "DISCRETE COSINE TRANSFORMATION (DCT)"
INST_CMPRS_RATIO = 39.8135
INST_CMPRS_QUALITY = 0
INST_CMPRS_QUANTZ_TBL_ID = 0
INSTRUMENT_TEMPERATURE = 10.8262
LENS_TEMPERATURE = 7.9716
MACROPIXEL_SIZE = 4
MISSING_FRAMES = 287
PIXEL_SUBSAMPLING_FLAG = N
SIGNAL_CHAIN_ID = 2
/* RADIOMETRIC DATA ELEMENTS */
BANDWIDTH = 76.0
CENTER_FILTER_WAVELENGTH = 444.0
RADIANCE_OFFSET = 0.164662
RADIANCE_SCALING_FACTOR = 0.0019372
REFLECTANCE_SCALING_FACTOR = 0.000109047
MEX:REFLECTANCE_OFFSET = 0.00926902
/* IMAGE OBJECT DEFINITIONS */
OBJECT = IMAGE
  INTERCHANGE_FORMAT = BINARY
  LINES = 2240
  LINE_SAMPLES = 1759
  SAMPLE_TYPE = UNSIGNED_INTEGER
  SAMPLE_BITS = 8
  BANDS = 1
  BAND_STORAGE_TYPE = BAND_SEQUENTIAL
  MAXIMUM = 212
  MEAN = 140.589
  MINIMUM = 4
  STANDARD_DEVIATION = 13.3117
END_OBJECT = IMAGE
/* MAP OBJECT DEFINITIONS */
OBJECT = IMAGE_MAP_PROJECTION
  ^DATA_SET_MAP_PROJECTION_CATALOG= "DSMAP.CAT"
  A_AXIS_RADIUS = 3396.0
  B_AXIS_RADIUS = 3396.0
  C_AXIS_RADIUS = 3396.0
  CENTER_LATITUDE = 0.0
  CENTER_LONGITUDE = 356.0
  COORDINATE_SYSTEM_NAME = PLANETOGRAPHIC
  COORDINATE_SYSTEM_TYPE = "BODY-FIXED ROTATING"
  EASTERNMOST_LONGITUDE = 356.37
  FIRST_STANDARD_PARALLEL = "N/A"
  LINE_FIRST_PIXEL = 1
  LINE_LAST_PIXEL = 2240
  LINE_PROJECTION_OFFSET = -34726.125
  MAP_PROJECTION_ROTATION = 0.0
  MAP_PROJECTION_TYPE = SINUSOIDAL
  MAP_RESOLUTION = 1185.42760773333
  MAP_SCALE = 0.05
  MAXIMUM_LATITUDE = -28.8865
  MINIMUM_LATITUDE = -31.1687
  POSITIVE_LONGITUDE_DIRECTION = EAST
  REFERENCE_LATITUDE = "N/A"
  REFERENCE_LONGITUDE = "N/A"
  SAMPLE_FIRST_PIXEL = 1
  SAMPLE_LAST_PIXEL = 1759
  SAMPLE_PROJECTION_OFFSET = 1374.125
  SECOND_STANDARD_PARALLEL = "N/A"
  WESTERNMOST_LONGITUDE = 354.687
END_OBJECT = IMAGE_MAP_PROJECTION
END
