PDS_VERSION_ID = PDS3
/* FILE DATA ELEMENTS */
RECORD_TYPE = UNDEFINED
/* POINTERS TO DATA OBJECTS */
^IMAGE = ("H8507_0000_S14.TIF")
/* IDENTIFICATION DATA ELEMENTS */
DATA_SET_ID = "MEX-M-HRSC-4-REFDR-MAPPROJECT-EXT3-V4.0"
DATA_SET_NAME = "MARS EXPRESS HRSC MAP PROJECTED REFDR EXTENSION3 V4.0"
DETECTOR_ID = MEX_HRSC_S1
EVENT_TYPE = "MARS-REGIONAL-MAPPING-Im-Fl-Pf"
INSTRUMENT_HOST_ID = MEX
INSTRUMENT_HOST_NAME = "MARS EXPRESS"
INSTRUMENT_ID = HRSC
INSTRUMENT_NAME = "HIGH RESOLUTION STEREO CAMERA"
MISSION_NAME = "MARS EXPRESS"
MISSION_PHASE_NAME = ME_Phase_21
PROCESSING_LEVEL_ID = 4
PRODUCT_CREATION_TIME = 2023-02-03T21:13:30.000Z
PRODUCT_ID = "H8507_0000_S14.TIF"
RELEASE_ID = 0005
REVISION_ID = 0000
/* QUALITY DATA ELEMENTS */
DATA_QUALITY_ID = 1
DATA_QUALITY_DESC = "Data calculated based on original SPICE kernels"
/* TIME DATA ELEMENTS */
SPACECRAFT_CLOCK_START_COUNT = "1/0230899304.08246"
SPACECRAFT_CLOCK_STOP_COUNT = "1/0230899512.07306"
START_TIME = 2010-08-26T10:42:50.957Z
STOP_TIME = 2010-08-26T10:44:03.074Z
/* ORBITAL DATA ELEMENTS */
ASCENDING_NODE_LONGITUDE = 54.81
MAXIMUM_RESOLUTION = 0.0311
FOOTPRINT_POINT_LATITUDE = (-38.4687,-38.4658,-38.4619,-38.4579, -38.4539,-38.4497,-38.4455,-38.4413, -38.437,-38.4326,-38.4282,-38.4237, -38.4191,-38.4145,-38.4139,-38.4577, -38.3849,-38.326,-38.2499,-38.1488, -38.0374,-37.9648,-37.8571,-37.7987, -37.7287,-37.6586,-37.5712,-37.4835, -37.4129,-37.3017,-37.2148,-37.0983, -36.9531,-36.8576,-36.7451,-36.5938, -36.4532,-36.2796,-36.0876,-35.9622, -35.8966,-35.8023,-35.6312,-35.2238, -35.0949,-34.9296,-34.6856,-34.0517, -34.0489,-34.0535,-34.0575,-34.0614, -34.0657,-34.0677,-34.0712,-34.0756, -34.0795,-34.0833,-34.0856,-34.0883, -34.0917,-34.0958,-34.1,-34.1006, -34.1012,-34.739,-34.9858,-35.1549, -35.3237,-35.8557,-35.9494,-36.0066, -36.1395,-36.3081,-36.4779,-36.5452, -36.6477,-36.8039,-36.9205,-37.0213, -37.0792,-37.169,-37.242,-37.3395, -37.4636,-37.5552,-37.6255,-37.7305, -37.8005,-37.9132,-37.9861,-38.0518, -38.1107,-38.1756,-38.2639,-38.3267, -38.4166,-38.5078,-38.5323,-38.4687)
FOOTPRINT_POINT_LONGITUDE = (45.986,45.8903,45.763,45.6361,45.5097, 45.3836,45.2579,45.1327,45.008,44.8837, 44.7597,44.636,44.5127,44.3898,44.3744, 44.365,44.3662,44.367,44.3682,44.3695, 44.3711,44.372,44.3734,44.3741,44.375, 44.3759,44.3769,44.3779,44.3788,44.3801 ,44.381,44.3822,44.3839,44.3848,44.3859 ,44.3871,44.3881,44.3895,44.391,44.3919 ,44.3923,44.3929,44.394,44.3963,44.3971 ,44.3976,44.3984,44.4,44.4001,44.5284, 44.6578,44.7875,44.9338,45.0152,45.1294 ,45.2117,45.3269,45.4914,45.574,45.657, 45.7732,45.9068,46.0738,46.0907,46.0967 ,46.0902,46.0872,46.0858,46.0842, 46.0716,46.0694,46.068,46.0654,46.0626, 46.0593,46.0577,46.0557,46.0549,46.0557 ,46.0578,46.0578,46.0578,46.0571, 46.0555,46.0528,46.0511,46.0498,46.0476 ,46.0461,46.0436,46.042,46.041,46.0397, 46.0391,46.0384,46.0375,46.0355,46.0331 ,46.0326,45.986)
ORBIT_NUMBER = 8507
ORBITAL_ECCENTRICITY = 0.579
ORBITAL_INCLINATION = 86.83
ORBITAL_SEMIMAJOR_AXIS = 8799.66
PERIAPSIS_ALTITUDE = 321.8
PERIAPSIS_ARGUMENT_ANGLE = 308.28
PERIAPSIS_TIME = 2010-08-26T10:38:58.000Z
SPACECRAFT_ORIENTATION = (0.0,1.0,0.0)
^MEX_ORIENTATION_DESC = "MEX_ORIENTATION_DESC.TXT"
SPACECRAFT_POINTING_MODE = ACROSSTRACK
^MEX_POINTING_DESC = "MEX_POINTING_DESC.TXT"
RIGHT_ASCENSION = -1e+32
DECLINATION = -1e+32
OFFSET_ANGLE = -0.5
SPACECRAFT_SOLAR_DISTANCE = 2.3428e+08
TARGET_NAME = MARS
/* CAMERA DATA ELEMENTS */
DETECTOR_TEMPERATURE = 18.3705
FOCAL_PLANE_TEMPERATURE = 8.1755
INST_CMPRS_NAME = "DISCRETE COSINE TRANSFORMATION (DCT)"
INST_CMPRS_RATIO = 15.5476
INST_CMPRS_QUALITY = 0
INST_CMPRS_QUANTZ_TBL_ID = 0
INSTRUMENT_TEMPERATURE = 11.234
LENS_TEMPERATURE = 8.5833
MACROPIXEL_SIZE = 2
MISSING_FRAMES = 711
PIXEL_SUBSAMPLING_FLAG = N
SIGNAL_CHAIN_ID = 1
/* RADIOMETRIC DATA ELEMENTS */
BANDWIDTH = 180.0
CENTER_FILTER_WAVELENGTH = 677.0
RADIANCE_OFFSET = 1.3819
RADIANCE_SCALING_FACTOR = 0.0134706
REFLECTANCE_SCALING_FACTOR = 0.000385744
MEX:REFLECTANCE_OFFSET = 0.0395721
/* IMAGE OBJECT DEFINITIONS */
OBJECT = IMAGE
  INTERCHANGE_FORMAT = BINARY
  LINES = 16000
  LINE_SAMPLES = 3311
  SAMPLE_TYPE = UNSIGNED_INTEGER
  SAMPLE_BITS = 8
  BANDS = 1
  BAND_STORAGE_TYPE = BAND_SEQUENTIAL
  MAXIMUM = 255
  MEAN = 104.646
  MINIMUM = 1
  STANDARD_DEVIATION = 22.0106
END_OBJECT = IMAGE
/* MAP OBJECT DEFINITIONS */
OBJECT = IMAGE_MAP_PROJECTION
  ^DATA_SET_MAP_PROJECTION_CATALOG= "DSMAP.CAT"
  A_AXIS_RADIUS = 3396.0
  B_AXIS_RADIUS = 3396.0
  C_AXIS_RADIUS = 3396.0
  CENTER_LATITUDE = 0.0
  CENTER_LONGITUDE = 45.0
  COORDINATE_SYSTEM_NAME = PLANETOGRAPHIC
  COORDINATE_SYSTEM_TYPE = "BODY-FIXED ROTATING"
  EASTERNMOST_LONGITUDE = 46.0967
  FIRST_STANDARD_PARALLEL = "N/A"
  LINE_FIRST_PIXEL = 1
  LINE_LAST_PIXEL = 16000
  LINE_PROJECTION_OFFSET = -75264.25
  MAP_PROJECTION_ROTATION = 0.0
  MAP_PROJECTION_TYPE = SINUSOIDAL
  MAP_RESOLUTION = 2370.85521546667
  MAP_SCALE = 0.025
  MAXIMUM_LATITUDE = -34.0489
  MINIMUM_LATITUDE = -38.5323
  POSITIVE_LONGITUDE_DIRECTION = EAST
  REFERENCE_LATITUDE = "N/A"
  REFERENCE_LONGITUDE = "N/A"
  SAMPLE_FIRST_PIXEL = 1
  SAMPLE_LAST_PIXEL = 3311
  SAMPLE_PROJECTION_OFFSET = 1141.75
  SECOND_STANDARD_PARALLEL = "N/A"
  WESTERNMOST_LONGITUDE = 44.365
END_OBJECT = IMAGE_MAP_PROJECTION
END
