PDS_VERSION_ID = PDS3
/* FILE DATA ELEMENTS */
RECORD_TYPE = UNDEFINED
/* POINTERS TO DATA OBJECTS */
^IMAGE = ("H8504_0000_P24.TIF")
/* IDENTIFICATION DATA ELEMENTS */
DATA_SET_ID = "MEX-M-HRSC-4-REFDR-MAPPROJECT-EXT3-V4.0"
DATA_SET_NAME = "MARS EXPRESS HRSC MAP PROJECTED REFDR EXTENSION3 V4.0"
DETECTOR_ID = MEX_HRSC_P2
EVENT_TYPE = "MARS-REGIONAL-MAPPING-Im-Fl"
INSTRUMENT_HOST_ID = MEX
INSTRUMENT_HOST_NAME = "MARS EXPRESS"
INSTRUMENT_ID = HRSC
INSTRUMENT_NAME = "HIGH RESOLUTION STEREO CAMERA"
MISSION_NAME = "MARS EXPRESS"
MISSION_PHASE_NAME = ME_Phase_21
PROCESSING_LEVEL_ID = 4
PRODUCT_CREATION_TIME = 2023-02-03T21:13:30.000Z
PRODUCT_ID = "H8504_0000_P24.TIF"
RELEASE_ID = 0005
REVISION_ID = 0000
/* QUALITY DATA ELEMENTS */
DATA_QUALITY_ID = 1
DATA_QUALITY_DESC = "Data calculated based on original SPICE kernels"
/* TIME DATA ELEMENTS */
SPACECRAFT_CLOCK_START_COUNT = "1/0230823864.08254"
SPACECRAFT_CLOCK_STOP_COUNT = "1/0230824155.39309"
START_TIME = 2010-08-25T13:44:38.481Z
STOP_TIME = 2010-08-25T13:47:45.248Z
/* ORBITAL DATA ELEMENTS */
ASCENDING_NODE_LONGITUDE = 54.87
MAXIMUM_RESOLUTION = 0.0318
FOOTPRINT_POINT_LATITUDE = (-31.138,-31.1377,-31.1342,-31.1299, -31.1297,-31.1125,-30.6689,-30.4474, -30.0059,-29.6745,-29.4523,-28.9019, -28.4612,-28.124,-27.8966,-27.4514, -27.2262,-26.9964,-26.7642,-26.537, -26.306,-26.0754,-25.8412,-25.6049, -25.251,-25.0149,-24.7751,-24.5343, -24.2931,-24.052,-23.6841,-23.3148, -23.0681,-22.8191,-22.5684,-22.3187, -21.935,-21.6763,-21.4208,-21.1629, -20.9024,-20.646,-20.2505,-19.9848, -19.7198,-19.3158,-19.1772,-19.1306, -19.1309,-19.1341,-19.1309,-19.1285, -19.1236,-19.1199,-19.1196,-19.1201, -19.3911,-19.662,-19.9282,-20.1952, -20.5929,-20.8538,-21.1145,-21.3737, -21.6297,-22.0128,-22.2667,-22.5175, -22.7703,-23.1461,-23.3919,-23.6343, -23.8826,-24.248,-24.6103,-24.8518, -25.0907,-25.3257,-25.5635,-25.7999, -26.035,-26.2656,-26.4969,-26.7285, -27.0755,-27.3016,-27.6411,-27.8673, -28.0936,-28.5381,-29.091,-29.4229, -29.6445,-30.0867,-30.3084,-30.5299, -30.7518,-30.9734,-31.0846,-31.138)
FOOTPRINT_POINT_LONGITUDE = (352.456,351.757,351.273,350.91,350.895 ,350.883,350.884,350.884,350.885, 350.885,350.884,350.883,350.881,350.878 ,350.876,350.876,350.875,350.872, 350.869,350.869,350.867,350.864,350.862 ,350.859,350.855,350.852,350.849, 350.846,350.842,350.839,350.833,350.827 ,350.822,350.819,350.814,350.81,350.802 ,350.796,350.79,350.785,350.78,350.776, 350.766,350.76,350.754,350.744,350.739, 350.738,350.993,351.285,351.721,351.976 ,352.323,352.597,352.616,352.622, 352.619,352.616,352.613,352.61,352.605, 352.603,352.6,352.597,352.595,352.591, 352.588,352.586,352.582,352.577,352.575 ,352.574,352.57,352.565,352.56,352.557, 352.554,352.552,352.548,352.545,352.542 ,352.539,352.536,352.533,352.528, 352.525,352.52,352.516,352.513,352.507, 352.498,352.493,352.489,352.482,352.479 ,352.475,352.472,352.468,352.466, 352.456)
ORBIT_NUMBER = 8504
ORBITAL_ECCENTRICITY = 0.579
ORBITAL_INCLINATION = 86.83
ORBITAL_SEMIMAJOR_AXIS = 8797.62
PERIAPSIS_ALTITUDE = 321.86
PERIAPSIS_ARGUMENT_ANGLE = 308.77
PERIAPSIS_TIME = 2010-08-25T13:39:54.000Z
SPACECRAFT_ORIENTATION = (0.0,1.0,0.0)
^MEX_ORIENTATION_DESC = "MEX_ORIENTATION_DESC.TXT"
SPACECRAFT_POINTING_MODE = ACROSSTRACK
^MEX_POINTING_DESC = "MEX_POINTING_DESC.TXT"
RIGHT_ASCENSION = -1e+32
DECLINATION = -1e+32
OFFSET_ANGLE = -0.1
SPACECRAFT_SOLAR_DISTANCE = 2.34438e+08
TARGET_NAME = MARS
/* CAMERA DATA ELEMENTS */
DETECTOR_TEMPERATURE = 18.1666
FOCAL_PLANE_TEMPERATURE = 6.1365
INST_CMPRS_NAME = "DISCRETE COSINE TRANSFORMATION (DCT)"
INST_CMPRS_RATIO = 8.96145
INST_CMPRS_QUALITY = 0
INST_CMPRS_QUANTZ_TBL_ID = 0
INSTRUMENT_TEMPERATURE = 10.8262
LENS_TEMPERATURE = 7.9716
MACROPIXEL_SIZE = 2
MISSING_FRAMES = 0
PIXEL_SUBSAMPLING_FLAG = N
SIGNAL_CHAIN_ID = 3
/* RADIOMETRIC DATA ELEMENTS */
BANDWIDTH = 177.0
CENTER_FILTER_WAVELENGTH = 676.5
RADIANCE_OFFSET = 0.480158
RADIANCE_SCALING_FACTOR = 0.0196143
REFLECTANCE_SCALING_FACTOR = 0.000571588
MEX:REFLECTANCE_OFFSET = 0.0139925
/* IMAGE OBJECT DEFINITIONS */
OBJECT = IMAGE
  INTERCHANGE_FORMAT = BINARY
  LINES = 28438
  LINE_SAMPLES = 4415
  SAMPLE_TYPE = UNSIGNED_INTEGER
  SAMPLE_BITS = 8
  BANDS = 1
  BAND_STORAGE_TYPE = BAND_SEQUENTIAL
  MAXIMUM = 255
  MEAN = 129.338
  MINIMUM = 1
  STANDARD_DEVIATION = 18.3576
END_OBJECT = IMAGE
/* MAP OBJECT DEFINITIONS */
OBJECT = IMAGE_MAP_PROJECTION
  ^DATA_SET_MAP_PROJECTION_CATALOG= "DSMAP.CAT"
  A_AXIS_RADIUS = 3396.0
  B_AXIS_RADIUS = 3396.0
  C_AXIS_RADIUS = 3396.0
  CENTER_LATITUDE = 0.0
  CENTER_LONGITUDE = 352.0
  COORDINATE_SYSTEM_NAME = PLANETOGRAPHIC
  COORDINATE_SYSTEM_TYPE = "BODY-FIXED ROTATING"
  EASTERNMOST_LONGITUDE = 352.622
  FIRST_STANDARD_PARALLEL = "N/A"
  LINE_FIRST_PIXEL = 1
  LINE_LAST_PIXEL = 28438
  LINE_PROJECTION_OFFSET = -45343.75
  MAP_PROJECTION_ROTATION = 0.0
  MAP_PROJECTION_TYPE = SINUSOIDAL
  MAP_RESOLUTION = 2370.85521546667
  MAP_SCALE = 0.025
  MAXIMUM_LATITUDE = -19.1196
  MINIMUM_LATITUDE = -31.138
  POSITIVE_LONGITUDE_DIRECTION = EAST
  REFERENCE_LATITUDE = "N/A"
  REFERENCE_LONGITUDE = "N/A"
  SAMPLE_FIRST_PIXEL = 1
  SAMPLE_LAST_PIXEL = 4415
  SAMPLE_PROJECTION_OFFSET = 2926.25
  SECOND_STANDARD_PARALLEL = "N/A"
  WESTERNMOST_LONGITUDE = 350.738
END_OBJECT = IMAGE_MAP_PROJECTION
END
