PDS_VERSION_ID = PDS3
/* FILE DATA ELEMENTS */
RECORD_TYPE = UNDEFINED
/* POINTERS TO DATA OBJECTS */
^IMAGE = ("H8498_0000_GR4.TIF")
/* IDENTIFICATION DATA ELEMENTS */
DATA_SET_ID = "MEX-M-HRSC-4-REFDR-MAPPROJECT-EXT3-V4.0"
DATA_SET_NAME = "MARS EXPRESS HRSC MAP PROJECTED REFDR EXTENSION3 V4.0"
DETECTOR_ID = MEX_HRSC_GREEN
EVENT_TYPE = "MARS-REGIONAL-MAPPING-Vo-Te"
INSTRUMENT_HOST_ID = MEX
INSTRUMENT_HOST_NAME = "MARS EXPRESS"
INSTRUMENT_ID = HRSC
INSTRUMENT_NAME = "HIGH RESOLUTION STEREO CAMERA"
MISSION_NAME = "MARS EXPRESS"
MISSION_PHASE_NAME = ME_Phase_21
PROCESSING_LEVEL_ID = 4
PRODUCT_CREATION_TIME = 2023-02-03T04:36:48.000Z
PRODUCT_ID = "H8498_0000_GR4.TIF"
RELEASE_ID = 0004
REVISION_ID = 0000
/* QUALITY DATA ELEMENTS */
DATA_QUALITY_ID = 1
DATA_QUALITY_DESC = "Data calculated based on original SPICE kernels"
/* TIME DATA ELEMENTS */
SPACECRAFT_CLOCK_START_COUNT = "1/0230672609.07310"
SPACECRAFT_CLOCK_STOP_COUNT = "1/0230672984.53826"
START_TIME = 2010-08-23T19:44:06.229Z
STOP_TIME = 2010-08-23T19:49:03.959Z
/* ORBITAL DATA ELEMENTS */
ASCENDING_NODE_LONGITUDE = 54.99
MAXIMUM_RESOLUTION = 0.053
FOOTPRINT_POINT_LATITUDE = (-41.5867,-41.5782,-41.5678,-41.5513, -41.5509,-41.5542,-40.9025,-40.3995, -40.0632,-39.7264,-39.3913,-39.0579, -38.7235,-38.3893,-38.0556,-37.7219, -37.3885,-37.0555,-36.7228,-36.3907, -36.0589,-35.3964,-34.7355,-34.1627, -33.7699,-33.3777,-32.986,-32.5944, -32.2048,-31.8152,-31.4272,-30.8452, -30.4582,-30.0719,-29.6863,-29.104, -28.71,-28.3169,-27.909,-27.3069, -26.6952,-26.286,-25.6618,-25.2449, -24.8195,-24.3946,-23.9621,-23.31, -23.0895,-22.8715,-22.8727,-22.8719, -22.8695,-22.8694,-22.8705,-23.5322, -23.9658,-24.3991,-24.8249,-25.2513, -25.6691,-26.2945,-26.7046,-27.3174, -27.9211,-28.3296,-28.7237,-29.1185, -29.7018,-30.0881,-30.4752,-30.8629, -31.2525,-31.6406,-32.0306,-32.4212, -32.8125,-33.2044,-33.597,-33.9902, -34.384,-34.7604,-35.4227,-35.7542, -36.0859,-36.5852,-36.9183,-37.2519, -37.5859,-37.9201,-38.2546,-38.757, -39.0919,-39.5954,-39.9314,-40.2686, -40.605,-41.2667,-41.43,-41.5867)
FOOTPRINT_POINT_LONGITUDE = (245.025,244.575,244.119,243.509, 243.495,243.463,243.499,243.528,243.548 ,243.571,243.586,243.591,243.604, 243.617,243.629,243.642,243.654,243.667 ,243.678,243.689,243.699,243.718, 243.736,243.75,243.759,243.768,243.777, 243.788,243.791,243.798,243.8,243.808, 243.812,243.816,243.819,243.824,243.826 ,243.827,243.829,243.829,243.829, 243.828,243.826,243.825,243.822,243.819 ,243.816,243.81,243.807,243.805,244.511 ,245.025,245.567,245.583,245.589, 245.576,245.567,245.559,245.55,245.541, 245.532,245.518,245.509,245.495,245.481 ,245.471,245.462,245.452,245.437, 245.427,245.417,245.407,245.396,245.385 ,245.374,245.363,245.352,245.34,245.328 ,245.316,245.303,245.291,245.269, 245.258,245.246,245.229,245.217,245.204 ,245.192,245.179,245.166,245.146, 245.133,245.112,245.098,245.083,245.069 ,245.039,245.031,245.025)
ORBIT_NUMBER = 8498
ORBITAL_ECCENTRICITY = 0.579
ORBITAL_INCLINATION = 86.83
ORBITAL_SEMIMAJOR_AXIS = 8801.31
PERIAPSIS_ALTITUDE = 321.17
PERIAPSIS_ARGUMENT_ANGLE = 309.78
PERIAPSIS_TIME = 2010-08-23T19:41:52.000Z
SPACECRAFT_ORIENTATION = (0.0,1.0,0.0)
^MEX_ORIENTATION_DESC = "MEX_ORIENTATION_DESC.TXT"
SPACECRAFT_POINTING_MODE = ACROSSTRACK
^MEX_POINTING_DESC = "MEX_POINTING_DESC.TXT"
RIGHT_ASCENSION = -1e+32
DECLINATION = -1e+32
OFFSET_ANGLE = 0.6
SPACECRAFT_SOLAR_DISTANCE = 2.34751e+08
TARGET_NAME = MARS
/* CAMERA DATA ELEMENTS */
DETECTOR_TEMPERATURE = 17.7588
FOCAL_PLANE_TEMPERATURE = 7.7677
INST_CMPRS_NAME = "DISCRETE COSINE TRANSFORMATION (DCT)"
INST_CMPRS_RATIO = 9.82812
INST_CMPRS_QUALITY = 0
INST_CMPRS_QUANTZ_TBL_ID = 0
INSTRUMENT_TEMPERATURE = 10.8262
LENS_TEMPERATURE = 7.9716
MACROPIXEL_SIZE = 4
MISSING_FRAMES = 1
PIXEL_SUBSAMPLING_FLAG = N
SIGNAL_CHAIN_ID = 2
/* RADIOMETRIC DATA ELEMENTS */
BANDWIDTH = 88.0
CENTER_FILTER_WAVELENGTH = 538.0
RADIANCE_OFFSET = 0.21896
RADIANCE_SCALING_FACTOR = 0.00692656
REFLECTANCE_SCALING_FACTOR = 0.000328642
MEX:REFLECTANCE_OFFSET = 0.0103889
/* IMAGE OBJECT DEFINITIONS */
OBJECT = IMAGE
  INTERCHANGE_FORMAT = BINARY
  LINES = 22193
  LINE_SAMPLES = 2002
  SAMPLE_TYPE = UNSIGNED_INTEGER
  SAMPLE_BITS = 8
  BANDS = 1
  BAND_STORAGE_TYPE = BAND_SEQUENTIAL
  MAXIMUM = 255
  MEAN = 115.391
  MINIMUM = 1
  STANDARD_DEVIATION = 25.999
END_OBJECT = IMAGE
/* MAP OBJECT DEFINITIONS */
OBJECT = IMAGE_MAP_PROJECTION
  ^DATA_SET_MAP_PROJECTION_CATALOG= "DSMAP.CAT"
  A_AXIS_RADIUS = 3396.0
  B_AXIS_RADIUS = 3396.0
  C_AXIS_RADIUS = 3396.0
  CENTER_LATITUDE = 0.0
  CENTER_LONGITUDE = 245.0
  COORDINATE_SYSTEM_NAME = PLANETOGRAPHIC
  COORDINATE_SYSTEM_TYPE = "BODY-FIXED ROTATING"
  EASTERNMOST_LONGITUDE = 245.589
  FIRST_STANDARD_PARALLEL = "N/A"
  LINE_FIRST_PIXEL = 1
  LINE_LAST_PIXEL = 22193
  LINE_PROJECTION_OFFSET = -27126.125
  MAP_PROJECTION_ROTATION = 0.0
  MAP_PROJECTION_TYPE = SINUSOIDAL
  MAP_RESOLUTION = 1185.42760773333
  MAP_SCALE = 0.05
  MAXIMUM_LATITUDE = -22.8694
  MINIMUM_LATITUDE = -41.5867
  POSITIVE_LONGITUDE_DIRECTION = EAST
  REFERENCE_LATITUDE = "N/A"
  REFERENCE_LONGITUDE = "N/A"
  SAMPLE_FIRST_PIXEL = 1
  SAMPLE_LAST_PIXEL = 2002
  SAMPLE_PROJECTION_OFFSET = 1368.875
  SECOND_STANDARD_PARALLEL = "N/A"
  WESTERNMOST_LONGITUDE = 243.463
END_OBJECT = IMAGE_MAP_PROJECTION
END
