PDS_VERSION_ID = PDS3
/* FILE DATA ELEMENTS */
RECORD_TYPE = UNDEFINED
/* POINTERS TO DATA OBJECTS */
^IMAGE = ("H8495_0000_ND4.TIF")
/* IDENTIFICATION DATA ELEMENTS */
DATA_SET_ID = "MEX-M-HRSC-4-REFDR-MAPPROJECT-EXT3-V4.0"
DATA_SET_NAME = "MARS EXPRESS HRSC MAP PROJECTED REFDR EXTENSION3 V4.0"
DETECTOR_ID = MEX_HRSC_NADIR
EVENT_TYPE = "MARS-REGIONAL-MAPPING-Im-Fl"
INSTRUMENT_HOST_ID = MEX
INSTRUMENT_HOST_NAME = "MARS EXPRESS"
INSTRUMENT_ID = HRSC
INSTRUMENT_NAME = "HIGH RESOLUTION STEREO CAMERA"
MISSION_NAME = "MARS EXPRESS"
MISSION_PHASE_NAME = ME_Phase_21
PROCESSING_LEVEL_ID = 4
PRODUCT_CREATION_TIME = 2023-02-03T04:36:48.000Z
PRODUCT_ID = "H8495_0000_ND4.TIF"
RELEASE_ID = 0004
REVISION_ID = 0000
/* QUALITY DATA ELEMENTS */
DATA_QUALITY_ID = 1
DATA_QUALITY_DESC = "Data calculated based on original SPICE kernels"
/* TIME DATA ELEMENTS */
SPACECRAFT_CLOCK_START_COUNT = "1/0230597344.08248"
SPACECRAFT_CLOCK_STOP_COUNT = "1/0230597675.40438"
START_TIME = 2010-08-22T22:49:48.566Z
STOP_TIME = 2010-08-22T22:53:18.557Z
/* ORBITAL DATA ELEMENTS */
ASCENDING_NODE_LONGITUDE = 55.04
MAXIMUM_RESOLUTION = 0.0186
FOOTPRINT_POINT_LATITUDE = (-22.8754,-22.8774,-22.8782,-22.8779, -22.8764,-22.8763,-22.8758,-22.4452, -22.0096,-21.4593,-21.0164,-20.6783, -20.2279,-19.9985,-19.5404,-19.3084, -19.0754,-18.8428,-18.6075,-18.3708, -18.1345,-17.8956,-17.6553,-17.4154, -17.0502,-16.8066,-16.5605,-16.313, -15.9402,-15.6891,-15.4385,-15.1836, -14.9293,-14.5437,-14.2859,-14.0253, -13.7639,-13.368,-13.1034,-12.8353, -12.5673,-12.2961,-12.0247,-11.7502, -11.4755,-11.197,-10.7778,-10.637, -10.6363,-10.6308,-10.6245,-10.6188, -10.6115,-10.6027,-10.6023,-10.6025, -10.8853,-11.1644,-11.4438,-11.7194, -11.9948,-12.2671,-12.5391,-12.808, -13.0769,-13.3423,-13.7395,-14.0016, -14.2631,-14.5216,-14.9082,-15.1633, -15.4189,-15.6703,-15.922,-16.2959, -16.544,-16.7907,-17.035,-17.4012, -17.6417,-17.8826,-18.1221,-18.359, -18.5964,-18.8322,-19.0654,-19.299, -19.5316,-19.761,-19.9908,-20.2208, -20.6722,-21.0111,-21.455,-22.0065, -22.4431,-22.7676,-22.8747,-22.8754)
FOOTPRINT_POINT_LONGITUDE = (192.957,192.509,192.026,191.663, 191.229,191.211,191.199,191.192,191.184 ,191.174,191.165,191.158,191.148, 191.143,191.133,191.127,191.122,191.117 ,191.11,191.104,191.098,191.092,191.084 ,191.078,191.068,191.062,191.052, 191.045,191.034,191.025,191.017,191.008 ,191.0,190.986,190.977,190.967,190.958, 190.943,190.934,190.924,190.913,190.903 ,190.892,190.88,190.869,190.858,190.84, 190.834,190.834,191.285,191.759,192.142 ,192.593,193.088,193.111,193.122, 193.118,193.115,193.112,193.108,193.105 ,193.102,193.098,193.095,193.091, 193.088,193.083,193.08,193.076,193.073, 193.07,193.067,193.062,193.058,193.055, 193.05,193.048,193.045,193.042,193.037, 193.034,193.031,193.028,193.025,193.021 ,193.018,193.015,193.012,193.008, 193.005,193.002,192.999,192.993,192.988 ,192.982,192.973,192.967,192.962, 192.961,192.957)
ORBIT_NUMBER = 8495
ORBITAL_ECCENTRICITY = 0.579
ORBITAL_INCLINATION = 86.83
ORBITAL_SEMIMAJOR_AXIS = 8799.15
PERIAPSIS_ALTITUDE = 322.02
PERIAPSIS_ARGUMENT_ANGLE = 310.31
PERIAPSIS_TIME = 2010-08-22T22:42:52.000Z
SPACECRAFT_ORIENTATION = (0.0,1.0,0.0)
^MEX_ORIENTATION_DESC = "MEX_ORIENTATION_DESC.TXT"
SPACECRAFT_POINTING_MODE = ACROSSTRACK
^MEX_POINTING_DESC = "MEX_POINTING_DESC.TXT"
RIGHT_ASCENSION = -1e+32
DECLINATION = -1e+32
OFFSET_ANGLE = 0.13
SPACECRAFT_SOLAR_DISTANCE = 2.34908e+08
TARGET_NAME = MARS
/* CAMERA DATA ELEMENTS */
DETECTOR_TEMPERATURE = 18.1666
FOCAL_PLANE_TEMPERATURE = 7.7677
INST_CMPRS_NAME = "DISCRETE COSINE TRANSFORMATION (DCT)"
INST_CMPRS_RATIO = 6.00832
INST_CMPRS_QUALITY = 0
INST_CMPRS_QUANTZ_TBL_ID = 0
INSTRUMENT_TEMPERATURE = 11.0301
LENS_TEMPERATURE = 8.1755
MACROPIXEL_SIZE = 1
MISSING_FRAMES = 0
PIXEL_SUBSAMPLING_FLAG = N
SIGNAL_CHAIN_ID = 0
/* RADIOMETRIC DATA ELEMENTS */
BANDWIDTH = 177.0
CENTER_FILTER_WAVELENGTH = 677.5
RADIANCE_OFFSET = 0.783817
RADIANCE_SCALING_FACTOR = 0.0320187
REFLECTANCE_SCALING_FACTOR = 0.000938598
MEX:REFLECTANCE_OFFSET = 0.0229769
/* IMAGE OBJECT DEFINITIONS */
OBJECT = IMAGE
  INTERCHANGE_FORMAT = BINARY
  LINES = 58209
  LINE_SAMPLES = 10665
  SAMPLE_TYPE = UNSIGNED_INTEGER
  SAMPLE_BITS = 8
  BANDS = 1
  BAND_STORAGE_TYPE = BAND_SEQUENTIAL
  MAXIMUM = 255
  MEAN = 130.486
  MINIMUM = 1
  STANDARD_DEVIATION = 24.1722
END_OBJECT = IMAGE
/* MAP OBJECT DEFINITIONS */
OBJECT = IMAGE_MAP_PROJECTION
  ^DATA_SET_MAP_PROJECTION_CATALOG= "DSMAP.CAT"
  A_AXIS_RADIUS = 3396.0
  B_AXIS_RADIUS = 3396.0
  C_AXIS_RADIUS = 3396.0
  CENTER_LATITUDE = 0.0
  CENTER_LONGITUDE = 192.0
  COORDINATE_SYSTEM_NAME = PLANETOGRAPHIC
  COORDINATE_SYSTEM_TYPE = "BODY-FIXED ROTATING"
  EASTERNMOST_LONGITUDE = 193.122
  FIRST_STANDARD_PARALLEL = "N/A"
  LINE_FIRST_PIXEL = 1
  LINE_LAST_PIXEL = 58209
  LINE_PROJECTION_OFFSET = -50274.0
  MAP_PROJECTION_ROTATION = 0.0
  MAP_PROJECTION_TYPE = SINUSOIDAL
  MAP_RESOLUTION = 4741.71043093333
  MAP_SCALE = 0.0125
  MAXIMUM_LATITUDE = -10.6023
  MINIMUM_LATITUDE = -22.8782
  POSITIVE_LONGITUDE_DIRECTION = EAST
  REFERENCE_LATITUDE = "N/A"
  REFERENCE_LONGITUDE = "N/A"
  SAMPLE_FIRST_PIXEL = 1
  SAMPLE_LAST_PIXEL = 10665
  SAMPLE_PROJECTION_OFFSET = 5435.0
  SECOND_STANDARD_PARALLEL = "N/A"
  WESTERNMOST_LONGITUDE = 190.834
END_OBJECT = IMAGE_MAP_PROJECTION
END
