PDS_VERSION_ID = PDS3
/* FILE DATA ELEMENTS */
RECORD_TYPE = UNDEFINED
/* POINTERS TO DATA OBJECTS */
^IMAGE = ("H8491_0000_ND4.TIF")
/* IDENTIFICATION DATA ELEMENTS */
DATA_SET_ID = "MEX-M-HRSC-4-REFDR-MAPPROJECT-EXT3-V4.0"
DATA_SET_NAME = "MARS EXPRESS HRSC MAP PROJECTED REFDR EXTENSION3 V4.0"
DETECTOR_ID = MEX_HRSC_NADIR
EVENT_TYPE = "MARS-REGIONAL-MAPPING-Vo-Te-Im"
INSTRUMENT_HOST_ID = MEX
INSTRUMENT_HOST_NAME = "MARS EXPRESS"
INSTRUMENT_ID = HRSC
INSTRUMENT_NAME = "HIGH RESOLUTION STEREO CAMERA"
MISSION_NAME = "MARS EXPRESS"
MISSION_PHASE_NAME = ME_Phase_21
PROCESSING_LEVEL_ID = 4
PRODUCT_CREATION_TIME = 2023-02-03T04:36:48.000Z
PRODUCT_ID = "H8491_0000_ND4.TIF"
RELEASE_ID = 0004
REVISION_ID = 0000
/* QUALITY DATA ELEMENTS */
DATA_QUALITY_ID = 1
DATA_QUALITY_DESC = "Data calculated based on original SPICE kernels"
/* TIME DATA ELEMENTS */
SPACECRAFT_CLOCK_START_COUNT = "1/0230496478.09150"
SPACECRAFT_CLOCK_STOP_COUNT = "1/0230496662.56695"
START_TIME = 2010-08-21T18:48:35.092Z
STOP_TIME = 2010-08-21T18:50:18.104Z
/* ORBITAL DATA ELEMENTS */
ASCENDING_NODE_LONGITUDE = 55.12
MAXIMUM_RESOLUTION = 0.0151
FOOTPRINT_POINT_LATITUDE = (-31.4774,-31.4731,-31.4682,-31.4627, -31.4567,-31.45,-31.4407,-31.4402, -31.4394,-31.3131,-31.0607,-30.8085, -30.5566,-30.3049,-30.0535,-29.8024, -29.5515,-29.3009,-29.0505,-28.8005, -28.6725,-28.5442,-28.4161,-28.288, -28.1599,-28.032,-27.9041,-27.7763, -27.6486,-27.4533,-27.3224,-27.1916, -27.0609,-26.9303,-26.7997,-26.6693, -26.5389,-26.3397,-26.2062,-26.0728, -25.9394,-25.8062,-25.673,-25.54, -25.338,-25.2019,-25.0658,-24.9978, -24.9876,-24.9914,-24.9944,-24.9989, -25.0017,-25.0051,-25.0072,-25.0098, -25.0099,-25.0102,-25.1466,-25.283, -25.4873,-25.6206,-25.754,-25.8875, -26.0211,-26.1548,-26.2886,-26.4225, -26.5555,-26.6861,-26.8169,-26.9478, -27.0787,-27.2098,-27.3409,-27.472, -27.668,-27.796,-27.9241,-28.0523, -28.1805,-28.3088,-28.4372,-28.5657, -28.6942,-28.8228,-29.0734,-29.3243, -29.5755,-29.827,-30.0787,-30.3307, -30.5829,-30.8354,-30.9618,-31.0882, -31.2146,-31.4044,-31.4677,-31.4774)
FOOTPRINT_POINT_LONGITUDE = (240.517,240.273,240.024,239.772, 239.515,239.254,238.92,238.903,238.886, 238.889,238.896,238.902,238.909,238.915 ,238.92,238.926,238.931,238.936,238.941 ,238.945,238.948,238.95,238.952,238.954 ,238.956,238.958,238.96,238.961,238.963 ,238.966,238.967,238.969,238.97,238.972 ,238.973,238.974,238.976,238.978, 238.979,238.981,238.982,238.983,238.983 ,238.986,238.986,238.987,238.987, 238.988,238.988,239.202,239.378,239.675 ,239.894,240.181,240.385,240.697, 240.713,240.721,240.718,240.714,240.708 ,240.704,240.701,240.697,240.693, 240.689,240.685,240.681,240.678,240.674 ,240.67,240.666,240.662,240.658,240.654 ,240.65,240.644,240.64,240.636,240.632, 240.628,240.624,240.62,240.616,240.611, 240.607,240.599,240.591,240.582,240.573 ,240.565,240.556,240.547,240.538, 240.533,240.529,240.524,240.517,240.515 ,240.517)
ORBIT_NUMBER = 8491
ORBITAL_ECCENTRICITY = 0.579
ORBITAL_INCLINATION = 86.83
ORBITAL_SEMIMAJOR_AXIS = 8803.19
PERIAPSIS_ALTITUDE = 321.26
PERIAPSIS_ARGUMENT_ANGLE = 310.96
PERIAPSIS_TIME = 2010-08-21T18:44:07.000Z
SPACECRAFT_ORIENTATION = (0.0,1.0,0.0)
^MEX_ORIENTATION_DESC = "MEX_ORIENTATION_DESC.TXT"
SPACECRAFT_POINTING_MODE = ACROSSTRACK
^MEX_POINTING_DESC = "MEX_POINTING_DESC.TXT"
RIGHT_ASCENSION = -1e+32
DECLINATION = -1e+32
OFFSET_ANGLE = 1.4
SPACECRAFT_SOLAR_DISTANCE = 2.35115e+08
TARGET_NAME = MARS
/* CAMERA DATA ELEMENTS */
DETECTOR_TEMPERATURE = 18.5744
FOCAL_PLANE_TEMPERATURE = 8.3794
INST_CMPRS_NAME = "DISCRETE COSINE TRANSFORMATION (DCT)"
INST_CMPRS_RATIO = 8.81519
INST_CMPRS_QUALITY = 0
INST_CMPRS_QUANTZ_TBL_ID = 0
INSTRUMENT_TEMPERATURE = 10.4184
LENS_TEMPERATURE = 9.195
MACROPIXEL_SIZE = 1
MISSING_FRAMES = 0
PIXEL_SUBSAMPLING_FLAG = N
SIGNAL_CHAIN_ID = 0
/* RADIOMETRIC DATA ELEMENTS */
BANDWIDTH = 177.0
CENTER_FILTER_WAVELENGTH = 677.5
RADIANCE_OFFSET = 0.74122
RADIANCE_SCALING_FACTOR = 0.0224235
REFLECTANCE_SCALING_FACTOR = 0.000658487
MEX:REFLECTANCE_OFFSET = 0.0217666
/* IMAGE OBJECT DEFINITIONS */
OBJECT = IMAGE
  INTERCHANGE_FORMAT = BINARY
  LINES = 30772
  LINE_SAMPLES = 7608
  SAMPLE_TYPE = UNSIGNED_INTEGER
  SAMPLE_BITS = 8
  BANDS = 1
  BAND_STORAGE_TYPE = BAND_SEQUENTIAL
  MAXIMUM = 255
  MEAN = 107.38
  MINIMUM = 1
  STANDARD_DEVIATION = 14.5988
END_OBJECT = IMAGE
/* MAP OBJECT DEFINITIONS */
OBJECT = IMAGE_MAP_PROJECTION
  ^DATA_SET_MAP_PROJECTION_CATALOG= "DSMAP.CAT"
  A_AXIS_RADIUS = 3396.0
  B_AXIS_RADIUS = 3396.0
  C_AXIS_RADIUS = 3396.0
  CENTER_LATITUDE = 0.0
  CENTER_LONGITUDE = 240.0
  COORDINATE_SYSTEM_NAME = PLANETOGRAPHIC
  COORDINATE_SYSTEM_TYPE = "BODY-FIXED ROTATING"
  EASTERNMOST_LONGITUDE = 240.721
  FIRST_STANDARD_PARALLEL = "N/A"
  LINE_FIRST_PIXEL = 1
  LINE_LAST_PIXEL = 30772
  LINE_PROJECTION_OFFSET = -118486.0
  MAP_PROJECTION_ROTATION = 0.0
  MAP_PROJECTION_TYPE = SINUSOIDAL
  MAP_RESOLUTION = 4741.71043093333
  MAP_SCALE = 0.0125
  MAXIMUM_LATITUDE = -24.9876
  MINIMUM_LATITUDE = -31.4774
  POSITIVE_LONGITUDE_DIRECTION = EAST
  REFERENCE_LATITUDE = "N/A"
  REFERENCE_LONGITUDE = "N/A"
  SAMPLE_FIRST_PIXEL = 1
  SAMPLE_LAST_PIXEL = 7608
  SAMPLE_PROJECTION_OFFSET = 4507.0
  SECOND_STANDARD_PARALLEL = "N/A"
  WESTERNMOST_LONGITUDE = 238.886
END_OBJECT = IMAGE_MAP_PROJECTION
END
