PDS_VERSION_ID = PDS3
/* FILE DATA ELEMENTS */
RECORD_TYPE = UNDEFINED
/* POINTERS TO DATA OBJECTS */
^IMAGE = ("H8486_0000_P24.TIF")
/* IDENTIFICATION DATA ELEMENTS */
DATA_SET_ID = "MEX-M-HRSC-4-REFDR-MAPPROJECT-EXT3-V4.0"
DATA_SET_NAME = "MARS EXPRESS HRSC MAP PROJECTED REFDR EXTENSION3 V4.0"
DETECTOR_ID = MEX_HRSC_P2
EVENT_TYPE = "MARS-REGIONAL-MAPPING-Im-Fl-La"
INSTRUMENT_HOST_ID = MEX
INSTRUMENT_HOST_NAME = "MARS EXPRESS"
INSTRUMENT_ID = HRSC
INSTRUMENT_NAME = "HIGH RESOLUTION STEREO CAMERA"
MISSION_NAME = "MARS EXPRESS"
MISSION_PHASE_NAME = ME_Phase_21
PROCESSING_LEVEL_ID = 4
PRODUCT_CREATION_TIME = 2023-02-03T04:36:48.000Z
PRODUCT_ID = "H8486_0000_P24.TIF"
RELEASE_ID = 0004
REVISION_ID = 0000
/* QUALITY DATA ELEMENTS */
DATA_QUALITY_ID = 1
DATA_QUALITY_DESC = "Data calculated based on original SPICE kernels"
/* TIME DATA ELEMENTS */
SPACECRAFT_CLOCK_START_COUNT = "1/0230370566.09134"
SPACECRAFT_CLOCK_STOP_COUNT = "1/0230370874.54523"
START_TIME = 2010-08-20T07:49:39.719Z
STOP_TIME = 2010-08-20T07:53:09.604Z
/* ORBITAL DATA ELEMENTS */
ASCENDING_NODE_LONGITUDE = 55.22
MAXIMUM_RESOLUTION = 0.0299
FOOTPRINT_POINT_LATITUDE = (-31.6126,-31.6106,-31.604,-31.5971, -31.5968,-31.5738,-31.2448,-30.7886, -30.5223,-30.1264,-29.6036,-29.3418, -29.0792,-28.8173,-28.5554,-28.294, -28.0328,-27.7707,-27.5096,-27.248, -26.727,-26.4665,-25.9477,-25.294, -25.0284,-24.762,-24.3634,-24.0921, -23.8195,-23.5456,-23.2732,-22.9972, -22.5828,-22.3061,-21.8801,-21.5956, -21.3121,-20.8776,-20.5866,-20.1493, -19.7026,-19.4007,-19.1035,-18.8007, -18.502,-18.2003,-18.0446,-18.0353, -18.0327,-18.0305,-18.0285,-18.0241, -18.0239,-18.0244,-18.3327,-18.7919, -19.095,-19.3963,-19.6929,-19.9906, -20.2879,-20.5724,-20.8627,-21.1603, -21.4459,-21.7303,-22.0141,-22.296, -22.5746,-22.8535,-23.2668,-23.5447, -23.8186,-24.0885,-24.3542,-24.6218, -25.0237,-25.293,-25.5569,-26.0735, -26.3378,-26.5985,-26.8595,-27.1207, -27.3824,-27.9035,-28.167,-28.4288, -28.6909,-28.9534,-29.216,-29.4789, -29.742,-30.0054,-30.2692,-30.5317, -30.9234,-31.4841,-31.5945,-31.6126)
FOOTPRINT_POINT_LONGITUDE = (33.5612,33.1319,32.5172,32.1022, 32.0878,32.072,32.0757,32.0823,32.0823, 32.0836,32.0869,32.088,32.0885,32.089, 32.0893,32.0895,32.0897,32.0891,32.0888 ,32.088,32.0866,32.0855,32.0838,32.0794 ,32.0778,32.0757,32.0723,32.0694, 32.0665,32.0628,32.0595,32.0565,32.0527 ,32.0496,32.0426,32.0382,32.0339, 32.0261,32.0207,32.0128,32.0033,31.9945 ,31.9901,31.9833,31.9781,31.9742, 31.9698,31.9692,32.5845,33.013,33.2872, 33.7161,33.7333,33.7395,33.7366,33.731, 33.7278,33.7251,33.7221,33.7187,33.7153 ,33.7151,33.7124,33.7063,33.7032, 33.7004,33.6979,33.6951,33.6921,33.689, 33.6861,33.6804,33.6767,33.675,33.6745, 33.6708,33.6651,33.6606,33.6574,33.6529 ,33.6478,33.6445,33.641,33.6376,33.6339 ,33.6278,33.6232,33.6197,33.6159,33.612 ,33.608,33.604,33.5998,33.5955,33.591, 33.5872,33.5825,33.5696,33.5678, 33.5612)
ORBIT_NUMBER = 8486
ORBITAL_ECCENTRICITY = 0.579
ORBITAL_INCLINATION = 86.82
ORBITAL_SEMIMAJOR_AXIS = 8805.88
PERIAPSIS_ALTITUDE = 322.36
PERIAPSIS_ARGUMENT_ANGLE = 311.84
PERIAPSIS_TIME = 2010-08-20T07:45:49.000Z
SPACECRAFT_ORIENTATION = (0.0,1.0,0.0)
^MEX_ORIENTATION_DESC = "MEX_ORIENTATION_DESC.TXT"
SPACECRAFT_POINTING_MODE = NADIR
^MEX_POINTING_DESC = "MEX_POINTING_DESC.TXT"
RIGHT_ASCENSION = -1e+32
DECLINATION = -1e+32
OFFSET_ANGLE = -1e+32
SPACECRAFT_SOLAR_DISTANCE = 2.35373e+08
TARGET_NAME = MARS
/* CAMERA DATA ELEMENTS */
DETECTOR_TEMPERATURE = 18.5744
FOCAL_PLANE_TEMPERATURE = 8.5833
INST_CMPRS_NAME = "DISCRETE COSINE TRANSFORMATION (DCT)"
INST_CMPRS_RATIO = 6.82391
INST_CMPRS_QUALITY = 0
INST_CMPRS_QUANTZ_TBL_ID = 0
INSTRUMENT_TEMPERATURE = 11.234
LENS_TEMPERATURE = 8.7872
MACROPIXEL_SIZE = 2
MISSING_FRAMES = 0
PIXEL_SUBSAMPLING_FLAG = N
SIGNAL_CHAIN_ID = 3
/* RADIOMETRIC DATA ELEMENTS */
BANDWIDTH = 177.0
CENTER_FILTER_WAVELENGTH = 676.5
RADIANCE_OFFSET = 1.27468
RADIANCE_SCALING_FACTOR = 0.0186796
REFLECTANCE_SCALING_FACTOR = 0.000548702
MEX:REFLECTANCE_OFFSET = 0.0374431
/* IMAGE OBJECT DEFINITIONS */
OBJECT = IMAGE
  INTERCHANGE_FORMAT = BINARY
  LINES = 32199
  LINE_SAMPLES = 4167
  SAMPLE_TYPE = UNSIGNED_INTEGER
  SAMPLE_BITS = 8
  BANDS = 1
  BAND_STORAGE_TYPE = BAND_SEQUENTIAL
  MAXIMUM = 255
  MEAN = 97.4183
  MINIMUM = 1
  STANDARD_DEVIATION = 25.7912
END_OBJECT = IMAGE
/* MAP OBJECT DEFINITIONS */
OBJECT = IMAGE_MAP_PROJECTION
  ^DATA_SET_MAP_PROJECTION_CATALOG= "DSMAP.CAT"
  A_AXIS_RADIUS = 3396.0
  B_AXIS_RADIUS = 3396.0
  C_AXIS_RADIUS = 3396.0
  CENTER_LATITUDE = 0.0
  CENTER_LONGITUDE = 33.0
  COORDINATE_SYSTEM_NAME = PLANETOGRAPHIC
  COORDINATE_SYSTEM_TYPE = "BODY-FIXED ROTATING"
  EASTERNMOST_LONGITUDE = 33.7395
  FIRST_STANDARD_PARALLEL = "N/A"
  LINE_FIRST_PIXEL = 1
  LINE_LAST_PIXEL = 32199
  LINE_PROJECTION_OFFSET = -42689.25
  MAP_PROJECTION_ROTATION = 0.0
  MAP_PROJECTION_TYPE = SINUSOIDAL
  MAP_RESOLUTION = 2370.85521546667
  MAP_SCALE = 0.025
  MAXIMUM_LATITUDE = -18.0239
  MINIMUM_LATITUDE = -31.6126
  POSITIVE_LONGITUDE_DIRECTION = EAST
  REFERENCE_LATITUDE = "N/A"
  REFERENCE_LONGITUDE = "N/A"
  SAMPLE_FIRST_PIXEL = 1
  SAMPLE_LAST_PIXEL = 4167
  SAMPLE_PROJECTION_OFFSET = 2411.25
  SECOND_STANDARD_PARALLEL = "N/A"
  WESTERNMOST_LONGITUDE = 31.9692
END_OBJECT = IMAGE_MAP_PROJECTION
END
