PDS_VERSION_ID = PDS3
/* FILE DATA ELEMENTS */
RECORD_TYPE = UNDEFINED
/* POINTERS TO DATA OBJECTS */
^IMAGE = ("H8484_0000_BL4.TIF")
/* IDENTIFICATION DATA ELEMENTS */
DATA_SET_ID = "MEX-M-HRSC-4-REFDR-MAPPROJECT-EXT3-V4.0"
DATA_SET_NAME = "MARS EXPRESS HRSC MAP PROJECTED REFDR EXTENSION3 V4.0"
DETECTOR_ID = MEX_HRSC_BLUE
EVENT_TYPE = "MARS-REGIONAL-MAPPING-Vo-Te-Im"
INSTRUMENT_HOST_ID = MEX
INSTRUMENT_HOST_NAME = "MARS EXPRESS"
INSTRUMENT_ID = HRSC
INSTRUMENT_NAME = "HIGH RESOLUTION STEREO CAMERA"
MISSION_NAME = "MARS EXPRESS"
MISSION_PHASE_NAME = ME_Phase_21
PROCESSING_LEVEL_ID = 4
PRODUCT_CREATION_TIME = 2023-02-03T04:36:48.000Z
PRODUCT_ID = "H8484_0000_BL4.TIF"
RELEASE_ID = 0004
REVISION_ID = 0000
/* QUALITY DATA ELEMENTS */
DATA_QUALITY_ID = 1
DATA_QUALITY_DESC = "Data calculated based on original SPICE kernels"
/* TIME DATA ELEMENTS */
SPACECRAFT_CLOCK_START_COUNT = "1/0230320292.08222"
SPACECRAFT_CLOCK_STOP_COUNT = "1/0230320629.55760"
START_TIME = 2010-08-19T17:52:06.177Z
STOP_TIME = 2010-08-19T17:55:50.746Z
/* ORBITAL DATA ELEMENTS */
ASCENDING_NODE_LONGITUDE = 55.26
MAXIMUM_RESOLUTION = 0.1327
FOOTPRINT_POINT_LATITUDE = (-25.2607,-25.2519,-25.2411,-25.2242, -25.2237,-25.2215,-24.8391,-24.3239, -23.8034,-23.1447,-22.6141,-22.2089, -21.9382,-21.668,-21.3924,-21.1165, -20.8411,-20.5622,-20.2811,-20.0005, -19.7203,-19.4404,-19.1612,-18.8824, -18.604,-18.3261,-18.0486,-17.7717, -17.4951,-17.2191,-16.9436,-16.6685, -16.3938,-16.1197,-15.8461,-15.5728, -15.3002,-15.028,-14.7564,-14.4852, -14.2146,-13.9444,-13.6747,-13.4052, -12.8682,-12.3332,-11.7997,-11.6667, -11.6274,-11.6296,-11.6322,-11.6333, -11.6339,-11.6336,-11.6335,-11.6358, -12.1698,-12.7059,-12.9747,-13.2437, -13.5134,-13.7835,-14.0541,-14.325, -14.5962,-14.8681,-15.1404,-15.4133, -15.6865,-15.9606,-16.2351,-16.5102, -16.7856,-17.0616,-17.3381,-17.6151, -17.8924,-18.1703,-18.4486,-18.7273, -19.0066,-19.2862,-19.5663,-19.8469, -20.1279,-20.4093,-20.8305,-21.1066, -21.3831,-21.66,-21.9308,-22.202, -22.6089,-23.1406,-23.6714,-24.1927, -24.7128,-25.0957,-25.2235,-25.2607)
FOOTPRINT_POINT_LONGITUDE = (236.955,236.479,235.991,235.347, 235.331,235.323,235.325,235.328,235.329 ,235.329,235.328,235.327,235.326, 235.325,235.323,235.322,235.32,235.318, 235.316,235.313,235.311,235.307,235.305 ,235.302,235.298,235.295,235.291, 235.287,235.283,235.279,235.275,235.27, 235.266,235.261,235.256,235.25,235.245, 235.24,235.234,235.228,235.222,235.216, 235.209,235.202,235.188,235.173,235.155 ,235.15,235.149,235.467,235.941,236.329 ,236.864,237.183,237.202,237.214, 237.207,237.199,237.195,237.191,237.187 ,237.183,237.178,237.174,237.17,237.165 ,237.161,237.156,237.151,237.147, 237.142,237.137,237.133,237.128,237.123 ,237.118,237.113,237.108,237.103, 237.098,237.092,237.087,237.082,237.076 ,237.07,237.065,237.056,237.051,237.045 ,237.039,237.033,237.027,237.018, 237.006,236.994,236.982,236.969,236.96, 236.957,236.955)
ORBIT_NUMBER = 8484
ORBITAL_ECCENTRICITY = 0.579
ORBITAL_INCLINATION = 86.83
ORBITAL_SEMIMAJOR_AXIS = 8804.93
PERIAPSIS_ALTITUDE = 321.42
PERIAPSIS_ARGUMENT_ANGLE = 312.16
PERIAPSIS_TIME = 2010-08-19T17:46:25.000Z
SPACECRAFT_ORIENTATION = (0.0,1.0,0.0)
^MEX_ORIENTATION_DESC = "MEX_ORIENTATION_DESC.TXT"
SPACECRAFT_POINTING_MODE = ACROSSTRACK
^MEX_POINTING_DESC = "MEX_POINTING_DESC.TXT"
RIGHT_ASCENSION = -1e+32
DECLINATION = -1e+32
OFFSET_ANGLE = 1.2
SPACECRAFT_SOLAR_DISTANCE = 2.35476e+08
TARGET_NAME = MARS
/* CAMERA DATA ELEMENTS */
DETECTOR_TEMPERATURE = 17.1471
FOCAL_PLANE_TEMPERATURE = 8.7872
INST_CMPRS_NAME = "DISCRETE COSINE TRANSFORMATION (DCT)"
INST_CMPRS_RATIO = 12.291
INST_CMPRS_QUALITY = 0
INST_CMPRS_QUANTZ_TBL_ID = 0
INSTRUMENT_TEMPERATURE = 11.6418
LENS_TEMPERATURE = 8.9911
MACROPIXEL_SIZE = 8
MISSING_FRAMES = 0
PIXEL_SUBSAMPLING_FLAG = N
SIGNAL_CHAIN_ID = 2
/* RADIOMETRIC DATA ELEMENTS */
BANDWIDTH = 76.0
CENTER_FILTER_WAVELENGTH = 444.0
RADIANCE_OFFSET = 0.188059
RADIANCE_SCALING_FACTOR = 0.00429323
REFLECTANCE_SCALING_FACTOR = 0.000244586
MEX:REFLECTANCE_OFFSET = 0.0107138
/* IMAGE OBJECT DEFINITIONS */
OBJECT = IMAGE
  INTERCHANGE_FORMAT = BINARY
  LINES = 8083
  LINE_SAMPLES = 1235
  SAMPLE_TYPE = UNSIGNED_INTEGER
  SAMPLE_BITS = 8
  BANDS = 1
  BAND_STORAGE_TYPE = BAND_SEQUENTIAL
  MAXIMUM = 255
  MEAN = 125.991
  MINIMUM = 1
  STANDARD_DEVIATION = 55.9668
END_OBJECT = IMAGE
/* MAP OBJECT DEFINITIONS */
OBJECT = IMAGE_MAP_PROJECTION
  ^DATA_SET_MAP_PROJECTION_CATALOG= "DSMAP.CAT"
  A_AXIS_RADIUS = 3396.0
  B_AXIS_RADIUS = 3396.0
  C_AXIS_RADIUS = 3396.0
  CENTER_LATITUDE = 0.0
  CENTER_LONGITUDE = 236.0
  COORDINATE_SYSTEM_NAME = PLANETOGRAPHIC
  COORDINATE_SYSTEM_TYPE = "BODY-FIXED ROTATING"
  EASTERNMOST_LONGITUDE = 237.214
  FIRST_STANDARD_PARALLEL = "N/A"
  LINE_FIRST_PIXEL = 1
  LINE_LAST_PIXEL = 8083
  LINE_PROJECTION_OFFSET = -6886.1875
  MAP_PROJECTION_ROTATION = 0.0
  MAP_PROJECTION_TYPE = SINUSOIDAL
  MAP_RESOLUTION = 592.713803866667
  MAP_SCALE = 0.1
  MAXIMUM_LATITUDE = -11.6274
  MINIMUM_LATITUDE = -25.2607
  POSITIVE_LONGITUDE_DIRECTION = EAST
  REFERENCE_LATITUDE = "N/A"
  REFERENCE_LONGITUDE = "N/A"
  SAMPLE_FIRST_PIXEL = 1
  SAMPLE_LAST_PIXEL = 1235
  SAMPLE_PROJECTION_OFFSET = 519.4375
  SECOND_STANDARD_PARALLEL = "N/A"
  WESTERNMOST_LONGITUDE = 235.149
END_OBJECT = IMAGE_MAP_PROJECTION
END
