PDS_VERSION_ID = PDS3
/* FILE DATA ELEMENTS */
RECORD_TYPE = UNDEFINED
/* POINTERS TO DATA OBJECTS */
^IMAGE = ("H8478_0000_P24.TIF")
/* IDENTIFICATION DATA ELEMENTS */
DATA_SET_ID = "MEX-M-HRSC-4-REFDR-MAPPROJECT-EXT3-V4.0"
DATA_SET_NAME = "MARS EXPRESS HRSC MAP PROJECTED REFDR EXTENSION3 V4.0"
DETECTOR_ID = MEX_HRSC_P2
EVENT_TYPE = "MARS-REGIONAL-MAPPING-Im-Fl"
INSTRUMENT_HOST_ID = MEX
INSTRUMENT_HOST_NAME = "MARS EXPRESS"
INSTRUMENT_ID = HRSC
INSTRUMENT_NAME = "HIGH RESOLUTION STEREO CAMERA"
MISSION_NAME = "MARS EXPRESS"
MISSION_PHASE_NAME = ME_Phase_21
PROCESSING_LEVEL_ID = 4
PRODUCT_CREATION_TIME = 2023-02-03T04:36:48.000Z
PRODUCT_ID = "H8478_0000_P24.TIF"
RELEASE_ID = 0004
REVISION_ID = 0000
/* QUALITY DATA ELEMENTS */
DATA_QUALITY_ID = 1
DATA_QUALITY_DESC = "Data calculated based on original SPICE kernels"
/* TIME DATA ELEMENTS */
SPACECRAFT_CLOCK_START_COUNT = "1/0230169089.07299"
SPACECRAFT_CLOCK_STOP_COUNT = "1/0230169297.47303"
START_TIME = 2010-08-17T23:51:42.228Z
STOP_TIME = 2010-08-17T23:53:51.054Z
/* ORBITAL DATA ELEMENTS */
ASCENDING_NODE_LONGITUDE = 55.37
MAXIMUM_RESOLUTION = 0.0573
FOOTPRINT_POINT_LATITUDE = (-32.884,-32.8821,-32.8804,-32.8782, -32.8739,-32.8666,-32.8664,-32.8531, -32.3987,-32.2465,-32.0946,-31.867, -31.564,-31.4089,-31.2565,-30.9572, -30.8052,-30.5776,-30.1999,-29.8974, -29.5953,-29.4239,-29.1537,-28.9728, -28.7927,-28.6129,-28.4334,-28.2549, -28.0771,-27.8955,-27.626,-27.4484, -27.2678,-27.0888,-26.9088,-26.7289, -26.5499,-26.3708,-26.1917,-26.0127, -25.8339,-25.6549,-25.476,-25.2974, -25.1189,-24.941,-24.7627,-24.585, -24.4959,-24.4202,-24.4225,-24.4229, -24.424,-24.4248,-24.4242,-24.4235, -24.4234,-24.4244,-24.603,-24.7814, -24.9604,-25.1391,-25.3182,-25.4955, -25.6754,-25.8546,-26.0343,-26.2136, -26.3931,-26.5729,-26.8423,-27.0215, -27.2,-27.469,-27.6487,-27.8289, -28.0087,-28.1893,-28.3696,-28.6404, -28.9105,-29.1812,-29.362,-29.6218, -29.924,-30.1468,-30.2992,-30.4543, -30.7565,-31.0607,-31.2134,-31.5171, -31.6698,-31.9731,-32.2005,-32.3525, -32.5806,-32.733,-32.8084,-32.884)
FOOTPRINT_POINT_LONGITUDE = (131.846,131.525,131.338,131.138, 130.831,130.429,130.416,130.406,130.413 ,130.414,130.416,130.418,130.422, 130.421,130.422,130.427,130.427,130.429 ,130.432,130.433,130.435,130.436, 130.437,130.437,130.437,130.438,130.438 ,130.439,130.44,130.44,130.44,130.44, 130.44,130.44,130.439,130.438,130.438, 130.437,130.436,130.436,130.435,130.434 ,130.433,130.432,130.431,130.43,130.429 ,130.428,130.427,130.426,130.743, 130.916,131.161,131.493,131.725,131.956 ,131.97,131.975,131.973,131.971,131.969 ,131.967,131.964,131.963,131.96,131.958 ,131.956,131.953,131.951,131.948, 131.945,131.943,131.941,131.938,131.935 ,131.933,131.93,131.928,131.925,131.921 ,131.917,131.913,131.91,131.906,131.902 ,131.901,131.898,131.894,131.889, 131.884,131.881,131.876,131.873,131.868 ,131.864,131.862,131.858,131.855, 131.854,131.846)
ORBIT_NUMBER = 8478
ORBITAL_ECCENTRICITY = 0.579
ORBITAL_INCLINATION = 86.82
ORBITAL_SEMIMAJOR_AXIS = 8808.66
PERIAPSIS_ALTITUDE = 322.51
PERIAPSIS_ARGUMENT_ANGLE = 313.21
PERIAPSIS_TIME = 2010-08-17T23:48:31.000Z
SPACECRAFT_ORIENTATION = (0.0,1.0,0.0)
^MEX_ORIENTATION_DESC = "MEX_ORIENTATION_DESC.TXT"
SPACECRAFT_POINTING_MODE = NADIR
^MEX_POINTING_DESC = "MEX_POINTING_DESC.TXT"
RIGHT_ASCENSION = -1e+32
DECLINATION = -1e+32
OFFSET_ANGLE = -1e+32
SPACECRAFT_SOLAR_DISTANCE = 2.35783e+08
TARGET_NAME = MARS
/* CAMERA DATA ELEMENTS */
DETECTOR_TEMPERATURE = 18.5744
FOCAL_PLANE_TEMPERATURE = 8.5833
INST_CMPRS_NAME = "DISCRETE COSINE TRANSFORMATION (DCT)"
INST_CMPRS_RATIO = 3.31068
INST_CMPRS_QUALITY = 0
INST_CMPRS_QUANTZ_TBL_ID = 0
INSTRUMENT_TEMPERATURE = 11.0301
LENS_TEMPERATURE = 9.8067
MACROPIXEL_SIZE = 4
MISSING_FRAMES = 0
PIXEL_SUBSAMPLING_FLAG = N
SIGNAL_CHAIN_ID = 3
/* RADIOMETRIC DATA ELEMENTS */
BANDWIDTH = 177.0
CENTER_FILTER_WAVELENGTH = 676.5
RADIANCE_OFFSET = 0.214121
RADIANCE_SCALING_FACTOR = 0.0182866
REFLECTANCE_SCALING_FACTOR = 0.00053903
MEX:REFLECTANCE_OFFSET = 0.0063116
/* IMAGE OBJECT DEFINITIONS */
OBJECT = IMAGE
  INTERCHANGE_FORMAT = BINARY
  LINES = 10024
  LINE_SAMPLES = 1731
  SAMPLE_TYPE = UNSIGNED_INTEGER
  SAMPLE_BITS = 8
  BANDS = 1
  BAND_STORAGE_TYPE = BAND_SEQUENTIAL
  MAXIMUM = 255
  MEAN = 113.316
  MINIMUM = 1
  STANDARD_DEVIATION = 22.1375
END_OBJECT = IMAGE
/* MAP OBJECT DEFINITIONS */
OBJECT = IMAGE_MAP_PROJECTION
  ^DATA_SET_MAP_PROJECTION_CATALOG= "DSMAP.CAT"
  A_AXIS_RADIUS = 3396.0
  B_AXIS_RADIUS = 3396.0
  C_AXIS_RADIUS = 3396.0
  CENTER_LATITUDE = 0.0
  CENTER_LONGITUDE = 131.0
  COORDINATE_SYSTEM_NAME = PLANETOGRAPHIC
  COORDINATE_SYSTEM_TYPE = "BODY-FIXED ROTATING"
  EASTERNMOST_LONGITUDE = 131.975
  FIRST_STANDARD_PARALLEL = "N/A"
  LINE_FIRST_PIXEL = 1
  LINE_LAST_PIXEL = 10024
  LINE_PROJECTION_OFFSET = -28928.375
  MAP_PROJECTION_ROTATION = 0.0
  MAP_PROJECTION_TYPE = SINUSOIDAL
  MAP_RESOLUTION = 1185.42760773333
  MAP_SCALE = 0.05
  MAXIMUM_LATITUDE = -24.4202
  MINIMUM_LATITUDE = -32.884
  POSITIVE_LONGITUDE_DIRECTION = EAST
  REFERENCE_LATITUDE = "N/A"
  REFERENCE_LONGITUDE = "N/A"
  SAMPLE_FIRST_PIXEL = 1
  SAMPLE_LAST_PIXEL = 1731
  SAMPLE_PROJECTION_OFFSET = 651.375
  SECOND_STANDARD_PARALLEL = "N/A"
  WESTERNMOST_LONGITUDE = 130.406
END_OBJECT = IMAGE_MAP_PROJECTION
END
