PDS_VERSION_ID = PDS3
/* FILE DATA ELEMENTS */
RECORD_TYPE = UNDEFINED
/* POINTERS TO DATA OBJECTS */
^IMAGE = ("H8470_0000_S24.TIF")
/* IDENTIFICATION DATA ELEMENTS */
DATA_SET_ID = "MEX-M-HRSC-4-REFDR-MAPPROJECT-EXT3-V4.0"
DATA_SET_NAME = "MARS EXPRESS HRSC MAP PROJECTED REFDR EXTENSION3 V4.0"
DETECTOR_ID = MEX_HRSC_S2
EVENT_TYPE = "MARS-REGIONAL-MAPPING-Vo"
INSTRUMENT_HOST_ID = MEX
INSTRUMENT_HOST_NAME = "MARS EXPRESS"
INSTRUMENT_ID = HRSC
INSTRUMENT_NAME = "HIGH RESOLUTION STEREO CAMERA"
MISSION_NAME = "MARS EXPRESS"
MISSION_PHASE_NAME = ME_Phase_21
PROCESSING_LEVEL_ID = 4
PRODUCT_CREATION_TIME = 2023-02-03T04:36:48.000Z
PRODUCT_ID = "H8470_0000_S24.TIF"
RELEASE_ID = 0004
REVISION_ID = 0000
/* QUALITY DATA ELEMENTS */
DATA_QUALITY_ID = 1
DATA_QUALITY_DESC = "Data calculated based on original SPICE kernels"
/* TIME DATA ELEMENTS */
SPACECRAFT_CLOCK_START_COUNT = "1/0229967721.29605"
SPACECRAFT_CLOCK_STOP_COUNT = "1/0229967979.62373"
START_TIME = 2010-08-15T15:55:24.000Z
STOP_TIME = 2010-08-15T15:56:36.684Z
/* ORBITAL DATA ELEMENTS */
ASCENDING_NODE_LONGITUDE = 55.52
MAXIMUM_RESOLUTION = 0.0318
FOOTPRINT_POINT_LATITUDE = (-26.9836,-26.9723,-26.9607,-26.9488, -26.9366,-26.9241,-26.9113,-26.8982, -26.8848,-26.871,-26.857,-26.8425, -26.8164,-26.8145,-26.8032,-26.7083, -26.6134,-26.4711,-26.3762,-26.2813, -26.1863,-26.0914,-25.9491,-25.7592, -25.617,-25.3803,-25.2382,-25.096, -24.9065,-24.6696,-24.4327,-24.2434, -24.0066,-23.8171,-23.5803,-23.3912, -23.1549,-23.0094,-22.9126,-22.8155, -22.7185,-22.573,-22.4761,-22.3307, -22.2338,-22.0886,-22.0403,-22.0137, -22.0367,-22.0505,-22.0639,-22.0833, -22.096,-22.1144,-22.1263,-22.1378, -22.1506,-22.1616,-22.1724,-22.1737, -22.1747,-22.3204,-22.4661,-22.5633, -22.6604,-22.806,-22.9032,-23.0004, -23.1463,-23.2436,-23.3877,-23.5772, -23.672,-23.8143,-24.0039,-24.0988, -24.2411,-24.3361,-24.431,-24.5733, -24.763,-24.9053,-25.09,-25.1858, -25.2841,-25.4274,-25.5225,-25.6652, -25.7602,-25.8553,-25.9979,-26.1878, -26.283,-26.4257,-26.5209,-26.6161, -26.7589,-26.9016,-26.9491,-26.9836)
FOOTPRINT_POINT_LONGITUDE = (228.472,228.357,228.242,228.126, 228.008,227.89,227.77,227.649,227.528, 227.404,227.28,227.154,226.931,226.915, 226.899,226.9,226.902,226.905,226.907, 226.908,226.91,226.911,226.914,226.917, 226.919,226.923,226.925,226.927,226.929 ,226.932,226.935,226.937,226.939, 226.941,226.942,226.944,226.946,226.947 ,226.948,226.948,226.949,226.95,226.95, 226.951,226.951,226.952,226.952,226.953 ,227.169,227.3,227.431,227.624,227.751, 227.94,228.065,228.188,228.326,228.447, 228.567,228.582,228.587,228.584,228.581 ,228.579,228.577,228.573,228.571, 228.569,228.566,228.563,228.56,228.556, 228.554,228.55,228.546,228.543,228.54, 228.538,228.535,228.532,228.527,228.523 ,228.516,228.514,228.513,228.51,228.507 ,228.504,228.501,228.499,228.495,228.49 ,228.487,228.483,228.48,228.478,228.474 ,228.47,228.468,228.472)
ORBIT_NUMBER = 8470
ORBITAL_ECCENTRICITY = 0.579
ORBITAL_INCLINATION = 86.84
ORBITAL_SEMIMAJOR_AXIS = 8808.16
PERIAPSIS_ALTITUDE = 321.86
PERIAPSIS_ARGUMENT_ANGLE = 314.55
PERIAPSIS_TIME = 2010-08-15T15:51:16.000Z
SPACECRAFT_ORIENTATION = (0.0,1.0,0.0)
^MEX_ORIENTATION_DESC = "MEX_ORIENTATION_DESC.TXT"
SPACECRAFT_POINTING_MODE = ACROSSTRACK
^MEX_POINTING_DESC = "MEX_POINTING_DESC.TXT"
RIGHT_ASCENSION = -1e+32
DECLINATION = -1e+32
OFFSET_ANGLE = 1.6
SPACECRAFT_SOLAR_DISTANCE = 2.36188e+08
TARGET_NAME = MARS
/* CAMERA DATA ELEMENTS */
DETECTOR_TEMPERATURE = 0.0
FOCAL_PLANE_TEMPERATURE = 0.0
INST_CMPRS_NAME = "DISCRETE COSINE TRANSFORMATION (DCT)"
INST_CMPRS_RATIO = 5.25461
INST_CMPRS_QUALITY = 0
INST_CMPRS_QUANTZ_TBL_ID = 0
INSTRUMENT_TEMPERATURE = 0.0
LENS_TEMPERATURE = 0.0
MACROPIXEL_SIZE = 2
MISSING_FRAMES = 0
PIXEL_SUBSAMPLING_FLAG = N
SIGNAL_CHAIN_ID = 1
/* RADIOMETRIC DATA ELEMENTS */
BANDWIDTH = 178.0
CENTER_FILTER_WAVELENGTH = 679.0
RADIANCE_OFFSET = 0.863954
RADIANCE_SCALING_FACTOR = 0.0227328
REFLECTANCE_SCALING_FACTOR = 0.00067158
MEX:REFLECTANCE_OFFSET = 0.0255233
/* IMAGE OBJECT DEFINITIONS */
OBJECT = IMAGE
  INTERCHANGE_FORMAT = BINARY
  LINES = 5604
  LINE_SAMPLES = 3593
  SAMPLE_TYPE = UNSIGNED_INTEGER
  SAMPLE_BITS = 8
  BANDS = 1
  BAND_STORAGE_TYPE = BAND_SEQUENTIAL
  MAXIMUM = 255
  MEAN = 102.867
  MINIMUM = 1
  STANDARD_DEVIATION = 14.4622
END_OBJECT = IMAGE
/* MAP OBJECT DEFINITIONS */
OBJECT = IMAGE_MAP_PROJECTION
  ^DATA_SET_MAP_PROJECTION_CATALOG= "DSMAP.CAT"
  A_AXIS_RADIUS = 3396.0
  B_AXIS_RADIUS = 3396.0
  C_AXIS_RADIUS = 3396.0
  CENTER_LATITUDE = 0.0
  CENTER_LONGITUDE = 228.0
  COORDINATE_SYSTEM_NAME = PLANETOGRAPHIC
  COORDINATE_SYSTEM_TYPE = "BODY-FIXED ROTATING"
  EASTERNMOST_LONGITUDE = 228.587
  FIRST_STANDARD_PARALLEL = "N/A"
  LINE_FIRST_PIXEL = 1
  LINE_LAST_PIXEL = 5604
  LINE_PROJECTION_OFFSET = -58119.75
  MAP_PROJECTION_ROTATION = 0.0
  MAP_PROJECTION_TYPE = SINUSOIDAL
  MAP_RESOLUTION = 2370.85521546667
  MAP_SCALE = 0.025
  MAXIMUM_LATITUDE = -22.0137
  MINIMUM_LATITUDE = -26.9836
  POSITIVE_LONGITUDE_DIRECTION = EAST
  REFERENCE_LATITUDE = "N/A"
  REFERENCE_LONGITUDE = "N/A"
  SAMPLE_FIRST_PIXEL = 1
  SAMPLE_LAST_PIXEL = 3593
  SAMPLE_PROJECTION_OFFSET = 2360.25
  SECOND_STANDARD_PARALLEL = "N/A"
  WESTERNMOST_LONGITUDE = 226.899
END_OBJECT = IMAGE_MAP_PROJECTION
END
