PDS_VERSION_ID = PDS3
/* FILE DATA ELEMENTS */
RECORD_TYPE = UNDEFINED
/* POINTERS TO DATA OBJECTS */
^IMAGE = ("H8458_0000_S14.TIF")
/* IDENTIFICATION DATA ELEMENTS */
DATA_SET_ID = "MEX-M-HRSC-4-REFDR-MAPPROJECT-EXT3-V4.0"
DATA_SET_NAME = "MARS EXPRESS HRSC MAP PROJECTED REFDR EXTENSION3 V4.0"
DETECTOR_ID = MEX_HRSC_S1
EVENT_TYPE = "MARS-REGIONAL-MAPPING-Im-Fl-La"
INSTRUMENT_HOST_ID = MEX
INSTRUMENT_HOST_NAME = "MARS EXPRESS"
INSTRUMENT_ID = HRSC
INSTRUMENT_NAME = "HIGH RESOLUTION STEREO CAMERA"
MISSION_NAME = "MARS EXPRESS"
MISSION_PHASE_NAME = ME_Phase_21
PROCESSING_LEVEL_ID = 4
PRODUCT_CREATION_TIME = 2023-02-03T04:36:48.000Z
PRODUCT_ID = "H8458_0000_S14.TIF"
RELEASE_ID = 0004
REVISION_ID = 0000
/* QUALITY DATA ELEMENTS */
DATA_QUALITY_ID = 1
DATA_QUALITY_DESC = "Data calculated based on original SPICE kernels"
/* TIME DATA ELEMENTS */
SPACECRAFT_CLOCK_START_COUNT = "1/0229665836.08243"
SPACECRAFT_CLOCK_STOP_COUNT = "1/0229666303.47109"
START_TIME = 2010-08-12T04:05:56.114Z
STOP_TIME = 2010-08-12T04:11:44.380Z
/* ORBITAL DATA ELEMENTS */
ASCENDING_NODE_LONGITUDE = 55.75
MAXIMUM_RESOLUTION = 0.0537
FOOTPRINT_POINT_LATITUDE = (-8.85609,-8.86316,-8.86819,-8.87743, -8.88378,-8.89186,-8.89231,-8.88753, -8.33066,-7.76575,-7.19256,-6.46228, -5.58718,-4.98875,-4.6855,-4.38185, -4.07456,-3.76477,-3.45366,-3.14128, -2.82629,-2.50955,-2.1901,-1.86922, -1.38231,-1.05468,-0.728678,-0.231966, 0.0996268,0.429603,0.766113,1.0889, 1.41392,1.89429,2.21447,2.52974,2.84464 ,3.15643,3.46621,3.92953,4.23623, 4.54037,4.84317,5.14344,5.44201,5.73994 ,6.32065,6.46601,6.5137,6.54463,6.56593 ,6.58218,6.59788,6.61,6.61358,6.61634, 6.63227,6.63266,6.6321,6.33195,5.88514, 5.29163,4.98916,4.68472,4.22441,3.76086 ,3.4499,3.13512,2.82008,2.50223,2.18377 ,1.70202,1.38136,1.05589,0.559632, 0.225417,-0.107821,-0.60773,-0.938345, -1.2668,-1.59292,-1.91687,-2.2392, -2.55926,-2.87631,-3.19139,-3.50465, -3.81449,-4.12239,-4.4281,-4.88684, -5.19013,-5.78396,-6.22327,-6.95436, -7.53274,-8.10245,-8.66448,-8.80549, -8.85609)
FOOTPRINT_POINT_LONGITUDE = (17.9491,17.406,17.0586,16.4946,16.1473 ,15.7341,15.7124,15.7066,15.6803, 15.6532,15.6257,15.5908,15.5416,15.509, 15.4924,15.4749,15.4576,15.4401,15.4222 ,15.4037,15.3848,15.3654,15.3458, 15.3254,15.2948,15.2739,15.2515,15.2178 ,15.1951,15.1722,15.1516,15.1274, 15.1043,15.0682,15.0446,15.02,14.9956, 14.9707,14.9456,14.9083,14.8832,14.8578 ,14.8323,14.8065,14.7806,14.7549, 14.7003,14.6869,14.6826,15.1835,15.7535 ,16.2157,16.749,17.1758,17.6396,17.9612 ,18.3148,18.3505,18.3633,18.3538, 18.3375,18.3134,18.3025,18.2917,18.2758 ,18.2599,18.2492,18.2394,18.2291, 18.2192,18.209,18.1941,18.1833,18.1736, 18.1607,18.1525,18.1435,18.1301,18.1215 ,18.1132,18.1049,18.0968,18.0891, 18.0815,18.0739,18.0665,18.0592,18.0516 ,18.0444,18.0371,18.0277,18.0217, 18.0075,17.9969,17.9826,17.9719,17.9613 ,17.9506,17.9484,17.9491)
ORBIT_NUMBER = 8458
ORBITAL_ECCENTRICITY = 0.579
ORBITAL_INCLINATION = 86.83
ORBITAL_SEMIMAJOR_AXIS = 8812.94
PERIAPSIS_ALTITUDE = 323.11
PERIAPSIS_ARGUMENT_ANGLE = 316.63
PERIAPSIS_TIME = 2010-08-12T03:55:45.000Z
SPACECRAFT_ORIENTATION = (0.0,1.0,0.0)
^MEX_ORIENTATION_DESC = "MEX_ORIENTATION_DESC.TXT"
SPACECRAFT_POINTING_MODE = NADIR
^MEX_POINTING_DESC = "MEX_POINTING_DESC.TXT"
RIGHT_ASCENSION = -1e+32
DECLINATION = -1e+32
OFFSET_ANGLE = -1e+32
SPACECRAFT_SOLAR_DISTANCE = 2.36789e+08
TARGET_NAME = MARS
/* CAMERA DATA ELEMENTS */
DETECTOR_TEMPERATURE = 17.1471
FOCAL_PLANE_TEMPERATURE = 7.5638
INST_CMPRS_NAME = "DISCRETE COSINE TRANSFORMATION (DCT)"
INST_CMPRS_RATIO = 9.46637
INST_CMPRS_QUALITY = 0
INST_CMPRS_QUANTZ_TBL_ID = 0
INSTRUMENT_TEMPERATURE = 11.0301
LENS_TEMPERATURE = 8.1755
MACROPIXEL_SIZE = 2
MISSING_FRAMES = 0
PIXEL_SUBSAMPLING_FLAG = N
SIGNAL_CHAIN_ID = 1
/* RADIOMETRIC DATA ELEMENTS */
BANDWIDTH = 180.0
CENTER_FILTER_WAVELENGTH = 677.0
RADIANCE_OFFSET = 1.69926
RADIANCE_SCALING_FACTOR = 0.0350827
REFLECTANCE_SCALING_FACTOR = 0.00102625
MEX:REFLECTANCE_OFFSET = 0.0497073
/* IMAGE OBJECT DEFINITIONS */
OBJECT = IMAGE
  INTERCHANGE_FORMAT = BINARY
  LINES = 18393
  LINE_SAMPLES = 3615
  SAMPLE_TYPE = UNSIGNED_INTEGER
  SAMPLE_BITS = 8
  BANDS = 1
  BAND_STORAGE_TYPE = BAND_SEQUENTIAL
  MAXIMUM = 245
  MEAN = 118.57
  MINIMUM = 1
  STANDARD_DEVIATION = 32.6382
END_OBJECT = IMAGE
/* MAP OBJECT DEFINITIONS */
OBJECT = IMAGE_MAP_PROJECTION
  ^DATA_SET_MAP_PROJECTION_CATALOG= "DSMAP.CAT"
  A_AXIS_RADIUS = 3396.0
  B_AXIS_RADIUS = 3396.0
  C_AXIS_RADIUS = 3396.0
  CENTER_LATITUDE = 0.0
  CENTER_LONGITUDE = 17.0
  COORDINATE_SYSTEM_NAME = PLANETOGRAPHIC
  COORDINATE_SYSTEM_TYPE = "BODY-FIXED ROTATING"
  EASTERNMOST_LONGITUDE = 18.3633
  FIRST_STANDARD_PARALLEL = "N/A"
  LINE_FIRST_PIXEL = 1
  LINE_LAST_PIXEL = 18393
  LINE_PROJECTION_OFFSET = 7854.75
  MAP_PROJECTION_ROTATION = 0.0
  MAP_PROJECTION_TYPE = SINUSOIDAL
  MAP_RESOLUTION = 1185.42760773333
  MAP_SCALE = 0.05
  MAXIMUM_LATITUDE = 6.63266
  MINIMUM_LATITUDE = -8.89231
  POSITIVE_LONGITUDE_DIRECTION = EAST
  REFERENCE_LATITUDE = "N/A"
  REFERENCE_LONGITUDE = "N/A"
  SAMPLE_FIRST_PIXEL = 1
  SAMPLE_LAST_PIXEL = 3615
  SAMPLE_PROJECTION_OFFSET = 2378.25
  SECOND_STANDARD_PARALLEL = "N/A"
  WESTERNMOST_LONGITUDE = 14.6826
END_OBJECT = IMAGE_MAP_PROJECTION
END
