PDS_VERSION_ID = PDS3
/* FILE DATA ELEMENTS */
RECORD_TYPE = UNDEFINED
/* POINTERS TO DATA OBJECTS */
^IMAGE = ("H8458_0000_P14.TIF")
/* IDENTIFICATION DATA ELEMENTS */
DATA_SET_ID = "MEX-M-HRSC-4-REFDR-MAPPROJECT-EXT3-V4.0"
DATA_SET_NAME = "MARS EXPRESS HRSC MAP PROJECTED REFDR EXTENSION3 V4.0"
DETECTOR_ID = MEX_HRSC_P1
EVENT_TYPE = "MARS-REGIONAL-MAPPING-Im-Fl-La"
INSTRUMENT_HOST_ID = MEX
INSTRUMENT_HOST_NAME = "MARS EXPRESS"
INSTRUMENT_ID = HRSC
INSTRUMENT_NAME = "HIGH RESOLUTION STEREO CAMERA"
MISSION_NAME = "MARS EXPRESS"
MISSION_PHASE_NAME = ME_Phase_21
PROCESSING_LEVEL_ID = 4
PRODUCT_CREATION_TIME = 2023-02-03T04:36:48.000Z
PRODUCT_ID = "H8458_0000_P14.TIF"
RELEASE_ID = 0004
REVISION_ID = 0000
/* QUALITY DATA ELEMENTS */
DATA_QUALITY_ID = 1
DATA_QUALITY_DESC = "Data calculated based on original SPICE kernels"
/* TIME DATA ELEMENTS */
SPACECRAFT_CLOCK_START_COUNT = "1/0229665836.08243"
SPACECRAFT_CLOCK_STOP_COUNT = "1/0229666303.47109"
START_TIME = 2010-08-12T04:05:32.053Z
STOP_TIME = 2010-08-12T04:10:54.377Z
/* ORBITAL DATA ELEMENTS */
ASCENDING_NODE_LONGITUDE = 55.75
MAXIMUM_RESOLUTION = 0.0498
FOOTPRINT_POINT_LATITUDE = (-8.85856,-8.86682,-8.87355,-8.881, -8.89095,-8.8913,-8.88826,-8.48431, -7.93854,-7.52466,-6.96619,-6.39765, -5.83049,-5.25446,-4.66733,-4.07435, -3.77359,-3.4706,-3.16712,-2.86057, -2.55224,-2.24179,-1.9298,-1.61606, -1.29805,-0.979179,-0.659024,-0.336055, -0.0106598,0.317744,0.65028,1.15026, 1.48783,1.82121,2.15666,2.48547,2.81714 ,3.14517,3.47046,3.79781,4.12089, 4.44207,4.76278,5.07995,5.39814,5.71366 ,6.02864,6.3377,6.49093,6.52871,6.54876 ,6.56633,6.58655,6.59941,6.61024, 6.61871,6.62327,6.62543,6.62486,6.31406 ,5.99719,5.68497,5.36659,5.04726, 4.72581,4.40336,4.0787,3.75352,3.42573, 3.09626,2.76566,2.43259,2.0989,1.76338, 1.2608,0.760373,0.256888,-0.0716754, -0.397271,-0.721298,-1.04294,-1.36157, -1.67842,-1.99379,-2.30692,-2.61735, -2.92573,-3.2326,-3.53737,-4.1373, -4.73199,-5.46544,-6.03727,-6.46516, -6.89103,-7.45171,-8.14348,-8.68757, -8.8224,-8.85856)
FOOTPRINT_POINT_LONGITUDE = (17.8993,17.3164,16.8588,16.3807, 15.7767,15.7559,15.7503,15.7326,15.7084 ,15.6899,15.6645,15.6394,15.6097, 15.5798,15.5498,15.5185,15.5026,15.4867 ,15.47,15.453,15.4356,15.4179,15.3998, 15.3813,15.363,15.3439,15.3238,15.3036, 15.2832,15.2625,15.2424,15.21,15.1883, 15.1648,15.1427,15.1183,15.0956,15.072, 15.0476,15.0247,15.0005,14.976,14.9519, 14.9267,14.9026,14.8778,14.8533,14.8268 ,14.8132,14.81,15.2086,15.738,16.3984, 16.8607,17.4564,17.8533,18.1854,18.2178 ,18.2297,18.2192,18.2111,18.1999, 18.1911,18.1821,18.1734,18.1645,18.156, 18.147,18.1387,18.1304,18.122,18.114, 18.1057,18.0975,18.0839,18.0719,18.064, 18.0569,18.0499,18.0432,18.0367,18.03, 18.0236,18.0176,18.0116,18.0057,17.9998 ,17.9941,17.9885,17.9766,17.966,17.954, 17.9415,17.934,17.9277,17.9191,17.9085, 17.9001,17.8981,17.8993)
ORBIT_NUMBER = 8458
ORBITAL_ECCENTRICITY = 0.579
ORBITAL_INCLINATION = 86.83
ORBITAL_SEMIMAJOR_AXIS = 8812.94
PERIAPSIS_ALTITUDE = 323.11
PERIAPSIS_ARGUMENT_ANGLE = 316.63
PERIAPSIS_TIME = 2010-08-12T03:55:45.000Z
SPACECRAFT_ORIENTATION = (0.0,1.0,0.0)
^MEX_ORIENTATION_DESC = "MEX_ORIENTATION_DESC.TXT"
SPACECRAFT_POINTING_MODE = NADIR
^MEX_POINTING_DESC = "MEX_POINTING_DESC.TXT"
RIGHT_ASCENSION = -1e+32
DECLINATION = -1e+32
OFFSET_ANGLE = -1e+32
SPACECRAFT_SOLAR_DISTANCE = 2.36789e+08
TARGET_NAME = MARS
/* CAMERA DATA ELEMENTS */
DETECTOR_TEMPERATURE = 17.1471
FOCAL_PLANE_TEMPERATURE = 7.5638
INST_CMPRS_NAME = "DISCRETE COSINE TRANSFORMATION (DCT)"
INST_CMPRS_RATIO = 10.622
INST_CMPRS_QUALITY = 0
INST_CMPRS_QUANTZ_TBL_ID = 0
INSTRUMENT_TEMPERATURE = 11.0301
LENS_TEMPERATURE = 8.1755
MACROPIXEL_SIZE = 2
MISSING_FRAMES = 0
PIXEL_SUBSAMPLING_FLAG = N
SIGNAL_CHAIN_ID = 3
/* RADIOMETRIC DATA ELEMENTS */
BANDWIDTH = 174.0
CENTER_FILTER_WAVELENGTH = 675.0
RADIANCE_OFFSET = 1.51454
RADIANCE_SCALING_FACTOR = 0.0335998
REFLECTANCE_SCALING_FACTOR = 0.00101331
MEX:REFLECTANCE_OFFSET = 0.0456757
/* IMAGE OBJECT DEFINITIONS */
OBJECT = IMAGE
  INTERCHANGE_FORMAT = BINARY
  LINES = 18393
  LINE_SAMPLES = 3615
  SAMPLE_TYPE = UNSIGNED_INTEGER
  SAMPLE_BITS = 8
  BANDS = 1
  BAND_STORAGE_TYPE = BAND_SEQUENTIAL
  MAXIMUM = 246
  MEAN = 114.687
  MINIMUM = 1
  STANDARD_DEVIATION = 31.9924
END_OBJECT = IMAGE
/* MAP OBJECT DEFINITIONS */
OBJECT = IMAGE_MAP_PROJECTION
  ^DATA_SET_MAP_PROJECTION_CATALOG= "DSMAP.CAT"
  A_AXIS_RADIUS = 3396.0
  B_AXIS_RADIUS = 3396.0
  C_AXIS_RADIUS = 3396.0
  CENTER_LATITUDE = 0.0
  CENTER_LONGITUDE = 17.0
  COORDINATE_SYSTEM_NAME = PLANETOGRAPHIC
  COORDINATE_SYSTEM_TYPE = "BODY-FIXED ROTATING"
  EASTERNMOST_LONGITUDE = 18.2297
  FIRST_STANDARD_PARALLEL = "N/A"
  LINE_FIRST_PIXEL = 1
  LINE_LAST_PIXEL = 18393
  LINE_PROJECTION_OFFSET = 7854.75
  MAP_PROJECTION_ROTATION = 0.0
  MAP_PROJECTION_TYPE = SINUSOIDAL
  MAP_RESOLUTION = 1185.42760773333
  MAP_SCALE = 0.05
  MAXIMUM_LATITUDE = 6.62543
  MINIMUM_LATITUDE = -8.891299999999999
  POSITIVE_LONGITUDE_DIRECTION = EAST
  REFERENCE_LATITUDE = "N/A"
  REFERENCE_LONGITUDE = "N/A"
  SAMPLE_FIRST_PIXEL = 1
  SAMPLE_LAST_PIXEL = 3615
  SAMPLE_PROJECTION_OFFSET = 2378.25
  SECOND_STANDARD_PARALLEL = "N/A"
  WESTERNMOST_LONGITUDE = 14.81
END_OBJECT = IMAGE_MAP_PROJECTION
END
