PDS_VERSION_ID = PDS3
/* FILE DATA ELEMENTS */
RECORD_TYPE = UNDEFINED
/* POINTERS TO DATA OBJECTS */
^IMAGE = ("H8454_0000_RE4.TIF")
/* IDENTIFICATION DATA ELEMENTS */
DATA_SET_ID = "MEX-M-HRSC-4-REFDR-MAPPROJECT-EXT3-V4.0"
DATA_SET_NAME = "MARS EXPRESS HRSC MAP PROJECTED REFDR EXTENSION3 V4.0"
DETECTOR_ID = MEX_HRSC_RED
EVENT_TYPE = "MARS-REGIONAL-MAPPING-Te-Fl-Eo"
INSTRUMENT_HOST_ID = MEX
INSTRUMENT_HOST_NAME = "MARS EXPRESS"
INSTRUMENT_ID = HRSC
INSTRUMENT_NAME = "HIGH RESOLUTION STEREO CAMERA"
MISSION_NAME = "MARS EXPRESS"
MISSION_PHASE_NAME = ME_Phase_21
PROCESSING_LEVEL_ID = 4
PRODUCT_CREATION_TIME = 2023-02-03T04:36:48.000Z
PRODUCT_ID = "H8454_0000_RE4.TIF"
RELEASE_ID = 0004
REVISION_ID = 0000
/* QUALITY DATA ELEMENTS */
DATA_QUALITY_ID = 1
DATA_QUALITY_DESC = "Data calculated based on original SPICE kernels"
/* TIME DATA ELEMENTS */
SPACECRAFT_CLOCK_START_COUNT = "1/0229565138.09056"
SPACECRAFT_CLOCK_STOP_COUNT = "1/0229565427.39638"
START_TIME = 2010-08-11T00:05:49.524Z
STOP_TIME = 2010-08-11T00:07:57.738Z
/* ORBITAL DATA ELEMENTS */
ASCENDING_NODE_LONGITUDE = 55.82
MAXIMUM_RESOLUTION = 0.1798
FOOTPRINT_POINT_LATITUDE = (-7.54872,-7.55337,-7.55613,-7.55949, -7.56177,-7.56528,-7.56853,-7.57001, -7.57157,-7.57166,-7.58677,-7.30264, -6.9431,-6.65679,-6.36754,-6.07572, -5.70573,-5.40803,-5.25461,-5.02872, -4.80787,-4.5072,-4.27856,-4.12606, -3.97265,-3.82026,-3.66655,-3.51028, -3.27727,-3.12062,-2.9628,-2.80457, -2.64721,-2.48685,-2.2461,-2.08639, -1.92504,-1.76288,-1.60092,-1.43733, -1.27235,-1.10816,-0.944153,-0.779068, -0.529598,-0.363493,-0.195444, -0.0269763,0.14126,0.225844,0.291476, 0.29508,0.297529,0.301338,0.305963, 0.311717,0.313781,0.321413,0.328168, 0.332352,0.332884,0.329953,0.0753409, -0.0935059,-0.347434,-0.517493, -0.682857,-0.931062,-1.17619,-1.33996, -1.58499,-1.74766,-1.91042,-2.07191, -2.3122,-2.47269,-2.63228,-2.86812, -3.02629,-3.26319,-3.4213,-3.57707, -3.81089,-3.9625,-4.19233,-4.34548, -4.49757,-4.64848,-4.8764,-5.0282, -5.17842,-5.62347,-5.92189,-6.21514, -6.50835,-6.72364,-7.01132,-7.43822, -7.50915,-7.54872)
FOOTPRINT_POINT_LONGITUDE = (66.8794,66.6302,66.4702,66.257,66.0971 ,65.8128,65.4754,65.2798,65.0125, 64.9947,64.9922,64.9817,64.9677,64.9576 ,64.9466,64.9357,64.9202,64.9083, 64.9006,64.8908,64.8837,64.8716,64.8623 ,64.8562,64.8496,64.8434,64.8374, 64.8304,64.8202,64.8136,64.8066,64.7993 ,64.7924,64.785,64.7738,64.7665,64.7591 ,64.7516,64.744,64.736,64.728,64.7202, 64.7124,64.7047,64.6926,64.6845,64.6763 ,64.668,64.6597,64.6555,64.6522,64.9283 ,65.1,65.4001,65.6571,65.9785,66.1713, 66.45,66.7289,66.9008,66.9222,66.9365, 66.9342,66.9327,66.9301,66.9275,66.9265 ,66.9247,66.9231,66.922,66.9199,66.9184 ,66.917,66.9157,66.9137,66.9123,66.9111 ,66.9096,66.9083,66.9062,66.9042, 66.9029,66.9011,66.9005,66.8989,66.8979 ,66.897,66.8959,66.8938,66.8926,66.8912 ,66.8886,66.8853,66.8832,66.8807, 66.8795,66.8779,66.8751,66.8746, 66.8794)
ORBIT_NUMBER = 8454
ORBITAL_ECCENTRICITY = 0.579
ORBITAL_INCLINATION = 86.84
ORBITAL_SEMIMAJOR_AXIS = 8814.58
PERIAPSIS_ALTITUDE = 322.4
PERIAPSIS_ARGUMENT_ANGLE = 317.33
PERIAPSIS_TIME = 2010-08-10T23:57:18.000Z
SPACECRAFT_ORIENTATION = (0.0,1.0,0.0)
^MEX_ORIENTATION_DESC = "MEX_ORIENTATION_DESC.TXT"
SPACECRAFT_POINTING_MODE = NADIR
^MEX_POINTING_DESC = "MEX_POINTING_DESC.TXT"
RIGHT_ASCENSION = -1e+32
DECLINATION = -1e+32
OFFSET_ANGLE = -1e+32
SPACECRAFT_SOLAR_DISTANCE = 2.36987e+08
TARGET_NAME = MARS
/* CAMERA DATA ELEMENTS */
DETECTOR_TEMPERATURE = 18.5744
FOCAL_PLANE_TEMPERATURE = 8.3794
INST_CMPRS_NAME = "DISCRETE COSINE TRANSFORMATION (DCT)"
INST_CMPRS_RATIO = 6.38032
INST_CMPRS_QUALITY = 0
INST_CMPRS_QUANTZ_TBL_ID = 0
INSTRUMENT_TEMPERATURE = 11.0301
LENS_TEMPERATURE = 8.7872
MACROPIXEL_SIZE = 8
MISSING_FRAMES = 0
PIXEL_SUBSAMPLING_FLAG = N
SIGNAL_CHAIN_ID = 2
/* RADIOMETRIC DATA ELEMENTS */
BANDWIDTH = 48.0
CENTER_FILTER_WAVELENGTH = 748.0
RADIANCE_OFFSET = 0.248787
RADIANCE_SCALING_FACTOR = 0.00351229
REFLECTANCE_SCALING_FACTOR = 0.000450155
MEX:REFLECTANCE_OFFSET = 0.031886
/* IMAGE OBJECT DEFINITIONS */
OBJECT = IMAGE
  INTERCHANGE_FORMAT = BINARY
  LINES = 2352
  LINE_SAMPLES = 741
  SAMPLE_TYPE = UNSIGNED_INTEGER
  SAMPLE_BITS = 8
  BANDS = 1
  BAND_STORAGE_TYPE = BAND_SEQUENTIAL
  MAXIMUM = 255
  MEAN = 114.802
  MINIMUM = 1
  STANDARD_DEVIATION = 20.8114
END_OBJECT = IMAGE
/* MAP OBJECT DEFINITIONS */
OBJECT = IMAGE_MAP_PROJECTION
  ^DATA_SET_MAP_PROJECTION_CATALOG= "DSMAP.CAT"
  A_AXIS_RADIUS = 3396.0
  B_AXIS_RADIUS = 3396.0
  C_AXIS_RADIUS = 3396.0
  CENTER_LATITUDE = 0.0
  CENTER_LONGITUDE = 66.0
  COORDINATE_SYSTEM_NAME = PLANETOGRAPHIC
  COORDINATE_SYSTEM_TYPE = "BODY-FIXED ROTATING"
  EASTERNMOST_LONGITUDE = 66.9365
  FIRST_STANDARD_PARALLEL = "N/A"
  LINE_FIRST_PIXEL = 1
  LINE_LAST_PIXEL = 2352
  LINE_PROJECTION_OFFSET = 103.4375
  MAP_PROJECTION_ROTATION = 0.0
  MAP_PROJECTION_TYPE = SINUSOIDAL
  MAP_RESOLUTION = 296.356901933333
  MAP_SCALE = 0.2
  MAXIMUM_LATITUDE = 0.332884
  MINIMUM_LATITUDE = -7.58677
  POSITIVE_LONGITUDE_DIRECTION = EAST
  REFERENCE_LATITUDE = "N/A"
  REFERENCE_LONGITUDE = "N/A"
  SAMPLE_FIRST_PIXEL = 1
  SAMPLE_LAST_PIXEL = 741
  SAMPLE_PROJECTION_OFFSET = 434.1875
  SECOND_STANDARD_PARALLEL = "N/A"
  WESTERNMOST_LONGITUDE = 64.65219999999999
END_OBJECT = IMAGE_MAP_PROJECTION
END
