PDS_VERSION_ID = PDS3
/* FILE DATA ELEMENTS */
RECORD_TYPE = UNDEFINED
/* POINTERS TO DATA OBJECTS */
^IMAGE = ("H8439_0000_IR4.TIF")
/* IDENTIFICATION DATA ELEMENTS */
DATA_SET_ID = "MEX-M-HRSC-4-REFDR-MAPPROJECT-EXT3-V4.0"
DATA_SET_NAME = "MARS EXPRESS HRSC MAP PROJECTED REFDR EXTENSION3 V4.0"
DETECTOR_ID = MEX_HRSC_IR
EVENT_TYPE = "MARS-REGIONAL-MAPPING-Im-Fl"
INSTRUMENT_HOST_ID = MEX
INSTRUMENT_HOST_NAME = "MARS EXPRESS"
INSTRUMENT_ID = HRSC
INSTRUMENT_NAME = "HIGH RESOLUTION STEREO CAMERA"
MISSION_NAME = "MARS EXPRESS"
MISSION_PHASE_NAME = ME_Phase_21
PROCESSING_LEVEL_ID = 4
PRODUCT_CREATION_TIME = 2023-02-03T04:36:48.000Z
PRODUCT_ID = "H8439_0000_IR4.TIF"
RELEASE_ID = 0004
REVISION_ID = 0000
/* QUALITY DATA ELEMENTS */
DATA_QUALITY_ID = 1
DATA_QUALITY_DESC = "Data calculated based on original SPICE kernels"
/* TIME DATA ELEMENTS */
SPACECRAFT_CLOCK_START_COUNT = "1/0229187269.07280"
SPACECRAFT_CLOCK_STOP_COUNT = "1/0229187497.45931"
START_TIME = 2010-08-06T15:09:01.898Z
STOP_TIME = 2010-08-06T15:11:28.408Z
/* ORBITAL DATA ELEMENTS */
ASCENDING_NODE_LONGITUDE = 56.11
MAXIMUM_RESOLUTION = 0.145
FOOTPRINT_POINT_LATITUDE = (-18.7554,-18.7573,-18.7586,-18.7596, -18.7607,-18.7618,-18.7625,-18.7626, -18.7721,-18.4667,-18.1614,-17.7731, -17.3065,-17.0743,-16.9171,-16.7595, -16.5997,-16.3617,-16.2013,-16.0406, -15.8803,-15.7213,-15.4792,-15.3167, -15.1534,-14.991,-14.8285,-14.5808, -14.4151,-14.1678,-13.9187,-13.7505, -13.5829,-13.3324,-13.1634,-12.9924, -12.8217,-12.4792,-12.22,-12.0469, -11.7865,-11.6108,-11.4351,-11.2595, -10.9923,-10.8139,-10.6369,-10.547, -10.4568,-10.4515,-10.4491,-10.4471, -10.4441,-10.4424,-10.4408,-10.4382, -10.4366,-10.4364,-10.4388,-10.6186, -10.8858,-11.064,-11.2422,-11.5061, -11.682,-11.945,-12.1169,-12.2908, -12.4651,-12.6373,-12.8066,-12.9778, -13.1482,-13.3186,-13.4869,-13.6553, -13.906,-14.0746,-14.2389,-14.4045, -14.5691,-14.7364,-14.8987,-15.0616, -15.2288,-15.4754,-15.7926,-16.0342, -16.1954,-16.3564,-16.6708,-16.8292, -16.9872,-17.3036,-17.7689,-18.0821, -18.3872,-18.616,-18.6921,-18.7554)
FOOTPRINT_POINT_LONGITUDE = (161.042,160.671,160.389,160.152, 159.915,159.663,159.484,159.47,159.458, 159.452,159.447,159.44,159.431,159.425, 159.421,159.417,159.415,159.41,159.406, 159.403,159.399,159.395,159.389,159.385 ,159.381,159.376,159.372,159.366, 159.361,159.354,159.348,159.343,159.338 ,159.33,159.325,159.32,159.315,159.305, 159.297,159.291,159.283,159.277,159.272 ,159.266,159.258,159.252,159.246, 159.243,159.24,159.578,159.9,160.115, 160.366,160.528,160.689,160.941,161.12, 161.138,161.15,161.148,161.144,161.142, 161.14,161.136,161.134,161.131,161.128, 161.126,161.124,161.122,161.119,161.117 ,161.115,161.113,161.111,161.109, 161.105,161.104,161.101,161.099,161.096 ,161.095,161.093,161.091,161.09,161.088 ,161.082,161.079,161.077,161.076, 161.071,161.07,161.068,161.065,161.059, 161.056,161.052,161.049,161.048, 161.042)
ORBIT_NUMBER = 8439
ORBITAL_ECCENTRICITY = 0.579
ORBITAL_INCLINATION = 86.83
ORBITAL_SEMIMAJOR_AXIS = 8816.22
PERIAPSIS_ALTITUDE = 324.01
PERIAPSIS_ARGUMENT_ANGLE = 319.93
PERIAPSIS_TIME = 2010-08-06T15:03:00.000Z
SPACECRAFT_ORIENTATION = (0.0,1.0,0.0)
^MEX_ORIENTATION_DESC = "MEX_ORIENTATION_DESC.TXT"
SPACECRAFT_POINTING_MODE = NADIR
^MEX_POINTING_DESC = "MEX_POINTING_DESC.TXT"
RIGHT_ASCENSION = -1e+32
DECLINATION = -1e+32
OFFSET_ANGLE = -1e+32
SPACECRAFT_SOLAR_DISTANCE = 2.37719e+08
TARGET_NAME = MARS
/* CAMERA DATA ELEMENTS */
DETECTOR_TEMPERATURE = 17.1471
FOCAL_PLANE_TEMPERATURE = 7.9716
INST_CMPRS_NAME = "DISCRETE COSINE TRANSFORMATION (DCT)"
INST_CMPRS_RATIO = 3.78727
INST_CMPRS_QUALITY = 0
INST_CMPRS_QUANTZ_TBL_ID = 0
INSTRUMENT_TEMPERATURE = 11.0301
LENS_TEMPERATURE = 8.3794
MACROPIXEL_SIZE = 8
MISSING_FRAMES = 0
PIXEL_SUBSAMPLING_FLAG = N
SIGNAL_CHAIN_ID = 2
/* RADIOMETRIC DATA ELEMENTS */
BANDWIDTH = 81.0
CENTER_FILTER_WAVELENGTH = 955.5
RADIANCE_OFFSET = 0.142328
RADIANCE_SCALING_FACTOR = 0.0066978
REFLECTANCE_SCALING_FACTOR = 0.000816557
MEX:REFLECTANCE_OFFSET = 0.0173518
/* IMAGE OBJECT DEFINITIONS */
OBJECT = IMAGE
  INTERCHANGE_FORMAT = BINARY
  LINES = 4944
  LINE_SAMPLES = 1046
  SAMPLE_TYPE = UNSIGNED_INTEGER
  SAMPLE_BITS = 8
  BANDS = 1
  BAND_STORAGE_TYPE = BAND_SEQUENTIAL
  MAXIMUM = 255
  MEAN = 116.753
  MINIMUM = 1
  STANDARD_DEVIATION = 21.1247
END_OBJECT = IMAGE
/* MAP OBJECT DEFINITIONS */
OBJECT = IMAGE_MAP_PROJECTION
  ^DATA_SET_MAP_PROJECTION_CATALOG= "DSMAP.CAT"
  A_AXIS_RADIUS = 3396.0
  B_AXIS_RADIUS = 3396.0
  C_AXIS_RADIUS = 3396.0
  CENTER_LATITUDE = 0.0
  CENTER_LONGITUDE = 160.0
  COORDINATE_SYSTEM_NAME = PLANETOGRAPHIC
  COORDINATE_SYSTEM_TYPE = "BODY-FIXED ROTATING"
  EASTERNMOST_LONGITUDE = 161.15
  FIRST_STANDARD_PARALLEL = "N/A"
  LINE_FIRST_PIXEL = 1
  LINE_LAST_PIXEL = 4944
  LINE_PROJECTION_OFFSET = -6188.4375
  MAP_PROJECTION_ROTATION = 0.0
  MAP_PROJECTION_TYPE = SINUSOIDAL
  MAP_RESOLUTION = 592.713803866667
  MAP_SCALE = 0.1
  MAXIMUM_LATITUDE = -10.4364
  MINIMUM_LATITUDE = -18.7721
  POSITIVE_LONGITUDE_DIRECTION = EAST
  REFERENCE_LATITUDE = "N/A"
  REFERENCE_LONGITUDE = "N/A"
  SAMPLE_FIRST_PIXEL = 1
  SAMPLE_LAST_PIXEL = 1046
  SAMPLE_PROJECTION_OFFSET = 415.9375
  SECOND_STANDARD_PARALLEL = "N/A"
  WESTERNMOST_LONGITUDE = 159.24
END_OBJECT = IMAGE_MAP_PROJECTION
END
