PDS_VERSION_ID = PDS3
/* FILE DATA ELEMENTS */
RECORD_TYPE = UNDEFINED
/* POINTERS TO DATA OBJECTS */
^IMAGE = ("H8433_0000_ND4.TIF")
/* IDENTIFICATION DATA ELEMENTS */
DATA_SET_ID = "MEX-M-HRSC-4-REFDR-MAPPROJECT-EXT3-V4.0"
DATA_SET_NAME = "MARS EXPRESS HRSC MAP PROJECTED REFDR EXTENSION3 V4.0"
DETECTOR_ID = MEX_HRSC_NADIR
EVENT_TYPE = "MARS-REGIONAL-MAPPING-Im-Fl"
INSTRUMENT_HOST_ID = MEX
INSTRUMENT_HOST_NAME = "MARS EXPRESS"
INSTRUMENT_ID = HRSC
INSTRUMENT_NAME = "HIGH RESOLUTION STEREO CAMERA"
MISSION_NAME = "MARS EXPRESS"
MISSION_PHASE_NAME = ME_Phase_21
PROCESSING_LEVEL_ID = 4
PRODUCT_CREATION_TIME = 2023-02-03T04:36:48.000Z
PRODUCT_ID = "H8433_0000_ND4.TIF"
RELEASE_ID = 0004
REVISION_ID = 0000
/* QUALITY DATA ELEMENTS */
DATA_QUALITY_ID = 1
DATA_QUALITY_DESC = "Data calculated based on original SPICE kernels"
/* TIME DATA ELEMENTS */
SPACECRAFT_CLOCK_START_COUNT = "1/0229036107.08418"
SPACECRAFT_CLOCK_STOP_COUNT = "1/0229036461.63861"
START_TIME = 2010-08-04T21:09:02.427Z
STOP_TIME = 2010-08-04T21:13:24.431Z
/* ORBITAL DATA ELEMENTS */
ASCENDING_NODE_LONGITUDE = 56.23
MAXIMUM_RESOLUTION = 0.0146
FOOTPRINT_POINT_LATITUDE = (-23.8194,-23.8235,-23.8257,-23.8266, -23.8266,-23.8262,-23.3699,-23.066, -22.7625,-22.4593,-22.1564,-21.8539, -21.5517,-21.2499,-20.9484,-20.3466, -19.7463,-19.1475,-18.5502,-18.2458, -17.9401,-17.6349,-17.3298,-17.0176, -16.7057,-16.3944,-15.9194,-15.6013, -15.2838,-14.9599,-14.6355,-14.3117, -13.9815,-13.4861,-13.1517,-12.815, -12.3026,-11.9597,-11.6175,-11.2683, -10.9198,-10.3896,-10.0355,-9.67448, -9.31424,-8.94829,-8.58223,-8.21028, -7.83849,-7.64934,-7.62605,-7.62089, -7.61397,-7.60733,-7.59789,-7.59756, -7.59772,-8.15994,-8.53285,-8.89945, -9.26639,-9.6272,-9.98881,-10.3437, -10.8752,-11.224,-11.7454,-12.2601, -12.6053,-12.9421,-13.4461,-13.9422, -14.2732,-14.5974,-14.9222,-15.247, -15.5649,-15.8834,-16.3594,-16.6711, -16.9833,-17.4492,-17.7546,-18.0605, -18.5188,-19.1166,-19.716,-20.317, -20.9195,-21.2213,-21.5234,-21.8259, -22.1288,-22.4319,-22.7355,-23.0393, -23.3435,-23.6481,-23.8005,-23.8194)
FOOTPRINT_POINT_LONGITUDE = (55.6759,55.1588,54.7104,54.2713, 54.2578,54.2529,54.2473,54.2434,54.2392 ,54.2353,54.2308,54.2262,54.2215, 54.2166,54.2118,54.2014,54.1904,54.1789 ,54.1668,54.1605,54.154,54.1477,54.1415 ,54.1341,54.1272,54.1197,54.1082, 54.1004,54.0925,54.0843,54.0758,54.0673 ,54.0583,54.0445,54.035,54.0253,54.0103 ,54.0,53.9895,53.9788,53.9678,53.9508, 53.9391,53.9271,53.9149,53.9023,53.8896 ,53.8764,53.863,53.8561,53.8552,54.2345 ,54.7093,55.1349,55.6982,55.7172, 55.7265,55.7224,55.7206,55.7179,55.7148 ,55.7096,55.7056,55.709,55.7059,55.7054 ,55.7034,55.7021,55.7007,55.6997, 55.6989,55.6975,55.6966,55.6953,55.6942 ,55.6918,55.6926,55.6903,55.6894, 55.6894,55.6885,55.6884,55.6831,55.6798 ,55.6821,55.6836,55.685,55.6866,55.6871 ,55.6872,55.6871,55.6882,55.6852, 55.6868,55.6868,55.6872,55.6872,55.6825 ,55.68,55.6759)
ORBIT_NUMBER = 8433
ORBITAL_ECCENTRICITY = 0.579
ORBITAL_INCLINATION = 86.83
ORBITAL_SEMIMAJOR_AXIS = 8821.17
PERIAPSIS_ALTITUDE = 323.34
PERIAPSIS_ARGUMENT_ANGLE = 320.95
PERIAPSIS_TIME = 2010-08-04T21:05:10.000Z
SPACECRAFT_ORIENTATION = (0.0,1.0,0.0)
^MEX_ORIENTATION_DESC = "MEX_ORIENTATION_DESC.TXT"
SPACECRAFT_POINTING_MODE = ACROSSTRACK
^MEX_POINTING_DESC = "MEX_POINTING_DESC.TXT"
RIGHT_ASCENSION = -1e+32
DECLINATION = -1e+32
OFFSET_ANGLE = -0.9
SPACECRAFT_SOLAR_DISTANCE = 2.38008e+08
TARGET_NAME = MARS
/* CAMERA DATA ELEMENTS */
DETECTOR_TEMPERATURE = 17.9627
FOCAL_PLANE_TEMPERATURE = 7.7677
INST_CMPRS_NAME = "DISCRETE COSINE TRANSFORMATION (DCT)"
INST_CMPRS_RATIO = 5.67301
INST_CMPRS_QUALITY = 0
INST_CMPRS_QUANTZ_TBL_ID = 0
INSTRUMENT_TEMPERATURE = 11.0301
LENS_TEMPERATURE = 8.1755
MACROPIXEL_SIZE = 1
PIXEL_SUBSAMPLING_FLAG = N
SIGNAL_CHAIN_ID = 0
/* RADIOMETRIC DATA ELEMENTS */
BANDWIDTH = 177.0
CENTER_FILTER_WAVELENGTH = 677.5
RADIANCE_OFFSET = 0.639708
RADIANCE_SCALING_FACTOR = 0.0183241
REFLECTANCE_SCALING_FACTOR = 0.000551427
MEX:REFLECTANCE_OFFSET = 0.0192507
/* IMAGE OBJECT DEFINITIONS */
OBJECT = IMAGE
  INTERCHANGE_FORMAT = BINARY
  LINES = 76953
  LINE_SAMPLES = 8797
  SAMPLE_TYPE = UNSIGNED_INTEGER
  SAMPLE_BITS = 8
  BANDS = 1
  BAND_STORAGE_TYPE = BAND_SEQUENTIAL
  MAXIMUM = 255
  MEAN = 80.3985
  MINIMUM = 1
  STANDARD_DEVIATION = 23.636
END_OBJECT = IMAGE
/* MAP OBJECT DEFINITIONS */
OBJECT = IMAGE_MAP_PROJECTION
  ^DATA_SET_MAP_PROJECTION_CATALOG= "DSMAP.CAT"
  A_AXIS_RADIUS = 3396.0
  B_AXIS_RADIUS = 3396.0
  C_AXIS_RADIUS = 3396.0
  CENTER_LATITUDE = 0.0
  CENTER_LONGITUDE = 55.0
  COORDINATE_SYSTEM_NAME = PLANETOGRAPHIC
  COORDINATE_SYSTEM_TYPE = "BODY-FIXED ROTATING"
  EASTERNMOST_LONGITUDE = 55.7265
  FIRST_STANDARD_PARALLEL = "N/A"
  LINE_FIRST_PIXEL = 1
  LINE_LAST_PIXEL = 76953
  LINE_PROJECTION_OFFSET = -36027.0
  MAP_PROJECTION_ROTATION = 0.0
  MAP_PROJECTION_TYPE = SINUSOIDAL
  MAP_RESOLUTION = 4741.71043093333
  MAP_SCALE = 0.0125
  MAXIMUM_LATITUDE = -7.59756
  MINIMUM_LATITUDE = -23.8266
  POSITIVE_LONGITUDE_DIRECTION = EAST
  REFERENCE_LATITUDE = "N/A"
  REFERENCE_LONGITUDE = "N/A"
  SAMPLE_FIRST_PIXEL = 1
  SAMPLE_LAST_PIXEL = 8797
  SAMPLE_PROJECTION_OFFSET = 5380.0
  SECOND_STANDARD_PARALLEL = "N/A"
  WESTERNMOST_LONGITUDE = 53.8552
END_OBJECT = IMAGE_MAP_PROJECTION
END
