PDS_VERSION_ID = PDS3
/* FILE DATA ELEMENTS */
RECORD_TYPE = UNDEFINED
/* POINTERS TO DATA OBJECTS */
^IMAGE = ("H8429_0000_P14.TIF")
/* IDENTIFICATION DATA ELEMENTS */
DATA_SET_ID = "MEX-M-HRSC-4-REFDR-MAPPROJECT-EXT3-V4.0"
DATA_SET_NAME = "MARS EXPRESS HRSC MAP PROJECTED REFDR EXTENSION3 V4.0"
DETECTOR_ID = MEX_HRSC_P1
EVENT_TYPE = "MARS-REGIONAL-MAPPING-Vo-Te"
INSTRUMENT_HOST_ID = MEX
INSTRUMENT_HOST_NAME = "MARS EXPRESS"
INSTRUMENT_ID = HRSC
INSTRUMENT_NAME = "HIGH RESOLUTION STEREO CAMERA"
MISSION_NAME = "MARS EXPRESS"
MISSION_PHASE_NAME = ME_Phase_21
PROCESSING_LEVEL_ID = 4
PRODUCT_CREATION_TIME = 2023-02-03T04:36:48.000Z
PRODUCT_ID = "H8429_0000_P14.TIF"
RELEASE_ID = 0004
REVISION_ID = 0000
/* QUALITY DATA ELEMENTS */
DATA_QUALITY_ID = 1
DATA_QUALITY_DESC = "Data calculated based on original SPICE kernels"
/* TIME DATA ELEMENTS */
SPACECRAFT_CLOCK_START_COUNT = "1/0228935340.08232"
SPACECRAFT_CLOCK_STOP_COUNT = "1/0228935617.58327"
START_TIME = 2010-08-03T17:09:54.447Z
STOP_TIME = 2010-08-03T17:13:22.208Z
/* ORBITAL DATA ELEMENTS */
ASCENDING_NODE_LONGITUDE = 56.31
MAXIMUM_RESOLUTION = 0.0581
FOOTPRINT_POINT_LATITUDE = (-26.5829,-26.5807,-26.577,-26.5736, -26.5695,-26.5694,-26.5771,-26.2463, -25.6951,-25.365,-24.9254,-24.5967, -24.1592,-23.9038,-23.6443,-23.2549, -22.9957,-22.7369,-22.4786,-22.2206, -21.8341,-21.5777,-21.3212,-21.0652, -20.8096,-20.5541,-20.299,-20.0446, -19.7906,-19.5377,-19.2844,-19.0312, -18.7745,-18.5191,-18.2575,-18.0001, -17.7402,-17.4763,-17.2129,-16.9504, -16.5496,-16.2821,-16.0154,-15.7448, -15.4717,-15.0621,-14.7857,-14.5082, -14.092,-13.9507,-13.91,-13.9088, -13.9083,-13.9068,-13.9064,-13.9062, -13.9062,-13.9072,-14.1879,-14.4656, -14.7438,-15.0216,-15.2943,-15.5678, -15.9765,-16.2447,-16.513,-16.9148, -17.1779,-17.4415,-17.8377,-18.2248, -18.4832,-18.7425,-19.0,-19.2529, -19.5063,-19.7605,-20.014,-20.2687, -20.6504,-20.9072,-21.1627,-21.5482, -21.8052,-22.062,-22.3203,-22.5789, -22.838,-23.0975,-23.4857,-23.8757, -24.3574,-24.796,-25.1255,-25.5656, -26.0067,-26.449,-26.5598,-26.5829)
FOOTPRINT_POINT_LONGITUDE = (104.015,103.732,103.322,103.004,102.66 ,102.648,102.641,102.641,102.641,102.64 ,102.639,102.638,102.636,102.634, 102.632,102.63,102.628,102.626,102.624, 102.621,102.618,102.615,102.612,102.609 ,102.606,102.603,102.599,102.596, 102.592,102.588,102.584,102.58,102.576, 102.571,102.568,102.563,102.558,102.553 ,102.548,102.543,102.535,102.529, 102.523,102.518,102.511,102.502,102.496 ,102.489,102.479,102.475,102.474, 102.826,103.072,103.504,103.767,104.109 ,104.124,104.129,104.126,104.124, 104.121,104.119,104.116,104.114,104.11, 104.108,104.106,104.102,104.1,104.098, 104.094,104.091,104.089,104.087,104.084 ,104.082,104.08,104.078,104.075,104.073 ,104.069,104.067,104.065,104.062,104.06 ,104.057,104.055,104.053,104.051, 104.049,104.045,104.042,104.039,104.035 ,104.033,104.029,104.026,104.023, 104.022,104.015)
ORBIT_NUMBER = 8429
ORBITAL_ECCENTRICITY = 0.579
ORBITAL_INCLINATION = 86.83
ORBITAL_SEMIMAJOR_AXIS = 8823.86
PERIAPSIS_ALTITUDE = 322.96
PERIAPSIS_ARGUMENT_ANGLE = 321.6
PERIAPSIS_TIME = 2010-08-03T17:06:34.000Z
SPACECRAFT_ORIENTATION = (0.0,1.0,0.0)
^MEX_ORIENTATION_DESC = "MEX_ORIENTATION_DESC.TXT"
SPACECRAFT_POINTING_MODE = ACROSSTRACK
^MEX_POINTING_DESC = "MEX_POINTING_DESC.TXT"
RIGHT_ASCENSION = -1e+32
DECLINATION = -1e+32
OFFSET_ANGLE = -0.2
SPACECRAFT_SOLAR_DISTANCE = 2.38198e+08
TARGET_NAME = MARS
/* CAMERA DATA ELEMENTS */
DETECTOR_TEMPERATURE = 17.1471
FOCAL_PLANE_TEMPERATURE = 8.5833
INST_CMPRS_NAME = "DISCRETE COSINE TRANSFORMATION (DCT)"
INST_CMPRS_RATIO = 7.27069
INST_CMPRS_QUALITY = 0
INST_CMPRS_QUANTZ_TBL_ID = 0
INSTRUMENT_TEMPERATURE = 11.234
LENS_TEMPERATURE = 8.7872
MACROPIXEL_SIZE = 4
MISSING_FRAMES = 0
PIXEL_SUBSAMPLING_FLAG = N
SIGNAL_CHAIN_ID = 3
/* RADIOMETRIC DATA ELEMENTS */
BANDWIDTH = 174.0
CENTER_FILTER_WAVELENGTH = 675.0
RADIANCE_OFFSET = 0.460761
RADIANCE_SCALING_FACTOR = 0.0133141
REFLECTANCE_SCALING_FACTOR = 0.000406324
MEX:REFLECTANCE_OFFSET = 0.0140617
/* IMAGE OBJECT DEFINITIONS */
OBJECT = IMAGE
  INTERCHANGE_FORMAT = BINARY
  LINES = 15042
  LINE_SAMPLES = 1827
  SAMPLE_TYPE = UNSIGNED_INTEGER
  SAMPLE_BITS = 8
  BANDS = 1
  BAND_STORAGE_TYPE = BAND_SEQUENTIAL
  MAXIMUM = 255
  MEAN = 99.2526
  MINIMUM = 1
  STANDARD_DEVIATION = 21.0357
END_OBJECT = IMAGE
/* MAP OBJECT DEFINITIONS */
OBJECT = IMAGE_MAP_PROJECTION
  ^DATA_SET_MAP_PROJECTION_CATALOG= "DSMAP.CAT"
  A_AXIS_RADIUS = 3396.0
  B_AXIS_RADIUS = 3396.0
  C_AXIS_RADIUS = 3396.0
  CENTER_LATITUDE = 0.0
  CENTER_LONGITUDE = 103.0
  COORDINATE_SYSTEM_NAME = PLANETOGRAPHIC
  COORDINATE_SYSTEM_TYPE = "BODY-FIXED ROTATING"
  EASTERNMOST_LONGITUDE = 104.129
  FIRST_STANDARD_PARALLEL = "N/A"
  LINE_FIRST_PIXEL = 1
  LINE_LAST_PIXEL = 15042
  LINE_PROJECTION_OFFSET = -16492.375
  MAP_PROJECTION_ROTATION = 0.0
  MAP_PROJECTION_TYPE = SINUSOIDAL
  MAP_RESOLUTION = 1185.42760773333
  MAP_SCALE = 0.05
  MAXIMUM_LATITUDE = -13.9062
  MINIMUM_LATITUDE = -26.5829
  POSITIVE_LONGITUDE_DIRECTION = EAST
  REFERENCE_LATITUDE = "N/A"
  REFERENCE_LONGITUDE = "N/A"
  SAMPLE_FIRST_PIXEL = 1
  SAMPLE_LAST_PIXEL = 1827
  SAMPLE_PROJECTION_OFFSET = 572.875
  SECOND_STANDARD_PARALLEL = "N/A"
  WESTERNMOST_LONGITUDE = 102.474
END_OBJECT = IMAGE_MAP_PROJECTION
END
