PDS_VERSION_ID = PDS3
/* FILE DATA ELEMENTS */
RECORD_TYPE = UNDEFINED
/* POINTERS TO DATA OBJECTS */
^IMAGE = ("H8425_0000_P24.TIF")
/* IDENTIFICATION DATA ELEMENTS */
DATA_SET_ID = "MEX-M-HRSC-4-REFDR-MAPPROJECT-EXT3-V4.0"
DATA_SET_NAME = "MARS EXPRESS HRSC MAP PROJECTED REFDR EXTENSION3 V4.0"
DETECTOR_ID = MEX_HRSC_P2
EVENT_TYPE = "MARS-REGIONAL-MAPPING-Fl-Eo-Mw"
INSTRUMENT_HOST_ID = MEX
INSTRUMENT_HOST_NAME = "MARS EXPRESS"
INSTRUMENT_ID = HRSC
INSTRUMENT_NAME = "HIGH RESOLUTION STEREO CAMERA"
MISSION_NAME = "MARS EXPRESS"
MISSION_PHASE_NAME = ME_Phase_21
PROCESSING_LEVEL_ID = 4
PRODUCT_CREATION_TIME = 2023-02-03T04:36:48.000Z
PRODUCT_ID = "H8425_0000_P24.TIF"
RELEASE_ID = 0004
REVISION_ID = 0000
/* QUALITY DATA ELEMENTS */
DATA_QUALITY_ID = 1
DATA_QUALITY_DESC = "Data calculated based on original SPICE kernels"
/* TIME DATA ELEMENTS */
SPACECRAFT_CLOCK_START_COUNT = "1/0228834734.09064"
SPACECRAFT_CLOCK_STOP_COUNT = "1/0228835110.06611"
START_TIME = 2010-08-02T13:12:28.352Z
STOP_TIME = 2010-08-02T13:16:46.696Z
/* ORBITAL DATA ELEMENTS */
ASCENDING_NODE_LONGITUDE = 56.38
MAXIMUM_RESOLUTION = 0.0628
FOOTPRINT_POINT_LATITUDE = (-18.827,-18.8357,-18.839,-18.839, -18.8357,-18.3939,-17.9524,-17.6581, -17.217,-16.4823,-15.748,-15.159, -14.8586,-14.5582,-14.2582,-13.8005, -13.4934,-13.0326,-12.7184,-12.4046, -12.0916,-11.7734,-11.4541,-10.9708, -10.6432,-10.3171,-9.98746,-9.65227, -9.31923,-8.98073,-8.63915,-8.29765, -7.94893,-7.60235,-7.25162,-6.89939, -6.54498,-6.18543,-5.82472,-5.45754, -5.09203,-4.71993,-4.15921,-3.78156, -3.39819,-3.01497,-2.62594,-2.43055, -2.37321,-2.36858,-2.35971,-2.34955, -2.33821,-2.33775,-2.33897,-2.92485, -3.30891,-3.69223,-4.07163,-4.44751, -4.81978,-5.18972,-5.55658,-5.92102, -6.28123,-6.81872,-7.17304,-7.52559, -7.87137,-8.39038,-8.90194,-9.40794, -9.74824,-10.0821,-10.4085,-10.7387, -11.0654,-11.3839,-11.7046,-12.0244, -12.3401,-12.6533,-13.1216,-13.5831, -13.8911,-14.1948,-14.4977,-14.7984, -15.0992,-15.3969,-15.8367,-16.4243, -16.7189,-17.013,-17.4544,-17.7491, -18.191,-18.6332,-18.781,-18.827)
FOOTPRINT_POINT_LONGITUDE = (153.134,152.399,151.746,151.733, 151.729,151.724,151.718,151.714,151.708 ,151.696,151.683,151.672,151.666, 151.661,151.654,151.645,151.638,151.628 ,151.621,151.614,151.606,151.599, 151.591,151.578,151.57,151.561,151.552, 151.542,151.533,151.523,151.513,151.502 ,151.491,151.48,151.469,151.458,151.447 ,151.435,151.422,151.409,151.397, 151.383,151.363,151.35,151.335,151.321, 151.306,151.298,151.296,151.602,152.2, 152.708,153.218,153.236,153.243,153.238 ,153.236,153.233,153.23,153.227,153.225 ,153.222,153.219,153.217,153.214,153.21 ,153.207,153.204,153.203,153.199, 153.196,153.192,153.187,153.185,153.183 ,153.18,153.178,153.177,153.175,153.173 ,153.171,153.169,153.167,153.164, 153.162,153.161,153.158,153.157,153.155 ,153.153,153.151,153.148,153.146, 153.144,153.142,153.14,153.138,153.136, 153.136,153.134)
ORBIT_NUMBER = 8425
ORBITAL_ECCENTRICITY = 0.579
ORBITAL_INCLINATION = 86.82
ORBITAL_SEMIMAJOR_AXIS = 8821.42
PERIAPSIS_ALTITUDE = 324.34
PERIAPSIS_ARGUMENT_ANGLE = 322.33
PERIAPSIS_TIME = 2010-08-02T13:08:02.000Z
SPACECRAFT_ORIENTATION = (0.0,1.0,0.0)
^MEX_ORIENTATION_DESC = "MEX_ORIENTATION_DESC.TXT"
SPACECRAFT_POINTING_MODE = ACROSSTRACK
^MEX_POINTING_DESC = "MEX_POINTING_DESC.TXT"
RIGHT_ASCENSION = -1e+32
DECLINATION = -1e+32
OFFSET_ANGLE = -0.17
SPACECRAFT_SOLAR_DISTANCE = 2.38388e+08
TARGET_NAME = MARS
/* CAMERA DATA ELEMENTS */
DETECTOR_TEMPERATURE = 18.7783
FOCAL_PLANE_TEMPERATURE = 8.5833
INST_CMPRS_NAME = "DISCRETE COSINE TRANSFORMATION (DCT)"
INST_CMPRS_RATIO = 3.62946
INST_CMPRS_QUALITY = 0
INST_CMPRS_QUANTZ_TBL_ID = 0
INSTRUMENT_TEMPERATURE = 11.4379
LENS_TEMPERATURE = 8.9911
MACROPIXEL_SIZE = 4
MISSING_FRAMES = 0
PIXEL_SUBSAMPLING_FLAG = N
SIGNAL_CHAIN_ID = 3
/* RADIOMETRIC DATA ELEMENTS */
BANDWIDTH = 177.0
CENTER_FILTER_WAVELENGTH = 676.5
RADIANCE_OFFSET = 0.825395
RADIANCE_SCALING_FACTOR = 0.0225463
REFLECTANCE_SCALING_FACTOR = 0.00067936
MEX:REFLECTANCE_OFFSET = 0.0248706
/* IMAGE OBJECT DEFINITIONS */
OBJECT = IMAGE
  INTERCHANGE_FORMAT = BINARY
  LINES = 19532
  LINE_SAMPLES = 2437
  SAMPLE_TYPE = UNSIGNED_INTEGER
  SAMPLE_BITS = 8
  BANDS = 1
  BAND_STORAGE_TYPE = BAND_SEQUENTIAL
  MAXIMUM = 255
  MEAN = 121.043
  MINIMUM = 1
  STANDARD_DEVIATION = 33.0244
END_OBJECT = IMAGE
/* MAP OBJECT DEFINITIONS */
OBJECT = IMAGE_MAP_PROJECTION
  ^DATA_SET_MAP_PROJECTION_CATALOG= "DSMAP.CAT"
  A_AXIS_RADIUS = 3396.0
  B_AXIS_RADIUS = 3396.0
  C_AXIS_RADIUS = 3396.0
  CENTER_LATITUDE = 0.0
  CENTER_LONGITUDE = 152.0
  COORDINATE_SYSTEM_NAME = PLANETOGRAPHIC
  COORDINATE_SYSTEM_TYPE = "BODY-FIXED ROTATING"
  EASTERNMOST_LONGITUDE = 153.243
  FIRST_STANDARD_PARALLEL = "N/A"
  LINE_FIRST_PIXEL = 1
  LINE_LAST_PIXEL = 19532
  LINE_PROJECTION_OFFSET = -2788.125
  MAP_PROJECTION_ROTATION = 0.0
  MAP_PROJECTION_TYPE = SINUSOIDAL
  MAP_RESOLUTION = 1185.42760773333
  MAP_SCALE = 0.05
  MAXIMUM_LATITUDE = -2.33775
  MINIMUM_LATITUDE = -18.839
  POSITIVE_LONGITUDE_DIRECTION = EAST
  REFERENCE_LATITUDE = "N/A"
  REFERENCE_LONGITUDE = "N/A"
  SAMPLE_FIRST_PIXEL = 1
  SAMPLE_LAST_PIXEL = 2437
  SAMPLE_PROJECTION_OFFSET = 903.375
  SECOND_STANDARD_PARALLEL = "N/A"
  WESTERNMOST_LONGITUDE = 151.296
END_OBJECT = IMAGE_MAP_PROJECTION
END
