PDS_VERSION_ID = PDS3
/* FILE DATA ELEMENTS */
RECORD_TYPE = UNDEFINED
/* POINTERS TO DATA OBJECTS */
^IMAGE = ("H8412_0000_P14.TIF")
/* IDENTIFICATION DATA ELEMENTS */
DATA_SET_ID = "MEX-M-HRSC-4-REFDR-MAPPROJECT-EXT3-V4.0"
DATA_SET_NAME = "MARS EXPRESS HRSC MAP PROJECTED REFDR EXTENSION3 V4.0"
DETECTOR_ID = MEX_HRSC_P1
EVENT_TYPE = "MARS-REGIONAL-MAPPING-Te-Im-Fl"
INSTRUMENT_HOST_ID = MEX
INSTRUMENT_HOST_NAME = "MARS EXPRESS"
INSTRUMENT_ID = HRSC
INSTRUMENT_NAME = "HIGH RESOLUTION STEREO CAMERA"
MISSION_NAME = "MARS EXPRESS"
MISSION_PHASE_NAME = ME_Phase_21
PROCESSING_LEVEL_ID = 4
PRODUCT_CREATION_TIME = 2023-02-03T04:36:48.000Z
PRODUCT_ID = "H8412_0000_P14.TIF"
RELEASE_ID = 0004
REVISION_ID = 0000
/* QUALITY DATA ELEMENTS */
DATA_QUALITY_ID = 1
DATA_QUALITY_DESC = "Data calculated based on original SPICE kernels"
/* TIME DATA ELEMENTS */
SPACECRAFT_CLOCK_START_COUNT = "1/0228507454.09054"
SPACECRAFT_CLOCK_STOP_COUNT = "1/0228507773.21776"
START_TIME = 2010-07-29T18:18:42.943Z
STOP_TIME = 2010-07-29T18:22:28.589Z
/* ORBITAL DATA ELEMENTS */
ASCENDING_NODE_LONGITUDE = 56.64
MAXIMUM_RESOLUTION = 0.0727
FOOTPRINT_POINT_LATITUDE = (-12.6035,-12.6177,-12.6248,-12.6319, -12.6392,-12.6511,-12.6516,-12.6416, -12.0867,-11.641,-11.1876,-10.7343, -10.2729,-9.92697,-9.69248,-9.45831, -9.22443,-8.98729,-8.75052,-8.5127, -8.27264,-8.03146,-7.79091,-7.54731, -7.30262,-7.05737,-6.80985,-6.56063, -6.18659,-5.93443,-5.68295,-5.42793, -5.04549,-4.78638,-4.52839,-4.13623, -3.74178,-3.47667,-3.07542,-2.80689, -2.39982,-2.12851,-1.85321,-1.43796, -1.16133,-0.87961,-0.597806,-0.313133, -0.170802,-0.0660663,-0.055154, -0.0445822,-0.030963,-0.0190335, -0.0117836,0.00176636,0.0115945, 0.012223,0.0110716,-0.273144,-0.558921, -0.841283,-1.26214,-1.54165,-1.81769, -2.23004,-2.50163,-2.77218,-3.17608, -3.57652,-3.84361,-4.10562,-4.36893, -4.75783,-5.01722,-5.40065,-5.65622, -5.90828,-6.16109,-6.53685,-6.78421, -7.15451,-7.39973,-7.64543,-7.88674, -8.12786,-8.48838,-8.72589,-8.96972, -9.20819,-9.67221,-9.90581,-10.3677, -10.7147,-11.1685,-11.6219,-12.0684, -12.404,-12.5137,-12.6035)
FOOTPRINT_POINT_LONGITUDE = (42.0499,41.5786,41.3403,41.1003, 40.8587,40.4613,40.4459,40.4505,40.439, 40.4293,40.4191,40.4085,40.3968,40.3887 ,40.3823,40.3759,40.3695,40.3628,40.355 ,40.3484,40.3413,40.3337,40.3259, 40.3184,40.3103,40.303,40.2946,40.2869, 40.2738,40.2652,40.2564,40.2466,40.2325 ,40.2228,40.2127,40.1975,40.1821,40.171 ,40.1553,40.1441,40.1271,40.1149, 40.1027,40.0847,40.0709,40.0587,40.046, 40.0326,40.0259,40.0209,40.2908,40.561, 40.8916,41.1995,41.4849,41.9114,42.1943 ,42.2144,42.2211,42.2163,42.2118, 42.2073,42.2007,42.1964,42.1922,42.186, 42.1817,42.1777,42.1717,42.1661,42.1625 ,42.1587,42.155,42.1496,42.146,42.1408, 42.1373,42.1339,42.1306,42.1257,42.1223 ,42.1174,42.1142,42.1111,42.108,42.1048 ,42.1002,42.0972,42.0946,42.0917, 42.0855,42.0826,42.0769,42.0727,42.0671 ,42.0616,42.0561,42.052,42.0507, 42.0499)
ORBIT_NUMBER = 8412
ORBITAL_ECCENTRICITY = 0.579
ORBITAL_INCLINATION = 86.82
ORBITAL_SEMIMAJOR_AXIS = 8828.25
PERIAPSIS_ALTITUDE = 324.3
PERIAPSIS_ARGUMENT_ANGLE = 324.54
PERIAPSIS_TIME = 2010-07-29T18:12:23.000Z
SPACECRAFT_ORIENTATION = (0.0,1.0,0.0)
^MEX_ORIENTATION_DESC = "MEX_ORIENTATION_DESC.TXT"
SPACECRAFT_POINTING_MODE = ACROSSTRACK
^MEX_POINTING_DESC = "MEX_POINTING_DESC.TXT"
RIGHT_ASCENSION = -1e+32
DECLINATION = -1e+32
OFFSET_ANGLE = 0.75
SPACECRAFT_SOLAR_DISTANCE = 2.38995e+08
TARGET_NAME = MARS
/* CAMERA DATA ELEMENTS */
DETECTOR_TEMPERATURE = 17.1471
FOCAL_PLANE_TEMPERATURE = 7.7677
INST_CMPRS_NAME = "DISCRETE COSINE TRANSFORMATION (DCT)"
INST_CMPRS_RATIO = 8.72337
INST_CMPRS_QUALITY = 0
INST_CMPRS_QUANTZ_TBL_ID = 0
INSTRUMENT_TEMPERATURE = 11.0301
LENS_TEMPERATURE = 8.1755
MACROPIXEL_SIZE = 4
MISSING_FRAMES = 0
PIXEL_SUBSAMPLING_FLAG = N
SIGNAL_CHAIN_ID = 3
/* RADIOMETRIC DATA ELEMENTS */
BANDWIDTH = 174.0
CENTER_FILTER_WAVELENGTH = 675.0
RADIANCE_OFFSET = 1.01541
RADIANCE_SCALING_FACTOR = 0.0220716
REFLECTANCE_SCALING_FACTOR = 0.000678101
MEX:REFLECTANCE_OFFSET = 0.0311962
/* IMAGE OBJECT DEFINITIONS */
OBJECT = IMAGE
  INTERCHANGE_FORMAT = BINARY
  LINES = 14971
  LINE_SAMPLES = 2447
  SAMPLE_TYPE = UNSIGNED_INTEGER
  SAMPLE_BITS = 8
  BANDS = 1
  BAND_STORAGE_TYPE = BAND_SEQUENTIAL
  MAXIMUM = 255
  MEAN = 119.309
  MINIMUM = 1
  STANDARD_DEVIATION = 24.3488
END_OBJECT = IMAGE
/* MAP OBJECT DEFINITIONS */
OBJECT = IMAGE_MAP_PROJECTION
  ^DATA_SET_MAP_PROJECTION_CATALOG= "DSMAP.CAT"
  A_AXIS_RADIUS = 3396.0
  B_AXIS_RADIUS = 3396.0
  C_AXIS_RADIUS = 3396.0
  CENTER_LATITUDE = 0.0
  CENTER_LONGITUDE = 41.0
  COORDINATE_SYSTEM_NAME = PLANETOGRAPHIC
  COORDINATE_SYSTEM_TYPE = "BODY-FIXED ROTATING"
  EASTERNMOST_LONGITUDE = 42.2211
  FIRST_STANDARD_PARALLEL = "N/A"
  LINE_FIRST_PIXEL = 1
  LINE_LAST_PIXEL = 14971
  LINE_PROJECTION_OFFSET = -23.375
  MAP_PROJECTION_ROTATION = 0.0
  MAP_PROJECTION_TYPE = SINUSOIDAL
  MAP_RESOLUTION = 1185.42760773333
  MAP_SCALE = 0.05
  MAXIMUM_LATITUDE = 0.012223
  MINIMUM_LATITUDE = -12.6516
  POSITIVE_LONGITUDE_DIRECTION = EAST
  REFERENCE_LATITUDE = "N/A"
  REFERENCE_LONGITUDE = "N/A"
  SAMPLE_FIRST_PIXEL = 1
  SAMPLE_LAST_PIXEL = 2447
  SAMPLE_PROJECTION_OFFSET = 1082.875
  SECOND_STANDARD_PARALLEL = "N/A"
  WESTERNMOST_LONGITUDE = 40.0209
END_OBJECT = IMAGE_MAP_PROJECTION
END
